Workbook

Sheet 王座
A2: 第22回大会 東近江市王座戦 募集要項
B4: ■大会日時 | D4: 2026年10月11日（日） 8:45 受付開始 ※小雨決行
B6: ■主 催 | D6: 東近江テニス協会（担当クラブ：京セラTC）
B8: ■会 場 | D8: ひばり公園テニスコート（砂入り人工芝コート ドーム2面、屋外4面）
D9: すこやかの杜テニスコート（砂入り人工芝コート2面）
B11: ■参加資格 | D11: １）2026年度 東近江テニス協会に登録しているクラブであること。
D12: ２）団体戦メンバーは同一クラブ内の選手で構成されていること。
D13: ※複数クラブによる連合チームや混成チームは参加できません。
D14: ３）参加選手は2026年8月31日までに協会登録した選手であること。
B16: ■大会種目 | D16: 団体戦方式（選手の重複は可とする。表下参照）
D18: 種目 | F18: シングルス | H18: ダブルス | J18: チーム人数
D19: 男子一般 A/B級 | F19: 3試合 | H19: 2試合 | J19: 4名以上
D20: 男子OV45 | F20: 2試合 | H20: 1試合 | J20: 2名以上
D21: 女子一般 A/B級 | F21: 1試合 | H21: 2試合 | J21: 3名以上
D22: 女子OV45 | F22: なし | H22: 3試合 | J22: 3名以上
D23: 男子：単複の試合に重複して出場可能
D24: 女子：単複に限らず、任意の2試合に重複して出場可能（同一ペアは不可）
D25: 申込状況により、種目統合の可能性があります。
D26: 男子B級：賞品なしで上位の表彰のみ。レベルの目安：クラブ対抗10部以下程度
D27: 女子B級：賞品なしで上位の表彰のみ。レベルの目安：試合経験の少ない方
B29: ■試合方法 | D29: リーグ／トーナメント団体戦
D30: 1セットマッチ 6-6タイブレーク ノーアドバンテージ
D31: （コンソレーションは6ゲーム先取ノーアドバンテージ）
D32: ※申込状況により、試合方式は変更の可能性があります。
B35: ■参加費用 | D35: 男子一般A・B級：6,000円/チーム
D36: 男子OV・女子一般A・B級・OV：4,000円/チーム
D37: ※当日払い不可。必ずドロー会議までに参加料をお支払い下さい。
B39: ■申込期限 | D39: 2026年10月3日（土）ドロー会議まで
B41: ■申込方法 | D41: １．ドロー会議でお申込み
E42: 代表者が申込書、参加料を持参の上、ドロー会議へお越し下さい。
D43: ２．メール・振り込みでお申込み
E44: 2026年10月2日（金）までに参加費用のお振込みおよび
E45: メールで下記宛先に申込書を送付ください。
D47: チーム名は、クラブ名(＋1文字)として下さい。
D48: メール送付先：ushi.nosuke3.2.1@gmail.com
D49: 参加費振込先：滋賀銀行 【店番】 514
E50: 【口座番号】 普通 813045（京セラテニス部 牛尾紳之介）
B52: ■ドロー会議 | D52: 2026年10月3日（土）18:00～ 布引グリーンスタジアム来賓室
D53: ※ドローは下記東近江市テニス協会ホームページでご覧下さい
D54: 東近江市テニス協会
...

Sheet 申込書(団体)
A1: 第22回 東近江市王座戦 大会申込書
A2: 所属クラブ名 | E2: 代表者氏名
A3: 代表連絡先
A5: 部門 | B5: チーム名 | E5: 登録No(全角)を入れると氏名と年齢が入力されます
E6: 一般の方は それぞれのセルに直接入力してください
A7: 登録No | B7: 氏 名 | D7: 年齢 | E7: 登録No | F7: 氏 名 | H7: 年齢
B8: =IF(A8="","",VLOOKUP(A8,登録ナンバー!$A$2:$I$539,7,0)) | C8: =IF(A8="","",VLOOKUP(A8,登録ナンバー!$A$2:$M$570,4,0)) | D8: =IF(A8="","",VLOOKUP(A8,登録ナンバー!$A$2:$M$570,11,0)) | F8: =IF(E8="","",VLOOKUP(E8,登録ナンバー!$A$2:$I$539,7,0)) | G8: =IF(E8="","",VLOOKUP(E8,登録ナンバー!$A$2:$M$570,4,0)) | H8: =IF(E8="","",VLOOKUP(E8,登録ナンバー!$A$2:$M$570,11,0))
B9: =IF(A9="","",VLOOKUP(A9,登録ナンバー!$A$2:$I$539,7,0)) | C9: =IF(A9="","",VLOOKUP(A9,登録ナンバー!$A$2:$M$570,4,0)) | D9: =IF(A9="","",VLOOKUP(A9,登録ナンバー!$A$2:$M$570,11,0)) | F9: =IF(E9="","",VLOOKUP(E9,登録ナンバー!$A$2:$I$539,7,0)) | G9: =IF(E9="","",VLOOKUP(E9,登録ナンバー!$A$2:$M$570,4,0)) | H9: =IF(E9="","",VLOOKUP(E9,登録ナンバー!$A$2:$M$570,11,0))
B10: =IF(A10="","",VLOOKUP(A10,登録ナンバー!$A$2:$I$539,7,0)) | C10: =IF(A10="","",VLOOKUP(A10,登録ナンバー!$A$2:$M$570,4,0)) | D10: =IF(A10="","",VLOOKUP(A10,登録ナンバー!$A$2:$M$570,11,0)) | F10: =IF(E10="","",VLOOKUP(E10,登録ナンバー!$A$2:$I$539,7,0)) | G10: =IF(E10="","",VLOOKUP(E10,登録ナンバー!$A$2:$M$570,4,0)) | H10: =IF(E10="","",VLOOKUP(E10,登録ナンバー!$A$2:$M$570,11,0))
B11: =IF(A11="","",VLOOKUP(A11,登録ナンバー!$A$2:$I$539,7,0)) | C11: =IF(A11="","",VLOOKUP(A11,登録ナンバー!$A$2:$M$570,4,0)) | D11: =IF(A11="","",VLOOKUP(A11,登録ナンバー!$A$2:$M$570,11,0)) | F11: =IF(E11="","",VLOOKUP(E11,登録ナンバー!$A$2:$I$539,7,0)) | G11: =IF(E11="","",VLOOKUP(E11,登録ナンバー!$A$2:$M$570,4,0)) | H11: =IF(E11="","",VLOOKUP(E11,登録ナンバー!$A$2:$M$570,11,0))
A13: 部門 | B13: チーム名 | E13: 登録No(全角)を入れると氏名と年齢が入力されます
E14: 一般の方は それぞれのセルに直接入力してください
A15: 登録No | B15: 氏 名 | D15: 年齢 | E15: 登録No | F15: 氏 名 | H15: 年齢
B16: =IF(A16="","",VLOOKUP(A16,登録ナンバー!$A$2:$I$539,7,0)) | C16: =IF(A16="","",VLOOKUP(A16,登録ナンバー!$A$2:$M$570,4,0)) | D16: =IF(A16="","",VLOOKUP(A16,登録ナンバー!$A$2:$M$570,11,0)) | F16: =IF(E16="","",VLOOKUP(E16,登録ナンバー!$A$2:$I$539,7,0)) | G16: =IF(E16="","",VLOOKUP(E16,登録ナンバー!$A$2:$M$570,4,0)) | H16: =IF(E16="","",VLOOKUP(E16,登録ナンバー!$A$2:$M$570,11,0))
B17: =IF(A17="","",VLOOKUP(A17,登録ナンバー!$A$2:$I$539,7,0)) | C17: =IF(A17="","",VLOOKUP(A17,登録ナンバー!$A$2:$M$570,4,0)) | D17: =IF(A17="","",VLOOKUP(A17,登録ナンバー!$A$2:$M$570,11,0)) | F17: =IF(E17="","",VLOOKUP(E17,登録ナンバー!$A$2:$I$539,7,0)) | G17: =IF(E17="","",VLOOKUP(E17,登録ナンバー!$A$2:$M$570,4,0)) | H17: =IF(E17="","",VLOOKUP(E17,登録ナンバー!$A$2:$M$570,11,0))
B18: =IF(A18="","",VLOOKUP(A18,登録ナンバー!$A$2:$I$539,7,0)) | C18: =IF(A18="","",VLOOKUP(A18,登録ナンバー!$A$2:$M$570,4,0)) | D18: =IF(A18="","",VLOOKUP(A18,登録ナンバー!$A$2:$M$570,11,0)) | F18: =IF(E18="","",VLOOKUP(E18,登録ナンバー!$A$2:$I$539,7,0)) | G18: =IF(E18="","",VLOOKUP(E18,登録ナンバー!$A$2:$M$570,4,0)) | H18: =IF(E18="","",VLOOKUP(E18,登録ナンバー!$A$2:$M$570,11,0))
B19: =IF(A19="","",VLOOKUP(A19,登録ナンバー!$A$2:$I$539,7,0)) | C19: =IF(A19="","",VLOOKUP(A19,登録ナンバー!$A$2:$M$570,4,0)) | D19: =IF(A19="","",VLOOKUP(A19,登録ナンバー!$A$2:$M$570,11,0)) | F19: =IF(E19="","",VLOOKUP(E19,登録ナンバー!$A$2:$I$539,7,0)) | G19: =IF(E19="","",VLOOKUP(E19,登録ナンバー!$A$2:$M$570,4,0)) | H19: =IF(E19="","",VLOOKUP(E19,登録ナンバー!$A$2:$M$570,11,0))
A21: 部門 | B21: チーム名 | E21: 登録No(全角)を入れると氏名と年齢が入力されます
E22: 一般の方は それぞれのセルに直接入力してください
A23: 登録No | B23: 氏 名 | D23: 年齢 | E23: 登録No | F23: 氏 名 | H23: 年齢
B24: =IF(A24="","",VLOOKUP(A24,登録ナンバー!$A$2:$I$539,7,0)) | C24: =IF(A24="","",VLOOKUP(A24,登録ナンバー!$A$2:$M$570,4,0)) | D24: =IF(A24="","",VLOOKUP(A24,登録ナンバー!$A$2:$M$570,11,0)) | F24: =IF(E24="","",VLOOKUP(E24,登録ナンバー!$A$2:$I$539,7,0)) | G24: =IF(E24="","",VLOOKUP(E24,登録ナンバー!$A$2:$M$570,4,0)) | H24: =IF(E24="","",VLOOKUP(E24,登録ナンバー!$A$2:$M$570,11,0))
B25: =IF(A25="","",VLOOKUP(A25,登録ナンバー!$A$2:$I$539,7,0)) | C25: =IF(A25="","",VLOOKUP(A25,登録ナンバー!$A$2:$M$570,4,0)) | D25: =IF(A25="","",VLOOKUP(A25,登録ナンバー!$A$2:$M$570,11,0)) | F25: =IF(E25="","",VLOOKUP(E25,登録ナンバー!$A$2:$I$539,7,0)) | G25: =IF(E25="","",VLOOKUP(E25,登録ナンバー!$A$2:$M$570,4,0)) | H25: =IF(E25="","",VLOOKUP(E25,登録ナンバー!$A$2:$M$570,11,0))
B26: =IF(A26="","",VLOOKUP(A26,登録ナンバー!$A$2:$I$539,7,0)) | C26: =IF(A26="","",VLOOKUP(A26,登録ナンバー!$A$2:$M$570,4,0)) | D26: =IF(A26="","",VLOOKUP(A26,登録ナンバー!$A$2:$M$570,11,0)) | F26: =IF(E26="","",VLOOKUP(E26,登録ナンバー!$A$2:$I$539,7,0)) | G26: =IF(E26="","",VLOOKUP(E26,登録ナンバー!$A$2:$M$570,4,0)) | H26: =IF(E26="","",VLOOKUP(E26,登録ナンバー!$A$2:$M$570,11,0))
B27: =IF(A27="","",VLOOKUP(A27,登録ナンバー!$A$2:$I$539,7,0)) | C27: =IF(A27="","",VLOOKUP(A27,登録ナンバー!$A$2:$M$570,4,0)) | D27: =IF(A27="","",VLOOKUP(A27,登録ナンバー!$A$2:$M$570,11,0)) | F27: =IF(E27="","",VLOOKUP(E27,登録ナンバー!$A$2:$I$539,7,0)) | G27: =IF(E27="","",VLOOKUP(E27,登録ナンバー!$A$2:$M$570,4,0)) | H27: =IF(E27="","",VLOOKUP(E27,登録ナンバー!$A$2:$M$570,11,0))
B29: 参加費 | E29: チーム数 | F29: 小計
B30: 男子一般A/B（6,000円／チーム） | D30: 6000 | F30: =D30*E30 -> 0
B31: 男子OV55（4,000円／チーム） | D31: 4000 | F31: =D31*E31 -> 0
B32: 女子一般A/B（4,000円／チーム） | D32: 4000 | F32: =D32*E32 -> 0
B33: 女子OV45（4,000円／チーム） | D33: 4000 | F33: =D33*E33 -> 0
E34: 合計 | F34: =SUM(F30:G33) -> 0

Sheet 登録ナンバー
B1: ２０２６年度東近江市テニス協会登録ナンバー | I1: 46258
B3: 1 | D3: ３８人
A4: あ０１ | B4: 青木 | C4: 重之 | D4: アビックBB | F4: =A4 -> あ０１ | G4: =B4&C4 -> 青木重之 | H4: =D4 -> アビックBB | I4: 男 | J4: 1971 | K4: =IF(J4="","",(2026-J4)) -> 55 | L4: =IF(G4="","",IF(COUNTIF($G$4:$G$104,G4)>1,"2重登録","OK")) -> OK | M4: 草津市
A5: あ０２ | B5: 西川 | C5: 昌一 | D5: アビックBB | F5: =A5 -> あ０２ | G5: =B5&C5 -> 西川昌一 | H5: =D5 -> アビックBB | I5: 男 | J5: 1970 | K5: =IF(J5="","",(2026-J5)) -> 56 | L5: =IF(G5="","",IF(COUNTIF($G$4:$G$104,G5)>1,"2重登録","OK")) -> OK | M5: 彦根市
A6: あ０３ | B6: 安達 | C6: 隆一 | D6: アビックBB | F6: =A6 -> あ０３ | G6: =B6&C6 -> 安達隆一 | H6: =D6 -> アビックBB | I6: 男 | J6: 1970 | K6: =IF(J6="","",(2026-J6)) -> 56 | L6: =IF(G6="","",IF(COUNTIF($G$4:$G$104,G6)>1,"2重登録","OK")) -> OK | M6: 甲賀市
A7: あ０４ | B7: 上原 | C7: 義弘 | D7: アビックBB | F7: =A7 -> あ０４ | G7: =B7&C7 -> 上原義弘 | H7: =D7 -> アビックBB | I7: 男 | J7: 1974 | K7: =IF(J7="","",(2026-J7)) -> 52 | L7: =IF(G7="","",IF(COUNTIF($G$4:$G$104,G7)>1,"2重登録","OK")) -> OK | M7: 彦根市
A8: あ０５ | B8: 寺村 | C8: 浩一 | D8: アビックBB | F8: =A8 -> あ０５ | G8: =B8&C8 -> 寺村浩一 | H8: =D8 -> アビックBB | I8: 男 | J8: 1968 | K8: =IF(J8="","",(2026-J8)) -> 58 | L8: =IF(G8="","",IF(COUNTIF($G$4:$G$104,G8)>1,"2重登録","OK")) -> OK | M8: 愛荘町
A9: あ０６ | B9: 平居 | C9: 崇 | D9: アビックBB | F9: =A9 -> あ０６ | G9: =B9&C9 -> 平居崇 | H9: =D9 -> アビックBB | I9: 男 | J9: 1972 | K9: =IF(J9="","",(2026-J9)) -> 54 | L9: =IF(G9="","",IF(COUNTIF($G$4:$G$104,G9)>1,"2重登録","OK")) -> OK | M9: 多賀町
A10: あ０７ | B10: 大林 | C10: 弘典 | D10: アビックBB | F10: =A10 -> あ０７ | G10: =B10&C10 -> 大林弘典 | H10: =D10 -> アビックBB | I10: 男 | J10: 1989 | K10: =IF(J10="","",(2026-J10)) -> 37 | L10: =IF(G10="","",IF(COUNTIF($G$4:$G$104,G10)>1,"2重登録","OK")) -> OK | M10: 長浜市
A11: あ０８ | B11: 福嶋 | C11: 亮 | D11: アビックBB | F11: =A11 -> あ０８ | G11: =B11&C11 -> 福嶋亮 | H11: =D11 -> アビックBB | I11: 男 | J11: 1961 | K11: =IF(J11="","",(2026-J11)) -> 65 | L11: =IF(G11="","",IF(COUNTIF($G$4:$G$104,G11)>1,"2重登録","OK")) -> OK | M11: 岐阜県
A12: あ０９ | B12: 落合 | C12: 良弘 | D12: アビックBB | F12: =A12 -> あ０９ | G12: =B12&C12 -> 落合良弘 | H12: =D12 -> アビックBB | I12: 男 | J12: 1968 | K12: =IF(J12="","",(2026-J12)) -> 58 | L12: =IF(G12="","",IF(COUNTIF($G$4:$G$104,G12)>1,"2重登録","OK")) -> OK | M12: 長浜市
A13: あ１０ | B13: 松井 | C13: 傳樹 | D13: アビックBB | F13: =A13 -> あ１０ | G13: =B13&C13 -> 松井傳樹 | H13: =D13 -> アビックBB | I13: 男 | J13: 1987 | K13: =IF(J13="","",(2026-J13)) -> 39 | L13: =IF(G13="","",IF(COUNTIF($G$4:$G$104,G13)>1,"2重登録","OK")) -> OK | M13: 彦根市
A14: あ１１ | B14: 長谷川 | C14: 優 | D14: アビックBB | F14: =A14 -> あ１１ | G14: =B14&C14 -> 長谷川優 | H14: =D14 -> アビックBB | I14: 男 | J14: 1973 | K14: =IF(J14="","",(2026-J14)) -> 53 | L14: =IF(G14="","",IF(COUNTIF($G$4:$G$104,G14)>1,"2重登録","OK")) -> OK | M14: 甲賀市
A15: あ１２ | B15: 草野 | C15: 活地 | D15: アビックBB | F15: =A15 -> あ１２ | G15: =B15&C15 -> 草野活地 | H15: =D15 -> アビックBB | I15: 男 | J15: 1974 | K15: =IF(J15="","",(2026-J15)) -> 52 | L15: =IF(G15="","",IF(COUNTIF($G$4:$G$104,G15)>1,"2重登録","OK")) -> OK | M15: 草津市
... A23: あ２０ | B23: 坪井 | C23: 徳寿 | D23: アビックBB | F23: =A23 -> あ２０ | G23: =B23&C23 -> 坪井徳寿 | H23: =D23 -> アビックBB | I23: 男 | J23: 1979 | K23: =IF(J23="","",(2026-J23)) -> 47 | L23: =IF(G23="","",IF(COUNTIF($G$4:$G$104,G23)>1,"2重登録","OK")) -> OK | M23: 草津市
A24: あ２１ | B24: 辻村 | C24: 惣一 | D24: アビックBB | E24: ｓｅ | F24: =A24 -> あ２１ | G24: =B24&C24 -> 辻村惣一 | H24: =D24 -> アビックBB | I24: 男 | J24: 1953 | K24: =IF(J24="","",(2026-J24)) -> 73 | L24: =IF(G24="","",IF(COUNTIF($G$4:$G$104,G24)>1,"2重登録","OK")) -> OK | M24: 長浜市
A25: あ２２ | B25: 槇田 | C25: 学 | D25: アビックBB | F25: =A25 -> あ２２ | G25: =B25&C25 -> 槇田学 | H25: =D25 -> アビックBB | I25: 男 | J25: 1965 | K25: =IF(J25="","",(2026-J25)) -> 61 | L25: =IF(G25="","",IF(COUNTIF($G$4:$G$104,G25)>1,"2重登録","OK")) -> OK | M25: 彦根市
A26: あ２３ | B26: 武久 | C26: 真也 | D26: アビックBB | F26: =A26 -> あ２３ | G26: =B26&C26 -> 武久真也 | H26: =D26 -> アビックBB | I26: 男 | J26: 1982 | K26: =IF(J26="","",(2026-J26)) -> 44 | L26: =IF(G26="","",IF(COUNTIF($G$4:$G$104,G26)>1,"2重登録","OK")) -> OK | M26: 近江八幡市
A27: あ２４ | B27: 大脇 | C27: 和世 | D27: アビックBB | F27: =A27 -> あ２４ | G27: =B27&C27 -> 大脇和世 | H27: =D27 -> アビックBB | I27: 女 | J27: 1970 | K27: =IF(J27="","",(2026-J27)) -> 56 | L27: =IF(G27="","",IF(COUNTIF($G$4:$G$104,G27)>1,"2重登録","OK")) -> OK | M27: 愛荘町
A28: あ２５ | B28: 西山 | C28: 抄千代 | D28: アビックBB | F28: =A28 -> あ２５ | G28: =B28&C28 -> 西山抄千代 | H28: =D28 -> アビックBB | I28: 女 | J28: 1972 | K28: =IF(J28="","",(2026-J28)) -> 54 | L28: =IF(G28="","",IF(COUNTIF($G$4:$G$104,G28)>1,"2重登録","OK")) -> OK | M28: 米原市
A29: あ２６ | B29: 齋田 | C29: 優子 | D29: アビックBB | F29: =A29 -> あ２６ | G29: =B29&C29 -> 齋田優子 | H29: =D29 -> アビックBB | I29: 女 | J29: 1983 | K29: =IF(J29="","",(2026-J29)) -> 43 | L29: =IF(G29="","",IF(COUNTIF($G$4:$G$104,G29)>1,"2重登録","OK")) -> OK | M29: 長浜市
A30: あ２７ | B30: 中村 | C30: 紗映子 | D30: アビックBB | F30: =A30 -> あ２７ | G30: =B30&C30 -> 中村紗映子 | H30: =D30 -> アビックBB | I30: 女 | J30: 1983 | K30: =IF(J30="","",(2026-J30)) -> 43 | L30: =IF(G30="","",IF(COUNTIF($G$4:$G$104,G30)>1,"2重登録","OK")) -> OK | M30: 長浜市
A31: あ２８ | B31: 松本 | C31: 光美 | D31: アビックBB | F31: =A31 -> あ２８ | G31: =B31&C31 -> 松本光美 | H31: =D31 -> アビックBB | I31: 女 | J31: 1971 | K31: =IF(J31="","",(2026-J31)) -> 55 | L31: =IF(G31="","",IF(COUNTIF($G$4:$G$104,G31)>1,"2重登録","OK")) -> OK | M31: 草津市
A32: あ２９ | B32: 堅田 | C32: 瑞木 | D32: アビックBB | F32: =A32 -> あ２９ | G32: =B32&C32 -> 堅田瑞木 | H32: =D32 -> アビックBB | I32: 女 | J32: 1996 | K32: =IF(J32="","",(2026-J32)) -> 30 | L32: =IF(G32="","",IF(COUNTIF($G$4:$G$104,G32)>1,"2重登録","OK")) -> OK | M32: 京都府
A33: あ３０ | B33: 堀田 | C33: 明子 | D33: アビックBB | F33: =A33 -> あ３０ | G33: =B33&C33 -> 堀田明子 | H33: =D33 -> アビックBB | I33: 女 | J33: 1970 | K33: =IF(J33="","",(2026-J33)) -> 56 | L33: =IF(G33="","",IF(COUNTIF($G$4:$G$104,G33)>1,"2重登録","OK")) -> OK | M33: 東近江市
A34: あ３１ | B34: 佐野 | C34: 直美 | D34: アビックBB | F34: =A34 -> あ３１ | G34: =B34&C34 -> 佐野直美 | H34: =D34 -> アビックBB | I34: 女 | J34: 1975 | K34: =IF(J34="","",(2026-J34)) -> 51 | L34: =IF(G34="","",IF(COUNTIF($G$4:$G$104,G34)>1,"2重登録","OK")) -> OK | M34: 京都府
A35: あ３２ | B35: 千代 | C35: 美由紀 | D35: アビックBB | F35: =A35 -> あ３２ | G35: =B35&C35 -> 千代美由紀 | H35: =D35 -> アビックBB | I35: 女 | J35: 1972 | K35: =IF(J35="","",(2026-J35)) -> 54 | L35: =IF(G35="","",IF(COUNTIF($G$4:$G$104,G35)>1,"2重登録","OK")) -> OK | M35: 京都府
A36: あ３３ | B36: 小西 | C36: 由美子 | D36: アビックBB | F36: =A36 -> あ３３ | G36: =B36&C36 -> 小西由美子 | H36: =D36 -> アビックBB | I36: 女 | J36: 1968 | K36: =IF(J36="","",(2026-J36)) -> 58 | L36: =IF(G36="","",IF(COUNTIF($G$4:$G$104,G36)>1,"2重登録","OK")) -> OK | M36: 近江八幡市
... A42: あ３９ | B42: 谷崎 | C42: 真也 | D42: アビックBB | F42: =A42 -> あ３９ | G42: =B42&C42 -> 谷崎真也 | H42: =D42 -> アビックBB | I42: 男 | J42: 1972 | K42: =IF(J42="","",(2026-J42)) -> 54 | L42: =IF(G42="","",IF(COUNTIF($G$4:$G$104,G42)>1,"2重登録","OK")) -> OK | M42: 甲賀市
B43: 2 | D43: ３２人 | K43: =IF(J43="","",(2026-J43))
A44: あぷ０１ | B44: 杉山 | C44: 邦夫 | D44: アプストTC | E44: ｓｅ | F44: =A44 -> あぷ０１ | G44: =B44&C44 -> 杉山邦夫 | H44: =D44 -> アプストTC | I44: 男 | J44: 1950 | K44: =IF(J44="","",(2026-J44)) -> 76 | L44: =IF(G44="","",IF(COUNTIF($G$4:$G$112,G44)>1,"2重登録","OK")) -> OK | M44: 多賀町
A45: あぷ０２ | B45: 川上 | C45: 英二 | D45: アプストTC | F45: =A45 -> あぷ０２ | G45: =B45&C45 -> 川上英二 | H45: =D45 -> アプストTC | I45: 男 | J45: 1963 | K45: =IF(J45="","",(2026-J45)) -> 63 | L45: =IF(G45="","",IF(COUNTIF($G$4:$G$112,G45)>1,"2重登録","OK")) -> OK | M45: 東近江市
A46: あぷ０３ | B46: 浅田 | C46: 隆昭 | D46: アプストTC | F46: =A46 -> あぷ０３ | G46: =B46&C46 -> 浅田隆昭 | H46: =D46 -> アプストTC | I46: 男 | J46: 1964 | K46: =IF(J46="","",(2026-J46)) -> 62 | L46: =IF(G46="","",IF(COUNTIF($G$4:$G$112,G46)>1,"2重登録","OK")) -> OK | M46: 守山市
A47: あぷ０４ | B47: 森永 | C47: 洋介 | D47: アプストTC | F47: =A47 -> あぷ０４ | G47: =B47&C47 -> 森永洋介 | H47: =D47 -> アプストTC | I47: 男 | J47: 1986 | K47: =IF(J47="","",(2026-J47)) -> 40 | L47: =IF(G47="","",IF(COUNTIF($G$4:$G$112,G47)>1,"2重登録","OK")) -> OK | M47: 近江八幡市
A48: あぷ０５ | B48: 辰巳 | C48: 悟朗 | D48: アプストTC | F48: =A48 -> あぷ０５ | G48: =B48&C48 -> 辰巳悟朗 | H48: =D48 -> アプストTC | I48: 男 | J48: 1974 | K48: =IF(J48="","",(2026-J48)) -> 52 | L48: =IF(G48="","",IF(COUNTIF($G$4:$G$112,G48)>1,"2重登録","OK")) -> OK | M48: 彦根市
A49: あぷ０６ | B49: 川上 | C49: 美弥子 | D49: アプストTC | F49: =A49 -> あぷ０６ | G49: =B49&C49 -> 川上美弥子 | H49: =D49 -> アプストTC | I49: 女 | J49: 1971 | K49: =IF(J49="","",(2026-J49)) -> 55 | L49: =IF(G49="","",IF(COUNTIF($G$4:$G$112,G49)>1,"2重登録","OK")) -> OK | M49: 東近江市
A50: あぷ０７ | B50: 山内 | C50: 雄平 | D50: アプストTC | F50: =A50 -> あぷ０７ | G50: =B50&C50 -> 山内雄平 | H50: =D50 -> アプストTC | I50: 男 | J50: 1989 | K50: =IF(J50="","",(2026-J50)) -> 37 | L50: =IF(G50="","",IF(COUNTIF($G$4:$G$112,G50)>1,"2重登録","OK")) -> OK | M50: 東近江市
A51: あぷ０８ | B51: 木村 | C51: 美香 | D51: アプストTC | F51: =A51 -> あぷ０８ | G51: =B51&C51 -> 木村美香 | H51: =D51 -> アプストTC | I51: 女 | J51: 1962 | K51: =IF(J51="","",(2026-J51)) -> 64 | L51: =IF(G51="","",IF(COUNTIF($G$4:$G$112,G51)>1,"2重登録","OK")) -> OK | M51: 米原市
A52: あぷ０９ | B52: 日高 | C52: 眞規子 | D52: アプストTC | F52: =A52 -> あぷ０９ | G52: =B52&C52 -> 日高眞規子 | H52: =D52 -> アプストTC | I52: 女 | J52: 1963 | K52: =IF(J52="","",(2026-J52)) -> 63 | L52: =IF(G52="","",IF(COUNTIF($G$4:$G$112,G52)>1,"2重登録","OK")) -> OK | M52: 長浜市
A53: あぷ１０ | B53: 長谷出 | C53: 浩 | D53: アプストTC | F53: =A53 -> あぷ１０ | G53: =B53&C53 -> 長谷出浩 | H53: =D53 -> アプストTC | I53: 男 | J53: 1960 | K53: =IF(J53="","",(2026-J53)) -> 66 | L53: =IF(G53="","",IF(COUNTIF($G$4:$G$112,G53)>1,"2重登録","OK")) -> OK | M53: 東近江市
...
