Workbook

Sheet 王座
A2: 第22回大会 東近江市王座戦 募集要項
B4: ■大会日時 | D4: 2026年10月11日（日） 8:45 受付開始 ※小雨決行
B6: ■主 催 | D6: 東近江テニス協会（担当クラブ：京セラTC）
B8: ■会 場 | D8: ひばり公園テニスコート（砂入り人工芝コート ドーム2面、屋外4面）
D9: すこやかの杜テニスコート（砂入り人工芝コート2面）
B11: ■参加資格 | D11: １）2026年度 東近江テニス協会に登録しているクラブであること。
D12: ２）団体戦メンバーは同一クラブ内の選手で構成されていること。
D13: ※複数クラブによる連合チームや混成チームは参加できません。
D14: ３）参加選手は2026年8月31日までに協会登録した選手であること。
B16: ■大会種目 | D16: 団体戦方式（選手の重複は可とする。表下参照）
D18: 種目 | F18: シングルス | H18: ダブルス | J18: チーム人数
D19: 男子一般 A/B級 | F19: 3試合 | H19: 2試合 | J19: 4名以上
D20: 男子OV45 | F20: 2試合 | H20: 1試合 | J20: 2名以上
D21: 女子一般 A/B級 | F21: 1試合 | H21: 2試合 | J21: 3名以上
D22: 女子OV45 | F22: なし | H22: 3試合 | J22: 3名以上
D23: 男子：単複の試合に重複して出場可能
D24: 女子：単複に限らず、任意の2試合に重複して出場可能（同一ペアは不可）
D25: 申込状況により、種目統合の可能性があります。
D26: 男子B級：賞品なしで上位の表彰のみ。レベルの目安：クラブ対抗10部以下程度
D27: 女子B級：賞品なしで上位の表彰のみ。レベルの目安：試合経験の少ない方
B29: ■試合方法 | D29: リーグ／トーナメント団体戦
D30: 1セットマッチ 6-6タイブレーク ノーアドバンテージ
D31: （コンソレーションは6ゲーム先取ノーアドバンテージ）
D32: ※申込状況により、試合方式は変更の可能性があります。
B35: ■参加費用 | D35: 男子一般A・B級：6,000円/チーム
D36: 男子OV・女子一般A・B級・OV：4,000円/チーム
D37: ※当日払い不可。必ずドロー会議までに参加料をお支払い下さい。
B39: ■申込期限 | D39: 2026年10月3日（土）ドロー会議まで
B41: ■申込方法 | D41: １．ドロー会議でお申込み
E42: 代表者が申込書、参加料を持参の上、ドロー会議へお越し下さい。
D43: ２．メール・振り込みでお申込み
E44: 2026年10月2日（金）までに参加費用のお振込みおよび
E45: メールで下記宛先に申込書を送付ください。
D47: チーム名は、クラブ名(＋1文字)として下さい。
D48: メール送付先：ushi.nosuke3.2.1@gmail.com
D49: 参加費振込先：滋賀銀行 【店番】 514
E50: 【口座番号】 普通 813045（京セラテニス部 牛尾紳之介）
B52: ■ドロー会議 | D52: 2026年10月3日（土）18:00～ 布引グリーンスタジアム来賓室
D53: ※ドローは下記東近江市テニス協会ホームページでご覧下さい
D54: 東近江市テニス協会
B56: ■注意事項 | D56: 1. 試合審判は、セルフジャッジとなります。
D57: 2. 試合球は、ダンロップフォートを使用します。
D58: 3. 試合中の事故に関して東近江市テニス協会は一切責任を負いません。
D59: 4. 試合会場に各自で持ち込んだごみは持ち帰るようお願いします。
D60: 5. その他、試合前の説明事項を遵守ください。

Sheet 申込書(団体)
A1: 第22回 東近江市王座戦 大会申込書
A2: 所属クラブ名 | E2: 代表者氏名
A3: 代表連絡先
A5: 部門 | B5: チーム名 | E5: 登録No(全角)を入れると氏名と年齢が入力されます
E6: 一般の方は それぞれのセルに直接入力してください
A7: 登録No | B7: 氏 名 | D7: 年齢 | E7: 登録No | F7: 氏 名 | H7: 年齢
B8: =IF(A8="","",VLOOKUP(A8,登録ナンバー!$A$2:$I$539,7,0)) | C8: =IF(A8="","",VLOOKUP(A8,登録ナンバー!$A$2:$M$570,4,0)) | D8: =IF(A8="","",VLOOKUP(A8,登録ナンバー!$A$2:$M$570,11,0)) | F8: =IF(E8="","",VLOOKUP(E8,登録ナンバー!$A$2:$I$539,7,0)) | G8: =IF(E8="","",VLOOKUP(E8,登録ナンバー!$A$2:$M$570,4,0)) | H8: =IF(E8="","",VLOOKUP(E8,登録ナンバー!$A$2:$M$570,11,0))
B9: =IF(A9="","",VLOOKUP(A9,登録ナンバー!$A$2:$I$539,7,0)) | C9: =IF(A9="","",VLOOKUP(A9,登録ナンバー!$A$2:$M$570,4,0)) | D9: =IF(A9="","",VLOOKUP(A9,登録ナンバー!$A$2:$M$570,11,0)) | F9: =IF(E9="","",VLOOKUP(E9,登録ナンバー!$A$2:$I$539,7,0)) | G9: =IF(E9="","",VLOOKUP(E9,登録ナンバー!$A$2:$M$570,4,0)) | H9: =IF(E9="","",VLOOKUP(E9,登録ナンバー!$A$2:$M$570,11,0))
B10: =IF(A10="","",VLOOKUP(A10,登録ナンバー!$A$2:$I$539,7,0)) | C10: =IF(A10="","",VLOOKUP(A10,登録ナンバー!$A$2:$M$570,4,0)) | D10: =IF(A10="","",VLOOKUP(A10,登録ナンバー!$A$2:$M$570,11,0)) | F10: =IF(E10="","",VLOOKUP(E10,登録ナンバー!$A$2:$I$539,7,0)) | G10: =IF(E10="","",VLOOKUP(E10,登録ナンバー!$A$2:$M$570,4,0)) | H10: =IF(E10="","",VLOOKUP(E10,登録ナンバー!$A$2:$M$570,11,0))
B11: =IF(A11="","",VLOOKUP(A11,登録ナンバー!$A$2:$I$539,7,0)) | C11: =IF(A11="","",VLOOKUP(A11,登録ナンバー!$A$2:$M$570,4,0)) | D11: =IF(A11="","",VLOOKUP(A11,登録ナンバー!$A$2:$M$570,11,0)) | F11: =IF(E11="","",VLOOKUP(E11,登録ナンバー!$A$2:$I$539,7,0)) | G11: =IF(E11="","",VLOOKUP(E11,登録ナンバー!$A$2:$M$570,4,0)) | H11: =IF(E11="","",VLOOKUP(E11,登録ナンバー!$A$2:$M$570,11,0))
A13: 部門 | B13: チーム名 | E13: 登録No(全角)を入れると氏名と年齢が入力されます
E14: 一般の方は それぞれのセルに直接入力してください
A15: 登録No | B15: 氏 名 | D15: 年齢 | E15: 登録No | F15: 氏 名 | H15: 年齢
B16: =IF(A16="","",VLOOKUP(A16,登録ナンバー!$A$2:$I$539,7,0)) | C16: =IF(A16="","",VLOOKUP(A16,登録ナンバー!$A$2:$M$570,4,0)) | D16: =IF(A16="","",VLOOKUP(A16,登録ナンバー!$A$2:$M$570,11,0)) | F16: =IF(E16="","",VLOOKUP(E16,登録ナンバー!$A$2:$I$539,7,0)) | G16: =IF(E16="","",VLOOKUP(E16,登録ナンバー!$A$2:$M$570,4,0)) | H16: =IF(E16="","",VLOOKUP(E16,登録ナンバー!$A$2:$M$570,11,0))
B17: =IF(A17="","",VLOOKUP(A17,登録ナンバー!$A$2:$I$539,7,0)) | C17: =IF(A17="","",VLOOKUP(A17,登録ナンバー!$A$2:$M$570,4,0)) | D17: =IF(A17="","",VLOOKUP(A17,登録ナンバー!$A$2:$M$570,11,0)) | F17: =IF(E17="","",VLOOKUP(E17,登録ナンバー!$A$2:$I$539,7,0)) | G17: =IF(E17="","",VLOOKUP(E17,登録ナンバー!$A$2:$M$570,4,0)) | H17: =IF(E17="","",VLOOKUP(E17,登録ナンバー!$A$2:$M$570,11,0))
B18: =IF(A18="","",VLOOKUP(A18,登録ナンバー!$A$2:$I$539,7,0)) | C18: =IF(A18="","",VLOOKUP(A18,登録ナンバー!$A$2:$M$570,4,0)) | D18: =IF(A18="","",VLOOKUP(A18,登録ナンバー!$A$2:$M$570,11,0)) | F18: =IF(E18="","",VLOOKUP(E18,登録ナンバー!$A$2:$I$539,7,0)) | G18: =IF(E18="","",VLOOKUP(E18,登録ナンバー!$A$2:$M$570,4,0)) | H18: =IF(E18="","",VLOOKUP(E18,登録ナンバー!$A$2:$M$570,11,0))
B19: =IF(A19="","",VLOOKUP(A19,登録ナンバー!$A$2:$I$539,7,0)) | C19: =IF(A19="","",VLOOKUP(A19,登録ナンバー!$A$2:$M$570,4,0)) | D19: =IF(A19="","",VLOOKUP(A19,登録ナンバー!$A$2:$M$570,11,0)) | F19: =IF(E19="","",VLOOKUP(E19,登録ナンバー!$A$2:$I$539,7,0)) | G19: =IF(E19="","",VLOOKUP(E19,登録ナンバー!$A$2:$M$570,4,0)) | H19: =IF(E19="","",VLOOKUP(E19,登録ナンバー!$A$2:$M$570,11,0))
A21: 部門 | B21: チーム名 | E21: 登録No(全角)を入れると氏名と年齢が入力されます
E22: 一般の方は それぞれのセルに直接入力してください
A23: 登録No | B23: 氏 名 | D23: 年齢 | E23: 登録No | F23: 氏 名 | H23: 年齢
B24: =IF(A24="","",VLOOKUP(A24,登録ナンバー!$A$2:$I$539,7,0)) | C24: =IF(A24="","",VLOOKUP(A24,登録ナンバー!$A$2:$M$570,4,0)) | D24: =IF(A24="","",VLOOKUP(A24,登録ナンバー!$A$2:$M$570,11,0)) | F24: =IF(E24="","",VLOOKUP(E24,登録ナンバー!$A$2:$I$539,7,0)) | G24: =IF(E24="","",VLOOKUP(E24,登録ナンバー!$A$2:$M$570,4,0)) | H24: =IF(E24="","",VLOOKUP(E24,登録ナンバー!$A$2:$M$570,11,0))
B25: =IF(A25="","",VLOOKUP(A25,登録ナンバー!$A$2:$I$539,7,0)) | C25: =IF(A25="","",VLOOKUP(A25,登録ナンバー!$A$2:$M$570,4,0)) | D25: =IF(A25="","",VLOOKUP(A25,登録ナンバー!$A$2:$M$570,11,0)) | F25: =IF(E25="","",VLOOKUP(E25,登録ナンバー!$A$2:$I$539,7,0)) | G25: =IF(E25="","",VLOOKUP(E25,登録ナンバー!$A$2:$M$570,4,0)) | H25: =IF(E25="","",VLOOKUP(E25,登録ナンバー!$A$2:$M$570,11,0))
B26: =IF(A26="","",VLOOKUP(A26,登録ナンバー!$A$2:$I$539,7,0)) | C26: =IF(A26="","",VLOOKUP(A26,登録ナンバー!$A$2:$M$570,4,0)) | D26: =IF(A26="","",VLOOKUP(A26,登録ナンバー!$A$2:$M$570,11,0)) | F26: =IF(E26="","",VLOOKUP(E26,登録ナンバー!$A$2:$I$539,7,0)) | G26: =IF(E26="","",VLOOKUP(E26,登録ナンバー!$A$2:$M$570,4,0)) | H26: =IF(E26="","",VLOOKUP(E26,登録ナンバー!$A$2:$M$570,11,0))
B27: =IF(A27="","",VLOOKUP(A27,登録ナンバー!$A$2:$I$539,7,0)) | C27: =IF(A27="","",VLOOKUP(A27,登録ナンバー!$A$2:$M$570,4,0)) | D27: =IF(A27="","",VLOOKUP(A27,登録ナンバー!$A$2:$M$570,11,0)) | F27: =IF(E27="","",VLOOKUP(E27,登録ナンバー!$A$2:$I$539,7,0)) | G27: =IF(E27="","",VLOOKUP(E27,登録ナンバー!$A$2:$M$570,4,0)) | H27: =IF(E27="","",VLOOKUP(E27,登録ナンバー!$A$2:$M$570,11,0))
B29: 参加費 | E29: チーム数 | F29: 小計
B30: 男子一般A/B（6,000円／チーム） | D30: 6000 | F30: =D30*E30 -> 0
B31: 男子OV55（4,000円／チーム） | D31: 4000 | F31: =D31*E31 -> 0
B32: 女子一般A/B（4,000円／チーム） | D32: 4000 | F32: =D32*E32 -> 0
B33: 女子OV45（4,000円／チーム） | D33: 4000 | F33: =D33*E33 -> 0
E34: 合計 | F34: =SUM(F30:G33) -> 0

Sheet 登録ナンバー
B1: ２０２６年度東近江市テニス協会登録ナンバー | I1: 46258
B3: 1 | D3: ３８人
A4: あ０１ | B4: 青木 | C4: 重之 | D4: アビックBB | F4: =A4 -> あ０１ | G4: =B4&C4 -> 青木重之 | H4: =D4 -> アビックBB | I4: 男 | J4: 1971 | K4: =IF(J4="","",(2026-J4)) -> 55 | L4: =IF(G4="","",IF(COUNTIF($G$4:$G$104,G4)>1,"2重登録","OK")) -> OK | M4: 草津市
A5: あ０２ | B5: 西川 | C5: 昌一 | D5: アビックBB | F5: =A5 -> あ０２ | G5: =B5&C5 -> 西川昌一 | H5: =D5 -> アビックBB | I5: 男 | J5: 1970 | K5: =IF(J5="","",(2026-J5)) -> 56 | L5: =IF(G5="","",IF(COUNTIF($G$4:$G$104,G5)>1,"2重登録","OK")) -> OK | M5: 彦根市
A6: あ０３ | B6: 安達 | C6: 隆一 | D6: アビックBB | F6: =A6 -> あ０３ | G6: =B6&C6 -> 安達隆一 | H6: =D6 -> アビックBB | I6: 男 | J6: 1970 | K6: =IF(J6="","",(2026-J6)) -> 56 | L6: =IF(G6="","",IF(COUNTIF($G$4:$G$104,G6)>1,"2重登録","OK")) -> OK | M6: 甲賀市
A7: あ０４ | B7: 上原 | C7: 義弘 | D7: アビックBB | F7: =A7 -> あ０４ | G7: =B7&C7 -> 上原義弘 | H7: =D7 -> アビックBB | I7: 男 | J7: 1974 | K7: =IF(J7="","",(2026-J7)) -> 52 | L7: =IF(G7="","",IF(COUNTIF($G$4:$G$104,G7)>1,"2重登録","OK")) -> OK | M7: 彦根市
A8: あ０５ | B8: 寺村 | C8: 浩一 | D8: アビックBB | F8: =A8 -> あ０５ | G8: =B8&C8 -> 寺村浩一 | H8: =D8 -> アビックBB | I8: 男 | J8: 1968 | K8: =IF(J8="","",(2026-J8)) -> 58 | L8: =IF(G8="","",IF(COUNTIF($G$4:$G$104,G8)>1,"2重登録","OK")) -> OK | M8: 愛荘町
A9: あ０６ | B9: 平居 | C9: 崇 | D9: アビックBB | F9: =A9 -> あ０６ | G9: =B9&C9 -> 平居崇 | H9: =D9 -> アビックBB | I9: 男 | J9: 1972 | K9: =IF(J9="","",(2026-J9)) -> 54 | L9: =IF(G9="","",IF(COUNTIF($G$4:$G$104,G9)>1,"2重登録","OK")) -> OK | M9: 多賀町
A10: あ０７ | B10: 大林 | C10: 弘典 | D10: アビックBB | F10: =A10 -> あ０７ | G10: =B10&C10 -> 大林弘典 | H10: =D10 -> アビックBB | I10: 男 | J10: 1989 | K10: =IF(J10="","",(2026-J10)) -> 37 | L10: =IF(G10="","",IF(COUNTIF($G$4:$G$104,G10)>1,"2重登録","OK")) -> OK | M10: 長浜市
A11: あ０８ | B11: 福嶋 | C11: 亮 | D11: アビックBB | F11: =A11 -> あ０８ | G11: =B11&C11 -> 福嶋亮 | H11: =D11 -> アビックBB | I11: 男 | J11: 1961 | K11: =IF(J11="","",(2026-J11)) -> 65 | L11: =IF(G11="","",IF(COUNTIF($G$4:$G$104,G11)>1,"2重登録","OK")) -> OK | M11: 岐阜県
A12: あ０９ | B12: 落合 | C12: 良弘 | D12: アビックBB | F12: =A12 -> あ０９ | G12: =B12&C12 -> 落合良弘 | H12: =D12 -> アビックBB | I12: 男 | J12: 1968 | K12: =IF(J12="","",(2026-J12)) -> 58 | L12: =IF(G12="","",IF(COUNTIF($G$4:$G$104,G12)>1,"2重登録","OK")) -> OK | M12: 長浜市
A13: あ１０ | B13: 松井 | C13: 傳樹 | D13: アビックBB | F13: =A13 -> あ１０ | G13: =B13&C13 -> 松井傳樹 | H13: =D13 -> アビックBB | I13: 男 | J13: 1987 | K13: =IF(J13="","",(2026-J13)) -> 39 | L13: =IF(G13="","",IF(COUNTIF($G$4:$G$104,G13)>1,"2重登録","OK")) -> OK | M13: 彦根市
A14: あ１１ | B14: 長谷川 | C14: 優 | D14: アビックBB | F14: =A14 -> あ１１ | G14: =B14&C14 -> 長谷川優 | H14: =D14 -> アビックBB | I14: 男 | J14: 1973 | K14: =IF(J14="","",(2026-J14)) -> 53 | L14: =IF(G14="","",IF(COUNTIF($G$4:$G$104,G14)>1,"2重登録","OK")) -> OK | M14: 甲賀市
A15: あ１２ | B15: 草野 | C15: 活地 | D15: アビックBB | F15: =A15 -> あ１２ | G15: =B15&C15 -> 草野活地 | H15: =D15 -> アビックBB | I15: 男 | J15: 1974 | K15: =IF(J15="","",(2026-J15)) -> 52 | L15: =IF(G15="","",IF(COUNTIF($G$4:$G$104,G15)>1,"2重登録","OK")) -> OK | M15: 草津市
... A23: あ２０ | B23: 坪井 | C23: 徳寿 | D23: アビックBB | F23: =A23 -> あ２０ | G23: =B23&C23 -> 坪井徳寿 | H23: =D23 -> アビックBB | I23: 男 | J23: 1979 | K23: =IF(J23="","",(2026-J23)) -> 47 | L23: =IF(G23="","",IF(COUNTIF($G$4:$G$104,G23)>1,"2重登録","OK")) -> OK | M23: 草津市
A24: あ２１ | B24: 辻村 | C24: 惣一 | D24: アビックBB | E24: ｓｅ | F24: =A24 -> あ２１ | G24: =B24&C24 -> 辻村惣一 | H24: =D24 -> アビックBB | I24: 男 | J24: 1953 | K24: =IF(J24="","",(2026-J24)) -> 73 | L24: =IF(G24="","",IF(COUNTIF($G$4:$G$104,G24)>1,"2重登録","OK")) -> OK | M24: 長浜市
A25: あ２２ | B25: 槇田 | C25: 学 | D25: アビックBB | F25: =A25 -> あ２２ | G25: =B25&C25 -> 槇田学 | H25: =D25 -> アビックBB | I25: 男 | J25: 1965 | K25: =IF(J25="","",(2026-J25)) -> 61 | L25: =IF(G25="","",IF(COUNTIF($G$4:$G$104,G25)>1,"2重登録","OK")) -> OK | M25: 彦根市
A26: あ２３ | B26: 武久 | C26: 真也 | D26: アビックBB | F26: =A26 -> あ２３ | G26: =B26&C26 -> 武久真也 | H26: =D26 -> アビックBB | I26: 男 | J26: 1982 | K26: =IF(J26="","",(2026-J26)) -> 44 | L26: =IF(G26="","",IF(COUNTIF($G$4:$G$104,G26)>1,"2重登録","OK")) -> OK | M26: 近江八幡市
A27: あ２４ | B27: 大脇 | C27: 和世 | D27: アビックBB | F27: =A27 -> あ２４ | G27: =B27&C27 -> 大脇和世 | H27: =D27 -> アビックBB | I27: 女 | J27: 1970 | K27: =IF(J27="","",(2026-J27)) -> 56 | L27: =IF(G27="","",IF(COUNTIF($G$4:$G$104,G27)>1,"2重登録","OK")) -> OK | M27: 愛荘町
A28: あ２５ | B28: 西山 | C28: 抄千代 | D28: アビックBB | F28: =A28 -> あ２５ | G28: =B28&C28 -> 西山抄千代 | H28: =D28 -> アビックBB | I28: 女 | J28: 1972 | K28: =IF(J28="","",(2026-J28)) -> 54 | L28: =IF(G28="","",IF(COUNTIF($G$4:$G$104,G28)>1,"2重登録","OK")) -> OK | M28: 米原市
A29: あ２６ | B29: 齋田 | C29: 優子 | D29: アビックBB | F29: =A29 -> あ２６ | G29: =B29&C29 -> 齋田優子 | H29: =D29 -> アビックBB | I29: 女 | J29: 1983 | K29: =IF(J29="","",(2026-J29)) -> 43 | L29: =IF(G29="","",IF(COUNTIF($G$4:$G$104,G29)>1,"2重登録","OK")) -> OK | M29: 長浜市
A30: あ２７ | B30: 中村 | C30: 紗映子 | D30: アビックBB | F30: =A30 -> あ２７ | G30: =B30&C30 -> 中村紗映子 | H30: =D30 -> アビックBB | I30: 女 | J30: 1983 | K30: =IF(J30="","",(2026-J30)) -> 43 | L30: =IF(G30="","",IF(COUNTIF($G$4:$G$104,G30)>1,"2重登録","OK")) -> OK | M30: 長浜市
A31: あ２８ | B31: 松本 | C31: 光美 | D31: アビックBB | F31: =A31 -> あ２８ | G31: =B31&C31 -> 松本光美 | H31: =D31 -> アビックBB | I31: 女 | J31: 1971 | K31: =IF(J31="","",(2026-J31)) -> 55 | L31: =IF(G31="","",IF(COUNTIF($G$4:$G$104,G31)>1,"2重登録","OK")) -> OK | M31: 草津市
A32: あ２９ | B32: 堅田 | C32: 瑞木 | D32: アビックBB | F32: =A32 -> あ２９ | G32: =B32&C32 -> 堅田瑞木 | H32: =D32 -> アビックBB | I32: 女 | J32: 1996 | K32: =IF(J32="","",(2026-J32)) -> 30 | L32: =IF(G32="","",IF(COUNTIF($G$4:$G$104,G32)>1,"2重登録","OK")) -> OK | M32: 京都府
A33: あ３０ | B33: 堀田 | C33: 明子 | D33: アビックBB | F33: =A33 -> あ３０ | G33: =B33&C33 -> 堀田明子 | H33: =D33 -> アビックBB | I33: 女 | J33: 1970 | K33: =IF(J33="","",(2026-J33)) -> 56 | L33: =IF(G33="","",IF(COUNTIF($G$4:$G$104,G33)>1,"2重登録","OK")) -> OK | M33: 東近江市
A34: あ３１ | B34: 佐野 | C34: 直美 | D34: アビックBB | F34: =A34 -> あ３１ | G34: =B34&C34 -> 佐野直美 | H34: =D34 -> アビックBB | I34: 女 | J34: 1975 | K34: =IF(J34="","",(2026-J34)) -> 51 | L34: =IF(G34="","",IF(COUNTIF($G$4:$G$104,G34)>1,"2重登録","OK")) -> OK | M34: 京都府
A35: あ３２ | B35: 千代 | C35: 美由紀 | D35: アビックBB | F35: =A35 -> あ３２ | G35: =B35&C35 -> 千代美由紀 | H35: =D35 -> アビックBB | I35: 女 | J35: 1972 | K35: =IF(J35="","",(2026-J35)) -> 54 | L35: =IF(G35="","",IF(COUNTIF($G$4:$G$104,G35)>1,"2重登録","OK")) -> OK | M35: 京都府
A36: あ３３ | B36: 小西 | C36: 由美子 | D36: アビックBB | F36: =A36 -> あ３３ | G36: =B36&C36 -> 小西由美子 | H36: =D36 -> アビックBB | I36: 女 | J36: 1968 | K36: =IF(J36="","",(2026-J36)) -> 58 | L36: =IF(G36="","",IF(COUNTIF($G$4:$G$104,G36)>1,"2重登録","OK")) -> OK | M36: 近江八幡市
... A42: あ３９ | B42: 谷崎 | C42: 真也 | D42: アビックBB | F42: =A42 -> あ３９ | G42: =B42&C42 -> 谷崎真也 | H42: =D42 -> アビックBB | I42: 男 | J42: 1972 | K42: =IF(J42="","",(2026-J42)) -> 54 | L42: =IF(G42="","",IF(COUNTIF($G$4:$G$104,G42)>1,"2重登録","OK")) -> OK | M42: 甲賀市
B43: 2 | D43: ３２人 | K43: =IF(J43="","",(2026-J43))
A44: あぷ０１ | B44: 杉山 | C44: 邦夫 | D44: アプストTC | E44: ｓｅ | F44: =A44 -> あぷ０１ | G44: =B44&C44 -> 杉山邦夫 | H44: =D44 -> アプストTC | I44: 男 | J44: 1950 | K44: =IF(J44="","",(2026-J44)) -> 76 | L44: =IF(G44="","",IF(COUNTIF($G$4:$G$112,G44)>1,"2重登録","OK")) -> OK | M44: 多賀町
A45: あぷ０２ | B45: 川上 | C45: 英二 | D45: アプストTC | F45: =A45 -> あぷ０２ | G45: =B45&C45 -> 川上英二 | H45: =D45 -> アプストTC | I45: 男 | J45: 1963 | K45: =IF(J45="","",(2026-J45)) -> 63 | L45: =IF(G45="","",IF(COUNTIF($G$4:$G$112,G45)>1,"2重登録","OK")) -> OK | M45: 東近江市
A46: あぷ０３ | B46: 浅田 | C46: 隆昭 | D46: アプストTC | F46: =A46 -> あぷ０３ | G46: =B46&C46 -> 浅田隆昭 | H46: =D46 -> アプストTC | I46: 男 | J46: 1964 | K46: =IF(J46="","",(2026-J46)) -> 62 | L46: =IF(G46="","",IF(COUNTIF($G$4:$G$112,G46)>1,"2重登録","OK")) -> OK | M46: 守山市
A47: あぷ０４ | B47: 森永 | C47: 洋介 | D47: アプストTC | F47: =A47 -> あぷ０４ | G47: =B47&C47 -> 森永洋介 | H47: =D47 -> アプストTC | I47: 男 | J47: 1986 | K47: =IF(J47="","",(2026-J47)) -> 40 | L47: =IF(G47="","",IF(COUNTIF($G$4:$G$112,G47)>1,"2重登録","OK")) -> OK | M47: 近江八幡市
A48: あぷ０５ | B48: 辰巳 | C48: 悟朗 | D48: アプストTC | F48: =A48 -> あぷ０５ | G48: =B48&C48 -> 辰巳悟朗 | H48: =D48 -> アプストTC | I48: 男 | J48: 1974 | K48: =IF(J48="","",(2026-J48)) -> 52 | L48: =IF(G48="","",IF(COUNTIF($G$4:$G$112,G48)>1,"2重登録","OK")) -> OK | M48: 彦根市
A49: あぷ０６ | B49: 川上 | C49: 美弥子 | D49: アプストTC | F49: =A49 -> あぷ０６ | G49: =B49&C49 -> 川上美弥子 | H49: =D49 -> アプストTC | I49: 女 | J49: 1971 | K49: =IF(J49="","",(2026-J49)) -> 55 | L49: =IF(G49="","",IF(COUNTIF($G$4:$G$112,G49)>1,"2重登録","OK")) -> OK | M49: 東近江市
A50: あぷ０７ | B50: 山内 | C50: 雄平 | D50: アプストTC | F50: =A50 -> あぷ０７ | G50: =B50&C50 -> 山内雄平 | H50: =D50 -> アプストTC | I50: 男 | J50: 1989 | K50: =IF(J50="","",(2026-J50)) -> 37 | L50: =IF(G50="","",IF(COUNTIF($G$4:$G$112,G50)>1,"2重登録","OK")) -> OK | M50: 東近江市
A51: あぷ０８ | B51: 木村 | C51: 美香 | D51: アプストTC | F51: =A51 -> あぷ０８ | G51: =B51&C51 -> 木村美香 | H51: =D51 -> アプストTC | I51: 女 | J51: 1962 | K51: =IF(J51="","",(2026-J51)) -> 64 | L51: =IF(G51="","",IF(COUNTIF($G$4:$G$112,G51)>1,"2重登録","OK")) -> OK | M51: 米原市
A52: あぷ０９ | B52: 日高 | C52: 眞規子 | D52: アプストTC | F52: =A52 -> あぷ０９ | G52: =B52&C52 -> 日高眞規子 | H52: =D52 -> アプストTC | I52: 女 | J52: 1963 | K52: =IF(J52="","",(2026-J52)) -> 63 | L52: =IF(G52="","",IF(COUNTIF($G$4:$G$112,G52)>1,"2重登録","OK")) -> OK | M52: 長浜市
A53: あぷ１０ | B53: 長谷出 | C53: 浩 | D53: アプストTC | F53: =A53 -> あぷ１０ | G53: =B53&C53 -> 長谷出浩 | H53: =D53 -> アプストTC | I53: 男 | J53: 1960 | K53: =IF(J53="","",(2026-J53)) -> 66 | L53: =IF(G53="","",IF(COUNTIF($G$4:$G$112,G53)>1,"2重登録","OK")) -> OK | M53: 東近江市
A54: あぷ１１ | B54: 奥田 | C54: 純也 | D54: アプストTC | F54: =A54 -> あぷ１１ | G54: =B54&C54 -> 奥田純也 | H54: =D54 -> アプストTC | I54: 男 | J54: 1963 | K54: =IF(J54="","",(2026-J54)) -> 63 | L54: =IF(G54="","",IF(COUNTIF($G$4:$G$112,G54)>1,"2重登録","OK")) -> OK | M54: 東近江市
A55: あぷ１２ | B55: 村田 | C55: 理恵子 | D55: アプストTC | F55: =A55 -> あぷ１２ | G55: =B55&C55 -> 村田理恵子 | H55: =D55 -> アプストTC | I55: 女 | J55: 1979 | K55: =IF(J55="","",(2026-J55)) -> 47 | L55: =IF(G55="","",IF(COUNTIF($G$4:$G$112,G55)>1,"2重登録","OK")) -> OK | M55: 東近江市
A56: あぷ１３ | B56: 東 | C56: 正隆 | D56: アプストTC | F56: =A56 -> あぷ１３ | G56: =B56&C56 -> 東正隆 | H56: =D56 -> アプストTC | I56: 男 | J56: 1965 | K56: =IF(J56="","",(2026-J56)) -> 61 | L56: =IF(G56="","",IF(COUNTIF($G$4:$G$112,G56)>1,"2重登録","OK")) -> OK | M56: 彦根市
... A76: あぷ３３ | B76: 赤木 | C76: 拓 | D76: アプストTC | F76: =A76 -> あぷ３３ | G76: =B76&C76 -> 赤木拓 | H76: =D76 -> アプストTC | I76: 男 | J76: 1979 | K76: =IF(J76="","",(2026-J76)) -> 47 | L76: =IF(G76="","",IF(COUNTIF($G$4:$G$112,G76)>1,"2重登録","OK")) -> OK | M76: 近江八幡市
B77: 3 | D77: ２７人 | H77: =D77 -> ２７人 | K77: =IF(J77="","",(2026-J77))
A78: あん０１ | B78: 上津 | C78: 慶和 | D78: アンヴァース | F78: =A78 -> あん０１ | G78: =B78&C78 -> 上津慶和 | H78: =D78 -> アンヴァース | I78: 男 | J78: 1993 | K78: =IF(J78="","",(2026-J78)) -> 33 | L78: =IF(G78="","",IF(COUNTIF($G$5:$G$605,G78)>1,"2重登録","OK")) -> OK | M78: 大津市
A79: あん０２ | B79: 脇坂 | C79: 和樹 | D79: アンヴァース | F79: =A79 -> あん０２ | G79: =B79&C79 -> 脇坂和樹 | H79: =D79 -> アンヴァース | I79: 男 | J79: 1992 | K79: =IF(J79="","",(2026-J79)) -> 34 | L79: =IF(G79="","",IF(COUNTIF($G$5:$G$605,G79)>1,"2重登録","OK")) -> OK | M79: 彦根市
A80: あん０３ | B80: 小田 | C80: 紀彦 | D80: アンヴァース | F80: =A80 -> あん０３ | G80: =B80&C80 -> 小田紀彦 | H80: =D80 -> アンヴァース | I80: 男 | J80: 1984 | K80: =IF(J80="","",(2026-J80)) -> 42 | L80: =IF(G80="","",IF(COUNTIF($G$5:$G$605,G80)>1,"2重登録","OK")) -> OK | M80: 野洲市
A81: あん０４ | B81: 越智 | C81: 友基 | D81: アンヴァース | F81: =A81 -> あん０４ | G81: =B81&C81 -> 越智友基 | H81: =D81 -> アンヴァース | I81: 男 | J81: 1987 | K81: =IF(J81="","",(2026-J81)) -> 39 | L81: =IF(G81="","",IF(COUNTIF($G$5:$G$605,G81)>1,"2重登録","OK")) -> OK | M81: 野洲市
A82: あん０５ | B82: 辻本 | C82: 将士 | D82: アンヴァース | F82: =A82 -> あん０５ | G82: =B82&C82 -> 辻本将士 | H82: =D82 -> アンヴァース | I82: 男 | J82: 1986 | K82: =IF(J82="","",(2026-J82)) -> 40 | L82: =IF(G82="","",IF(COUNTIF($G$5:$G$605,G82)>1,"2重登録","OK")) -> OK | M82: 東近江市
A83: あん０６ | B83: 津曲 | C83: 崇志 | D83: アンヴァース | F83: =A83 -> あん０６ | G83: =B83&C83 -> 津曲崇志 | H83: =D83 -> アンヴァース | I83: 男 | J83: 1989 | K83: =IF(J83="","",(2026-J83)) -> 37 | L83: =IF(G83="","",IF(COUNTIF($G$5:$G$605,G83)>1,"2重登録","OK")) -> OK | M83: 湖南市
A84: あん０７ | B84: 鍋内 | C84: 雄樹 | D84: アンヴァース | F84: =A84 -> あん０７ | G84: =B84&C84 -> 鍋内雄樹 | H84: =D84 -> アンヴァース | I84: 男 | J84: 1990 | K84: =IF(J84="","",(2026-J84)) -> 36 | L84: =IF(G84="","",IF(COUNTIF($G$5:$G$605,G84)>1,"2重登録","OK")) -> OK | M84: 湖南市
A85: あん０８ | B85: 桐原 | C85: 昇汰 | D85: アンヴァース | F85: =A85 -> あん０８ | G85: =B85&C85 -> 桐原昇汰 | H85: =D85 -> アンヴァース | I85: 男 | J85: 1994 | K85: =IF(J85="","",(2026-J85)) -> 32 | L85: =IF(G85="","",IF(COUNTIF($G$5:$G$605,G85)>1,"2重登録","OK")) -> OK | M85: 守山市
A86: あん０９ | B86: 松村 | C86: 友喜 | D86: アンヴァース | F86: =A86 -> あん０９ | G86: =B86&C86 -> 松村友喜 | H86: =D86 -> アンヴァース | I86: 男 | J86: 1988 | K86: =IF(J86="","",(2026-J86)) -> 38 | L86: =IF(G86="","",IF(COUNTIF($G$5:$G$605,G86)>1,"2重登録","OK")) -> OK | M86: 彦根市
A87: あん１０ | B87: 薮内 | C87: 豪 | D87: アンヴァース | F87: =A87 -> あん１０ | G87: =B87&C87 -> 薮内豪 | H87: =D87 -> アンヴァース | I87: 男 | J87: 1986 | K87: =IF(J87="","",(2026-J87)) -> 40 | L87: =IF(G87="","",IF(COUNTIF($G$5:$G$605,G87)>1,"2重登録","OK")) -> OK | M87: 長浜市
A88: あん１１ | B88: 山田 | C88: 佳明 | D88: アンヴァース | F88: =A88 -> あん１１ | G88: =B88&C88 -> 山田佳明 | H88: =D88 -> アンヴァース | I88: 男 | J88: 1986 | K88: =IF(J88="","",(2026-J88)) -> 40 | L88: =IF(G88="","",IF(COUNTIF($G$5:$G$605,G88)>1,"2重登録","OK")) -> OK | M88: 京都府
A89: あん１２ | B89: 政田 | C89: 秀栄 | D89: アンヴァース | F89: =A89 -> あん１２ | G89: =B89&C89 -> 政田秀栄 | H89: =D89 -> アンヴァース | I89: 男 | J89: 1982 | K89: =IF(J89="","",(2026-J89)) -> 44 | L89: =IF(G89="","",IF(COUNTIF($G$5:$G$605,G89)>1,"2重登録","OK")) -> OK | M89: 栗東市
... A104: あん２７ | B104: 青木 | C104: 奈菜 | D104: アンヴァース | F104: =A104 -> あん２７ | G104: =B104&C104 -> 青木奈菜 | H104: =D104 -> アンヴァース | I104: 女 | J104: 2006 | K104: =IF(J104="","",(2026-J104)) -> 20 | L104: =IF(G104="","",IF(COUNTIF($G$5:$G$605,G104)>1,"2重登録","OK")) -> OK | M104: 岐阜県
B105: 4 | D105: ２４人 | H105: =D105 -> ２４人 | K105: =IF(J105="","",(2026-J105))
A106: け０１ | B106: 稲岡 | C106: 和紀 | D106: Kテニス | F106: =A106 -> け０１ | G106: =B106&C106 -> 稲岡和紀 | H106: Ｋテニスカレッジ | I106: 男 | J106: 1978 | K106: =IF(J106="","",(2026-J106)) -> 48 | L106: =IF(G106="","",IF(COUNTIF($G$4:$G$104,G106)>1,"2重登録","OK")) -> OK | M106: 東近江市
A107: け０２ | B107: 上村 | C107: 武 | D107: Kテニス | F107: =A107 -> け０２ | G107: =B107&C107 -> 上村 武 | H107: Ｋテニスカレッジ | I107: 男 | J107: 1978 | K107: =IF(J107="","",(2026-J107)) -> 48 | L107: =IF(G107="","",IF(COUNTIF($G$4:$G$104,G107)>1,"2重登録","OK")) -> OK | M107: 彦根市
A108: け０３ | B108: 川上 | C108: 悠作 | D108: Kテニス | F108: =A108 -> け０３ | G108: =B108&C108 -> 川上悠作 | H108: Ｋテニスカレッジ | I108: 男 | J108: 2000 | K108: =IF(J108="","",(2026-J108)) -> 26 | L108: =IF(G108="","",IF(COUNTIF($G$4:$G$104,G108)>1,"2重登録","OK")) -> OK | M108: 東近江市
A109: け０４ | B109: 坪田 | C109: 真嘉 | D109: Kテニス | F109: =A109 -> け０４ | G109: =B109&C109 -> 坪田真嘉 | H109: Ｋテニスカレッジ | I109: 男 | J109: 1976 | K109: =IF(J109="","",(2026-J109)) -> 50 | L109: =IF(G109="","",IF(COUNTIF($G$4:$G$104,G109)>1,"2重登録","OK")) -> OK | M109: 東近江市
A110: け０５ | B110: 山口 | C110: 直彦 | D110: Kテニス | F110: =A110 -> け０５ | G110: =B110&C110 -> 山口直彦 | H110: Ｋテニスカレッジ | I110: 男 | J110: 1986 | K110: =IF(J110="","",(2026-J110)) -> 40 | L110: =IF(G110="","",IF(COUNTIF($G$4:$G$104,G110)>1,"2重登録","OK")) -> OK | M110: 東近江市
A111: け０６ | B111: 福永 | C111: 裕美 | D111: Kテニス | F111: =A111 -> け０６ | G111: =B111&C111 -> 福永裕美 | H111: Ｋテニスカレッジ | I111: 女 | J111: 1963 | K111: =IF(J111="","",(2026-J111)) -> 63 | L111: =IF(G111="","",IF(COUNTIF($G$4:$G$104,G111)>1,"2重登録","OK")) -> OK | M111: 東近江市
A112: け０７ | B112: 福永 | C112: 一典 | D112: Kテニス | F112: =A112 -> け０７ | G112: =B112&C112 -> 福永一典 | H112: Ｋテニスカレッジ | I112: 男 | J112: 1967 | K112: =IF(J112="","",(2026-J112)) -> 59 | L112: =IF(G112="","",IF(COUNTIF($G$4:$G$104,G112)>1,"2重登録","OK")) -> OK | M112: 近江八幡市
A113: け０８ | B113: 小澤 | C113: 藤信 | D113: Kテニス | F113: =A113 -> け０８ | G113: =B113&C113 -> 小澤藤信 | H113: Ｋテニスカレッジ | I113: 男 | J113: 1964 | K113: =IF(J113="","",(2026-J113)) -> 62 | L113: =IF(G113="","",IF(COUNTIF($G$4:$G$104,G113)>1,"2重登録","OK")) -> OK | M113: 彦根市
A114: け０９ | B114: 朝日 | C114: 尚紀 | D114: Kテニス | F114: =A114 -> け０９ | G114: =B114&C114 -> 朝日尚紀 | H114: Ｋテニスカレッジ | I114: 男 | J114: 1983 | K114: =IF(J114="","",(2026-J114)) -> 43 | L114: =IF(G114="","",IF(COUNTIF($G$4:$G$104,G114)>1,"2重登録","OK")) -> OK | M114: 三重県
A115: け１０ | B115: 朝日 | C115: 智美 | D115: Kテニス | F115: =A115 -> け１０ | G115: =B115&C115 -> 朝日智美 | H115: Ｋテニスカレッジ | I115: 女 | J115: 1983 | K115: =IF(J115="","",(2026-J115)) -> 43 | L115: =IF(G115="","",IF(COUNTIF($G$4:$G$104,G115)>1,"2重登録","OK")) -> OK | M115: 三重県
A116: け１１ | B116: 本多 | C116: 勇輝 | D116: Kテニス | F116: =A116 -> け１１ | G116: =B116&C116 -> 本多勇輝 | H116: Ｋテニスカレッジ | I116: 男 | J116: 1989 | K116: =IF(J116="","",(2026-J116)) -> 37 | L116: =IF(G116="","",IF(COUNTIF($G$4:$G$104,G116)>1,"2重登録","OK")) -> OK | M116: 守山市
A117: け１２ | B117: 堤 | C117: 泰彦 | D117: Kテニス | F117: =A117 -> け１２ | G117: =B117&C117 -> 堤泰彦 | H117: Ｋテニスカレッジ | I117: 男 | J117: 1987 | K117: =IF(J117="","",(2026-J117)) -> 39 | L117: =IF(G117="","",IF(COUNTIF($G$4:$G$104,G117)>1,"2重登録","OK")) -> OK | M117: 東近江市
... A132: け２７ | B132: 稲岡 | C132: 沙良 | D132: Kテニス | F132: =A132 -> け２７ | G132: =B132&C132 -> 稲岡沙良 | H132: Ｋテニスカレッジ | I132: 女 | J132: 2012 | K132: =IF(J132="","",(2026-J132)) -> 14 | L132: =IF(G132="","",IF(COUNTIF($G$4:$G$104,G132)>1,"2重登録","OK")) -> OK | M132: 東近江市
B133: 5 | D133: ３０人 | K133: =IF(J133="","",(2026-J133))
A134: き０１ | B134: 荒浪 | C134: 順次 | D134: 京セラTC | F134: =A134 -> き０１ | G134: =B134&C134 -> 荒浪順次 | H134: =D134 -> 京セラTC | I134: 男 | J134: 1977 | K134: =IF(J134="","",(2026-J134)) -> 49 | L134: =IF(G134="","",IF(COUNTIF($G$4:$G$104,G134)>1,"2重登録","OK")) -> OK | M134: 大津市
A135: き０２ | B135: 井澤 | C135: 匡志 | D135: 京セラTC | F135: =A135 -> き０２ | G135: =B135&C135 -> 井澤 匡志 | H135: =D135 -> 京セラTC | I135: 男 | J135: 1967 | K135: =IF(J135="","",(2026-J135)) -> 59 | L135: =IF(G135="","",IF(COUNTIF($G$4:$G$104,G135)>1,"2重登録","OK")) -> OK | M135: 東近江市
A136: き０３ | B136: 石井 | C136: 耶真斗 | D136: 京セラTC | F136: =A136 -> き０３ | G136: =B136&C136 -> 石井耶真斗 | H136: =D136 -> 京セラTC | I136: 男 | J136: 1995 | K136: =IF(J136="","",(2026-J136)) -> 31 | L136: =IF(G136="","",IF(COUNTIF($G$4:$G$104,G136)>1,"2重登録","OK")) -> OK | M136: 東近江市
A137: き０４ | B137: 石川 | C137: 和洋 | D137: 京セラTC | F137: =A137 -> き０４ | G137: =B137&C137 -> 石川和洋 | H137: =D137 -> 京セラTC | I137: 男 | J137: 1978 | K137: =IF(J137="","",(2026-J137)) -> 48 | L137: =IF(G137="","",IF(COUNTIF($G$4:$G$104,G137)>1,"2重登録","OK")) -> OK | M137: 竜王町
A138: き０５ | B138: 石田 | C138: 文彦 | D138: 京セラTC | F138: =A138 -> き０５ | G138: =B138&C138 -> 石田文彦 | H138: =D138 -> 京セラTC | I138: 男 | J138: 1993 | K138: =IF(J138="","",(2026-J138)) -> 33 | L138: =IF(G138="","",IF(COUNTIF($G$4:$G$104,G138)>1,"2重登録","OK")) -> OK | M138: 近江八幡市
A139: き０６ | B139: 一色 | C139: 翼 | D139: 京セラTC | F139: =A139 -> き０６ | G139: =B139&C139 -> 一色翼 | H139: =D139 -> 京セラTC | I139: 男 | J139: 1984 | K139: =IF(J139="","",(2026-J139)) -> 42 | L139: =IF(G139="","",IF(COUNTIF($G$4:$G$104,G139)>1,"2重登録","OK")) -> OK | M139: 東近江市
A140: き０７ | B140: 牛尾 | C140: 紳之介 | D140: 京セラTC | F140: =A140 -> き０７ | G140: =B140&C140 -> 牛尾紳之介 | H140: =D140 -> 京セラTC | I140: 男 | J140: 1984 | K140: =IF(J140="","",(2026-J140)) -> 42 | L140: =IF(G140="","",IF(COUNTIF($G$4:$G$104,G140)>1,"2重登録","OK")) -> OK | M140: 東近江市
A141: き０８ | B141: 太田 | C141: 圭亮 | D141: 京セラTC | F141: =A141 -> き０８ | G141: =B141&C141 -> 太田圭亮 | H141: =D141 -> 京セラTC | I141: 男 | J141: 1981 | K141: =IF(J141="","",(2026-J141)) -> 45 | L141: =IF(G141="","",IF(COUNTIF($G$4:$G$104,G141)>1,"2重登録","OK")) -> OK | M141: 近江八幡市
A142: き０９ | B142: 奥田 | C142: 司 | D142: 京セラTC | F142: =A142 -> き０９ | G142: =B142&C142 -> 奥田司 | H142: =D142 -> 京セラTC | I142: 男 | J142: 1997 | K142: =IF(J142="","",(2026-J142)) -> 29 | L142: =IF(G142="","",IF(COUNTIF($G$4:$G$104,G142)>1,"2重登録","OK")) -> OK | M142: 東近江市
A143: き１０ | B143: 木村 | C143: 圭 | D143: 京セラTC | F143: =A143 -> き１０ | G143: =B143&C143 -> 木村圭 | H143: =D143 -> 京セラTC | I143: 男 | J143: 1968 | K143: =IF(J143="","",(2026-J143)) -> 58 | L143: =IF(G143="","",IF(COUNTIF($G$4:$G$104,G143)>1,"2重登録","OK")) -> OK | M143: 大津市
A144: き１１ | B144: 栗山 | C144: 飛鳥 | D144: 京セラTC | F144: =A144 -> き１１ | G144: =B144&C144 -> 栗山飛鳥 | H144: =D144 -> 京セラTC | I144: 男 | J144: 1997 | K144: =IF(J144="","",(2026-J144)) -> 29 | L144: =IF(G144="","",IF(COUNTIF($G$4:$G$104,G144)>1,"2重登録","OK")) -> OK | M144: 東近江市
A145: き１２ | B145: 清水 | C145: 陽介 | D145: 京セラTC | F145: =A145 -> き１２ | G145: =B145&C145 -> 清水陽介 | H145: =D145 -> 京セラTC | I145: 男 | J145: 1991 | K145: =IF(J145="","",(2026-J145)) -> 35 | L145: =IF(G145="","",IF(COUNTIF($G$4:$G$104,G145)>1,"2重登録","OK")) -> OK | M145: 守山市
... A167: き３４ | B167: 和田 | C167: 洸 | D167: 京セラTC | F167: =A167 -> き３４ | G167: =B167&C167 -> 和田洸 | H167: =D167 -> 京セラTC | I167: 男 | J167: 2001 | K167: =IF(J167="","",(2026-J167)) -> 25 | L167: =IF(G167="","",IF(COUNTIF($G$4:$G$104,G167)>1,"2重登録","OK")) -> OK | M167: 野洲市
B168: 6 | D168: ２７人 | H168: =D168 -> ２７人 | K168: =IF(J168="","",(2026-J168)) | L168: =IF(G168="","",IF(COUNTIF($G$5:$G$680,G168)>1,"2重登録","OK"))
A169: ぐ０１ | B169: 鍵谷 | C169: 浩太 | D169: グリフィンズ | F169: =A169 -> ぐ０１ | G169: =B169&C169 -> 鍵谷浩太 | H169: 東近江グリフィンズ | I169: 男 | J169: 1991 | K169: =IF(J169="","",(2026-J169)) -> 35 | L169: =IF(G169="","",IF(COUNTIF($G$5:$G$680,G169)>1,"2重登録","OK")) -> OK | M169: 彦根市
A170: ぐ０２ | B170: 中西 | C170: 泰輝 | D170: グリフィンズ | F170: =A170 -> ぐ０２ | G170: =B170&C170 -> 中西泰輝 | H170: 東近江グリフィンズ | I170: 男 | J170: 1992 | K170: =IF(J170="","",(2026-J170)) -> 34 | L170: =IF(G170="","",IF(COUNTIF($G$5:$G$680,G170)>1,"2重登録","OK")) -> OK | M170: 守山市
A171: ぐ０３ | B171: 井ノ口 | C171: 幹也 | D171: グリフィンズ | F171: =A171 -> ぐ０３ | G171: =B171&C171 -> 井ノ口幹也 | H171: 東近江グリフィンズ | I171: 男 | J171: 1990 | K171: =IF(J171="","",(2026-J171)) -> 36 | L171: =IF(G171="","",IF(COUNTIF($G$5:$G$680,G171)>1,"2重登録","OK")) -> OK | M171: 東近江市
A172: ぐ０４ | B172: 久保村 | C172: 悠史 | D172: グリフィンズ | F172: =A172 -> ぐ０４ | G172: =B172&C172 -> 久保村悠史 | H172: 東近江グリフィンズ | I172: 男 | J172: 1990 | K172: =IF(J172="","",(2026-J172)) -> 36 | L172: =IF(G172="","",IF(COUNTIF($G$5:$G$680,G172)>1,"2重登録","OK")) -> OK | M172: 京都府
A173: ぐ０５ | B173: 漆原 | C173: 大介 | D173: グリフィンズ | F173: =A173 -> ぐ０５ | G173: =B173&C173 -> 漆原大介 | H173: 東近江グリフィンズ | I173: 男 | J173: 1988 | K173: =IF(J173="","",(2026-J173)) -> 38 | L173: =IF(G173="","",IF(COUNTIF($G$5:$G$680,G173)>1,"2重登録","OK")) -> OK | M173: 彦根市
A174: ぐ０６ | B174: 土田 | C174: 哲也 | D174: グリフィンズ | F174: =A174 -> ぐ０６ | G174: =B174&C174 -> 土田哲也 | H174: 東近江グリフィンズ | I174: 男 | J174: 1990 | K174: =IF(J174="","",(2026-J174)) -> 36 | L174: =IF(G174="","",IF(COUNTIF($G$5:$G$680,G174)>1,"2重登録","OK")) -> OK | M174: 長浜市
A175: ぐ０７ | B175: 金谷 | C175: 太郎 | D175: グリフィンズ | F175: =A175 -> ぐ０７ | G175: =B175&C175 -> 金谷太郎 | H175: 東近江グリフィンズ | I175: 男 | J175: 1976 | K175: =IF(J175="","",(2026-J175)) -> 50 | L175: =IF(G175="","",IF(COUNTIF($G$5:$G$680,G175)>1,"2重登録","OK")) -> OK | M175: 彦根市
A176: ぐ０８ | B176: 山本 | C176: 将義 | D176: グリフィンズ | F176: =A176 -> ぐ０８ | G176: =B176&C176 -> 山本将義 | H176: 東近江グリフィンズ | I176: 男 | J176: 1986 | K176: =IF(J176="","",(2026-J176)) -> 40 | L176: =IF(G176="","",IF(COUNTIF($G$5:$G$680,G176)>1,"2重登録","OK")) -> OK | M176: 彦根市
A177: ぐ０９ | B177: 浜田 | C177: 豊 | D177: グリフィンズ | F177: =A177 -> ぐ０９ | G177: =B177&C177 -> 浜田豊 | H177: 東近江グリフィンズ | I177: 男 | J177: 1985 | K177: =IF(J177="","",(2026-J177)) -> 41 | L177: =IF(G177="","",IF(COUNTIF($G$5:$G$680,G177)>1,"2重登録","OK")) -> OK | M177: 東近江市
A178: ぐ１０ | B178: 吉野 | C178: 淳也 | D178: グリフィンズ | F178: =A178 -> ぐ１０ | G178: =B178&C178 -> 吉野淳也 | H178: 東近江グリフィンズ | I178: 男 | J178: 1990 | K178: =IF(J178="","",(2026-J178)) -> 36 | L178: =IF(G178="","",IF(COUNTIF($G$5:$G$680,G178)>1,"2重登録","OK")) -> OK | M178: 守山市
A179: ぐ１１ | B179: 澁谷 | C179: 晃大 | D179: グリフィンズ | F179: =A179 -> ぐ１１ | G179: =B179&C179 -> 澁谷晃大 | H179: 東近江グリフィンズ | I179: 男 | J179: 1996 | K179: =IF(J179="","",(2026-J179)) -> 30 | L179: =IF(G179="","",IF(COUNTIF($G$5:$G$680,G179)>1,"2重登録","OK")) -> OK | M179: 彦根市
A180: ぐ１２ | B180: 藤井 | C180: 正和 | D180: グリフィンズ | F180: =A180 -> ぐ１２ | G180: =B180&C180 -> 藤井正和 | H180: 東近江グリフィンズ | I180: 男 | J180: 1975 | K180: =IF(J180="","",(2026-J180)) -> 51 | L180: =IF(G180="","",IF(COUNTIF($G$5:$G$680,G180)>1,"2重登録","OK")) -> OK | M180: 草津市
... A183: ぐ１５ | B183: 大竹 | C183: 啓介 | D183: グリフィンズ | F183: =A183 -> ぐ１５ | G183: =B183&C183 -> 大竹啓介 | H183: 東近江グリフィンズ | I183: 男 | J183: 1990 | K183: =IF(J183="","",(2026-J183)) -> 36 | L183: =IF(G183="","",IF(COUNTIF($G$5:$G$680,G183)>1,"2重登録","OK")) -> OK | M183: 長浜市
...
