Workbook

Sheet A級
A1: 第22回 東近江市ミックスダブルス大会
A2: Aクラス | J2: 試合形式（1セットマッチ（６－６タイブレーク）ノーアド方式）
C4: ↓コート・集合時間（ひばり公園 外AB 8：45までに本部に出席を届ける）
A5: 5人リーグ | C5: リーグ | G5: =C6 -> 大野 | H5: ・ | I5: =E6 -> 竹田 | J5: =C8 -> 山口 | K5: ・ | L5: =E8 -> 森 | M5: =C10 -> 澁谷 | N5: ・ | O5: =E10 -> 澁谷 | P5: =C12 -> 福岡 | Q5: ・ | R5: =E12 -> 川上 | S5: =C14 -> 和仁 | T5: ・ | U5: =E14 -> 和仁 | V5: 成績／順位
A6: ふ１３ | C6: =IF(A6="","",VLOOKUP(A6,登録No.!$A$3:$N$506,2,FALSE)) -> 大野 | E6: =IF(A7="","",VLOOKUP(A7,登録No.!$A$3:$N$506,2,FALSE)) -> 竹田 | J6: =IF(K6="","①",IF(K6>L6,"〇","×")) -> ① | M6: =IF(N6="","⑥",IF(N6>O6,"〇","×")) -> ⑥ | P6: =IF(Q6="","⑨",IF(Q6>R6,"〇","×")) -> ⑨ | S6: =IF(T6="","③",IF(T6>U6,"〇","×")) -> ③ | V6: =IF(K6="","勝",COUNTIF(J6:U6,"〇")) -> 勝 | X6: =IF(K6="","敗",COUNTIF(J6:U6,"×")) -> 敗
A7: う２３ | C7: =IF(A6="","",VLOOKUP(A6,登録No.!$A$3:$N$506,4,FALSE)) -> フレンズ | E7: =IF(A7="","",VLOOKUP(A7,登録No.!$A$3:$N$506,4,FALSE)) -> うさかめ | V7: =IF(N6="","ゲーム取得率",SUM(K6,N6,Q6,T6)/SUM(J6:U6)) -> ゲーム取得率 | X7: 順位
A8: う５２ | C8: =IF(A8="","",VLOOKUP(A8,登録No.!$A$3:$N$506,2,FALSE)) -> 山口 | E8: =IF(A9="","",VLOOKUP(A9,登録No.!$A$3:$N$506,2,FALSE)) -> 森 | G8: =IF(K6="","",IF(J6="〇","×","〇")) | H8: =IF(L6="","",L6) | I8: =IF(K6="","",K6) | M8: =IF(N8="","④",IF(N8>O8,"〇","×")) -> ④ | P8: =IF(Q8="","⑦",IF(Q8>R8,"〇","×")) -> ⑦ | S8: =IF(T8="","⑩",IF(T8>U8,"〇","×")) -> ⑩ | V8: =IF(G8="","勝",COUNTIF(G8:U8,"〇")) -> 勝 | X8: =IF(H8="","敗",COUNTIF(G8:U8,"×")) -> 敗
A9: う１０ | C9: =IF(A8="","",VLOOKUP(A8,登録No.!$A$3:$N$506,4,FALSE)) -> うさかめ | E9: =IF(A9="","",VLOOKUP(A9,登録No.!$A$3:$N$506,4,FALSE)) -> うさかめ | V9: =IF(N8="","ゲーム取得率",SUM(H8,N8,Q8,T8)/SUM(G8:U8)) -> ゲーム取得率 | X9: 順位
A10: ぐ１１ | C10: =IF(A10="","",VLOOKUP(A10,登録No.!$A$3:$N$506,2,FALSE)) -> 澁谷 | E10: =IF(A11="","",VLOOKUP(A11,登録No.!$A$3:$N$506,2,FALSE)) -> 澁谷 | G10: =IF(N6="","",IF(M6="〇","×","〇")) | H10: =IF(O6="","",O6) | I10: =IF(N6="","",N6) | J10: =IF(N8="","",IF(M8="〇","×","〇")) | K10: =IF(O8="","",O8) | L10: =IF(N8="","",N8) | P10: =IF(Q10="","②",IF(Q10>R10,"〇","×")) -> ② | S10: =IF(T10="","⑧",IF(T10>U10,"〇","×")) -> ⑧ | V10: =IF(H10="","勝",COUNTIF(G10:U10,"〇")) -> 勝 | X10: =IF(H10="","敗",COUNTIF(G10:U10,"×")) -> 敗
A11: ぐ１１ | C11: =IF(A10="","",VLOOKUP(A10,登録No.!$A$3:$N$506,4,FALSE)) -> グリフィンズ | E11: =IF(A11="","",VLOOKUP(A11,登録No.!$A$3:$N$506,4,FALSE)) -> グリフィンズ | V11: =IF(H10="","ゲーム取得率",SUM(H10,K10,Q10,T10)/SUM(G10:U10)) -> ゲーム取得率 | X11: 順位
A12: あぷ２４ | C12: =IF(A12="","",VLOOKUP(A12,登録No.!$A$3:$N$506,2,FALSE)) -> 福岡 | E12: =IF(A13="","",VLOOKUP(A13,登録No.!$A$3:$N$506,2,FALSE)) -> 川上 | G12: =IF(Q6="","",IF(P6="〇","×","〇")) | H12: =IF(R6="","",R6) | I12: =IF(Q6="","",Q6) | J12: =IF(Q8="","",IF(P8="〇","×","〇")) | K12: =IF(R8="","",R8) | L12: =IF(Q8="","",Q8) | M12: =IF(Q10="","",IF(P10="〇","×","〇")) | N12: =IF(R10="","",R10) | O12: =IF(Q10="","",Q10) | S12: =IF(T12="","⑤",IF(T12>U12,"〇","×")) -> ⑤ | V12: =IF(H12="","勝",COUNTIF(G12:U12,"〇")) -> 勝 | X12: =IF(H12="","敗",COUNTIF(G12:U12,"×")) -> 敗
A13: け０３ | C13: =IF(A12="","",VLOOKUP(A12,登録No.!$A$3:$N$506,4,FALSE)) -> アプストTC | E13: =IF(A13="","",VLOOKUP(A13,登録No.!$A$3:$N$506,4,FALSE)) -> Kテニス | V13: =IF(H12="","ゲーム取得率",SUM(H12,K12,N12,T12)/SUM(G12:U12)) -> ゲーム取得率 | X13: 順位
C14: 和仁 | E14: 和仁 | G14: =IF(T6="","",IF(S6="〇","×","〇")) | H14: =IF(U6="","",U6) | I14: =IF(T6="","",T6) | J14: =IF(S8="⑩","",IF(S8="〇","×","〇")) | K14: =IF(U8="","",U8) | L14: =IF(T8="","",T8) | M14: =IF(T10="","",IF(S10="〇","×","〇")) | N14: =IF(U10="","",U10) | O14: =IF(T10="","",T10) | P14: =IF(T12="","",IF(S12="〇","×","〇")) | Q14: =IF(U12="","",U12) | R14: =IF(T12="","",T12) | V14: =IF(H14="","勝",COUNTIF(G14:U14,"〇")) -> 勝 | X14: =IF(H14="","敗",COUNTIF(G14:U14,"×")) -> 敗
C15: 一般 | E15: 一般 | V15: =IF(H14="","ゲーム取得率",SUM(H14,K14,N14,Q14)/SUM(G14:U14)) -> ゲーム取得率 | X15: 順位
A50: ↑ 印刷範囲

Sheet B級
A1: 第22回 東近江市ミックスダブルス大会
A2: Bクラス | J2: 試合形式（1セットマッチ（６－６タイブレーク）ノーアド方式）
C4: ↓コート・集合時間（ひばり公園 外C 8：45までに本部に出席を届ける）
A5: 4人リーグ | C5: リーグ | G5: =C6 -> 朝日 | H5: ・ | I5: =E6 -> 朝日 | J5: =C8 -> 宮村 | K5: ・ | L5: =E8 -> 宮村 | M5: =C10 -> 山本 | N5: ・ | O5: =E10 -> 浦嶋 | P5: =C12 -> 稲岡 | Q5: ・ | R5: =E12 -> 稲岡 | S5: 成績／順位
A6: け１０ | C6: =IF(A6="","",VLOOKUP(A6,登録No.!$A$3:$N$506,2,FALSE)) -> 朝日 | E6: =IF(A7="","",VLOOKUP(A7,登録No.!$A$3:$N$506,2,FALSE)) -> 朝日 | J6: =IF(K6="","⑥",IF(K6>L6,"〇","×")) -> ⑥ | M6: =IF(N6="","④",IF(N6>O6,"〇","×")) -> ④ | P6: =IF(Q6="","②",IF(Q6>R6,"〇","×")) -> ② | S6: =IF(K6="","勝",COUNTIF(G6:R6,"〇")) -> 勝 | U6: =IF(K6="","敗",COUNTIF(G6:R6,"×")) -> 敗
A7: け１０ | C7: =IF(A6="","",VLOOKUP(A6,登録No.!$A$3:$N$506,4,FALSE)) -> Kテニス | E7: =IF(A7="","",VLOOKUP(A7,登録No.!$A$3:$N$506,4,FALSE)) -> Kテニス | S7: =IF(K6="","ゲーム取得率",SUM(K6,N6,Q6)/SUM(J6:R6)) -> ゲーム取得率 | U7: 順位
A8: あぷ２７ | C8: =IF(A8="","",VLOOKUP(A8,登録No.!$A$3:$N$506,2,FALSE)) -> 宮村 | E8: =IF(A9="","",VLOOKUP(A9,登録No.!$A$3:$N$506,2,FALSE)) -> 宮村 | G8: =IF(J6="⑥","",IF(J6="〇","×","〇")) | H8: =IF(L6="","",L6) | I8: =IF(K6="","",K6) | M8: =IF(N8="","①",IF(N8>O8,"〇","×")) -> ① | P8: =IF(Q8="","③",IF(Q8>R8,"〇","×")) -> ③ | S8: =IF(G8="","勝",COUNTIF(G8:R8,"〇")) -> 勝 | U8: =IF(G8="","敗",COUNTIF(G8:R8,"×")) -> 敗
A9: あぷ２７ | C9: =IF(A8="","",VLOOKUP(A8,登録No.!$A$3:$N$506,4,FALSE)) -> アプストTC | E9: =IF(A9="","",VLOOKUP(A9,登録No.!$A$3:$N$506,4,FALSE)) -> アプストTC | S9: =IF(G8="","ゲーム取得率",SUM(H8,N8,Q8)/SUM(G8:R8)) -> ゲーム取得率 | U9: 順位
A10: ふ２４ | C10: =IF(A10="","",VLOOKUP(A10,登録No.!$A$3:$N$506,2,FALSE)) -> 山本 | E10: =IF(A11="","",VLOOKUP(A11,登録No.!$A$3:$N$506,2,FALSE)) -> 浦嶋 | G10: =IF(M6="④","",IF(M6="〇","×","〇")) | H10: =IF(O6="","",O6) | I10: =IF(N6="","",N6) | J10: =IF(M8="①","",IF(M8="〇","×","〇")) | K10: =IF(O8="","",O8) | L10: =IF(N8="","",N8) | P10: =IF(Q10="","⑤",IF(Q10>R10,"〇","×")) -> ⑤ | S10: =IF(K10="","勝",COUNTIF(G10:R10,"〇")) -> 勝 | U10: =IF(J10="","敗",COUNTIF(G10:R10,"×")) -> 敗
A11: ふ０６ | C11: =IF(A10="","",VLOOKUP(A10,登録No.!$A$3:$N$506,4,FALSE)) -> フレンズ | E11: =IF(A11="","",VLOOKUP(A11,登録No.!$A$3:$N$506,4,FALSE)) -> フレンズ | S11: =IF(G10="","ゲーム取得率",SUM(H10,K10,Q10)/SUM(G10:R10)) -> ゲーム取得率 | U11: 順位
A12: け２７ | C12: =IF(A12="","",VLOOKUP(A12,登録No.!$A$3:$N$506,2,FALSE)) -> 稲岡 | E12: =IF(A13="","",VLOOKUP(A13,登録No.!$A$3:$N$506,2,FALSE)) -> 稲岡 | G12: =IF(P6="②","",IF(P6="〇","×","〇")) | H12: =IF(R6="","",R6) | I12: =IF(Q6="","",Q6) | J12: =IF(P8="③","",IF(P8="〇","×","〇")) | K12: =IF(R8="","",R8) | L12: =IF(Q8="","",Q8) | M12: =IF(P10="⑤","",IF(P10="〇","×","〇")) | N12: =IF(R10="","",R10) | O12: =IF(Q10="","",Q10) | S12: =IF(J12="","勝",COUNTIF(G12:R12,"〇")) -> 勝 | U12: =IF(J12="","敗",COUNTIF(G12:R12,"×")) -> 敗
A13: け０１ | C13: KテニスJr | E13: =IF(A13="","",VLOOKUP(A13,登録No.!$A$3:$N$506,4,FALSE)) -> Kテニス | S13: =IF(G12="","ゲーム取得率",SUM(H12,K12,N12)/SUM(G12:O12)) -> ゲーム取得率 | U13: 順位

Sheet OV100
A1: 第22回 東近江市ミックスダブルス大会
A2: OV100 | J2: 試合形式（1セットマッチ（６－６タイブレーク）ノーアド方式）
C4: ↓コート・集合時間（ひばり公園 外A 12：30までに本部に出席を届ける）
A5: 3人リーグ | C5: リーグ１ | G5: =C6 -> 三代 | H5: ・ | I5: =E6 -> 辻 | J5: =C8 -> 中澤 | K5: ・ | L5: =E8 -> 宇野 | M5: =C10 -> 苗村 | N5: ・ | O5: =E10 -> 片岡 | P5: 成績／順位 | V5: 3人リーグ | X5: 1位リーグ | AB5: =X6 | AC5: ・ | AD5: =Z6 | AE5: =X8 | AF5: ・ | AG5: =Z8 | AH5: =X10 | AI5: ・ | AJ5: =Z10 | AK5: 成績／順位
A6: ふ１４ | C6: =IF(A6="","",VLOOKUP(A6,登録No.!$A$3:$N$506,2,FALSE)) -> 三代 | E6: 辻 | J6: =IF(K6="","③",IF(K6>L6,"〇","×")) -> ③ | M6: =IF(N6="","②",IF(N6>O6,"〇","×")) -> ② | P6: =IF(K6="","勝",COUNTIF(G6:O6,"〇")) -> 勝 | R6: =IF(K6="","敗",COUNTIF(G6:O6,"×")) -> 敗 | X6: =IF(V6="","",VLOOKUP(V6,登録No.!$A$3:$N$506,2,FALSE)) | Z6: =IF(V7="","",VLOOKUP(V7,登録No.!$A$3:$N$506,2,FALSE)) | AE6: =IF(AF6="","③",IF(AF6>AG6,"〇","×")) -> ③ | AH6: =IF(AI6="","②",IF(AI6>AJ6,"〇","×")) -> ② | AK6: =IF(AF6="","勝",COUNTIF(AB6:AJ6,"〇")) -> 勝 | AM6: =IF(AF6="","敗",COUNTIF(AB6:AJ6,"×")) -> 敗
A7: ふ２４ | C7: =IF(A6="","",VLOOKUP(A6,登録No.!$A$3:$N$506,4,FALSE)) -> フレンズ | E7: =IF(A7="","",VLOOKUP(A7,登録No.!$A$3:$N$506,4,FALSE)) -> フレンズ | P7: =IF(K6="","ゲーム取得率",SUM(K6,N6)/SUM(G6:O6)) -> ゲーム取得率 | R7: 順位 | X7: =IF(V6="","",VLOOKUP(V6,登録No.!$A$3:$N$506,4,FALSE)) | Z7: =IF(V7="","",VLOOKUP(V7,登録No.!$A$3:$N$506,4,FALSE)) | AK7: =IF(AF6="","ゲーム取得率",SUM(AF6,AI6)/SUM(AB6:AJ6)) -> ゲーム取得率 | AM7: 順位
A8: あ３７ | C8: =IF(A8="","",VLOOKUP(A8,登録No.!$A$3:$N$506,2,FALSE)) -> 中澤 | E8: =IF(A9="","",VLOOKUP(A9,登録No.!$A$3:$N$506,2,FALSE)) -> 宇野 | G8: =IF(J6="③","",IF(J6="〇","×","〇")) | H8: =IF(L6="","",L6) | I8: =IF(K6="","",K6) | M8: =IF(N8="","①",IF(N8>O8,"〇","×")) -> ① | P8: =IF(G8="","勝",COUNTIF(G8:O8,"〇")) -> 勝 | R8: =IF(G8="","敗",COUNTIF(G8:O8,"×")) -> 敗 | X8: =IF(V8="","",VLOOKUP(V8,登録No.!$A$3:$N$506,2,FALSE)) | Z8: =IF(V9="","",VLOOKUP(V9,登録No.!$A$3:$N$506,2,FALSE)) | AB8: =IF(AE6="③","",IF(AE6="〇","×","〇")) | AC8: =IF(AG6="","",AG6) | AD8: =IF(AF6="","",AF6) | AH8: =IF(AI8="","①",IF(AI8>AJ8,"〇","×")) -> ① | AK8: =IF(AB8="","勝",COUNTIF(AB8:AJ8,"〇")) -> 勝 | AM8: =IF(AB8="","敗",COUNTIF(AB8:AJ8,"×")) -> 敗
A9: あ１９ | C9: =IF(A8="","",VLOOKUP(A8,登録No.!$A$3:$N$506,4,FALSE)) -> アビックBB | E9: =IF(A9="","",VLOOKUP(A9,登録No.!$A$3:$N$506,4,FALSE)) -> アビックBB | P9: =IF(H8="","ゲーム取得率",SUM(H8,N8)/SUM(G8:O8)) -> ゲーム取得率 | R9: 順位 | X9: =IF(V8="","",VLOOKUP(V8,登録No.!$A$3:$N$506,4,FALSE)) | Z9: =IF(V9="","",VLOOKUP(V9,登録No.!$A$3:$N$506,4,FALSE)) | AK9: =IF(AC8="","ゲーム取得率",SUM(AC8,AI8)/SUM(AB8:AJ8)) -> ゲーム取得率 | AM9: 順位
A10: う４３ | C10: =IF(A10="","",VLOOKUP(A10,登録No.!$A$3:$N$506,2,FALSE)) -> 苗村 | E10: =IF(A11="","",VLOOKUP(A11,登録No.!$A$3:$N$506,2,FALSE)) -> 片岡 | G10: =IF(N6="","",IF(M6="〇","×","〇")) | H10: =IF(O6="","",O6) | I10: =IF(N6="","",N6) | J10: =IF(N8="","",IF(M8="〇","×","〇")) | K10: =IF(O8="","",O8) | L10: =IF(N8="","",N8) | P10: =IF(G10="","勝",COUNTIF(G10:O10,"〇")) -> 勝 | R10: =IF(G10="","敗",COUNTIF(G10:O10,"×")) -> 敗 | X10: =IF(V10="","",VLOOKUP(V10,登録No.!$A$3:$N$506,2,FALSE)) | Z10: =IF(V11="","",VLOOKUP(V11,登録No.!$A$3:$N$506,2,FALSE)) | AB10: =IF(AI6="","",IF(AH6="〇","×","〇")) | AC10: =IF(AJ6="","",AJ6) | AD10: =IF(AI6="","",AI6) | AE10: =IF(AI8="","",IF(AH8="〇","×","〇")) | AF10: =IF(AJ8="","",AJ8) | AG10: =IF(AI8="","",AI8) | AK10: =IF(AB10="","勝",COUNTIF(AB10:AJ10,"〇")) -> 勝 | AM10: =IF(AB10="","敗",COUNTIF(AB10:AJ10,"×")) -> 敗
A11: う０６ | C11: =IF(A10="","",VLOOKUP(A10,登録No.!$A$3:$N$506,4,FALSE)) -> うさかめ | E11: =IF(A11="","",VLOOKUP(A11,登録No.!$A$3:$N$506,4,FALSE)) -> うさかめ | P11: =IF(G10="","ゲーム取得率",SUM(H10,K10)/SUM(G10:O10)) -> ゲーム取得率 | R11: 順位 | X11: =IF(V10="","",VLOOKUP(V10,登録No.!$A$3:$N$506,4,FALSE)) | Z11: =IF(V11="","",VLOOKUP(V11,登録No.!$A$3:$N$506,4,FALSE)) | AK11: =IF(AB10="","ゲーム取得率",SUM(AC10,AF10)/SUM(AB10:AJ10)) -> ゲーム取得率 | AM11: 順位
C13: ↓コート・集合時間（ひばり公園 外B 12：30までに本部に出席を届ける）
A14: 3人リーグ | C14: リーグ２ | G14: =C15 -> 辻 | H14: ・ | I14: =E15 -> 成宮 | J14: =C17 -> 松本 | K14: ・ | L14: =E17 -> 青木 | M14: =C19 -> 小西 | N14: ・ | O14: =E19 -> 坂本 | P14: 成績／順位 | V14: 3人リーグ | X14: 2位リーグ | AB14: =X15 | AC14: ・ | AD14: =Z15 | AE14: =X17 | AF14: ・ | AG14: =Z17 | AH14: =X19 | AI14: ・ | AJ14: =Z19 | AK14: 成績／順位
A15: う４２ | C15: =IF(A15="","",VLOOKUP(A15,登録No.!$A$3:$N$506,2,FALSE)) -> 辻 | E15: =IF(A16="","",VLOOKUP(A16,登録No.!$A$3:$N$506,2,FALSE)) -> 成宮 | J15: =IF(K15="","③",IF(K15>L15,"〇","×")) -> ③ | M15: =IF(N15="","②",IF(N15>O15,"〇","×")) -> ② | P15: =IF(K15="","勝",COUNTIF(G15:O15,"〇")) -> 勝 | R15: =IF(K15="","敗",COUNTIF(G15:O15,"×")) -> 敗 | X15: =IF(V15="","",VLOOKUP(V15,登録No.!$A$3:$N$506,2,FALSE)) | Z15: =IF(V16="","",VLOOKUP(V16,登録No.!$A$3:$N$506,2,FALSE)) | AE15: =IF(AF15="","③",IF(AF15>AG15,"〇","×")) -> ③ | AH15: =IF(AI15="","②",IF(AI15>AJ15,"〇","×")) -> ② | AK15: =IF(AF15="","勝",COUNTIF(AB15:AJ15,"〇")) -> 勝 | AM15: =IF(AF15="","敗",COUNTIF(AB15:AJ15,"×")) -> 敗
A16: ふ０４ | C16: =IF(A15="","",VLOOKUP(A15,登録No.!$A$3:$N$506,4,FALSE)) -> うさかめ | E16: =IF(A16="","",VLOOKUP(A16,登録No.!$A$3:$N$506,4,FALSE)) -> フレンズ | P16: =IF(K15="","ゲーム取得率",SUM(K15,N15)/SUM(G15:O15)) -> ゲーム取得率 | R16: 順位 | X16: =IF(V15="","",VLOOKUP(V15,登録No.!$A$3:$N$506,4,FALSE)) | Z16: =IF(V16="","",VLOOKUP(V16,登録No.!$A$3:$N$506,4,FALSE)) | AK16: =IF(AF15="","ゲーム取得率",SUM(AF15,AI15)/SUM(AB15:AJ15)) -> ゲーム取得率 | AM16: 順位
A17: あ２８ | C17: =IF(A17="","",VLOOKUP(A17,登録No.!$A$3:$N$506,2,FALSE)) -> 松本 | E17: =IF(A18="","",VLOOKUP(A18,登録No.!$A$3:$N$506,2,FALSE)) -> 青木 | G17: =IF(J15="③","",IF(J15="〇","×","〇")) | H17: =IF(L15="","",L15) | I17: =IF(K15="","",K15) | M17: =IF(N17="","①",IF(N17>O17,"〇","×")) -> ① | P17: =IF(G17="","勝",COUNTIF(G17:O17,"〇")) -> 勝 | R17: =IF(G17="","敗",COUNTIF(G17:O17,"×")) -> 敗 | X17: =IF(V17="","",VLOOKUP(V17,登録No.!$A$3:$N$506,2,FALSE)) | Z17: =IF(V18="","",VLOOKUP(V18,登録No.!$A$3:$N$506,2,FALSE)) | AB17: =IF(AE15="③","",IF(AE15="〇","×","〇")) | AC17: =IF(AG15="","",AG15) | AD17: =IF(AF15="","",AF15) | AH17: =IF(AI17="","①",IF(AI17>AJ17,"〇","×")) -> ① | AK17: =IF(AB17="","勝",COUNTIF(AB17:AJ17,"〇")) -> 勝 | AM17: =IF(AB17="","敗",COUNTIF(AB17:AJ17,"×")) -> 敗
A18: あ０１ | C18: =IF(A17="","",VLOOKUP(A17,登録No.!$A$3:$N$506,4,FALSE)) -> アビックBB | E18: =IF(A18="","",VLOOKUP(A18,登録No.!$A$3:$N$506,4,FALSE)) -> アビックBB | P18: =IF(H17="","ゲーム取得率",SUM(H17,N17)/SUM(G17:O17)) -> ゲーム取得率 | R18: 順位 | X18: =IF(V17="","",VLOOKUP(V17,登録No.!$A$3:$N$506,4,FALSE)) | Z18: =IF(V18="","",VLOOKUP(V18,登録No.!$A$3:$N$506,4,FALSE)) | AK18: =IF(AC17="","ゲーム取得率",SUM(AC17,AI17)/SUM(AB17:AJ17)) -> ゲーム取得率 | AM18: 順位
A19: あ３３ | C19: =IF(A19="","",VLOOKUP(A19,登録No.!$A$3:$N$506,2,FALSE)) -> 小西 | E19: 坂本 | G19: =IF(N15="","",IF(M15="〇","×","〇")) | H19: =IF(O15="","",O15) | I19: =IF(N15="","",N15) | J19: =IF(N17="","",IF(M17="〇","×","〇")) | K19: =IF(O17="","",O17) | L19: =IF(N17="","",N17) | P19: =IF(G19="","勝",COUNTIF(G19:O19,"〇")) -> 勝 | R19: =IF(G19="","敗",COUNTIF(G19:O19,"×")) -> 敗 | X19: =IF(V19="","",VLOOKUP(V19,登録No.!$A$3:$N$506,2,FALSE)) | Z19: =IF(V20="","",VLOOKUP(V20,登録No.!$A$3:$N$506,2,FALSE)) | AB19: =IF(AI15="","",IF(AH15="〇","×","〇")) | AC19: =IF(AJ15="","",AJ15) | AD19: =IF(AI15="","",AI15) | AE19: =IF(AI17="","",IF(AH17="〇","×","〇")) | AF19: =IF(AJ17="","",AJ17) | AG19: =IF(AI17="","",AI17) | AK19: =IF(AB19="","勝",COUNTIF(AB19:AJ19,"〇")) -> 勝 | AM19: =IF(AB19="","敗",COUNTIF(AB19:AJ19,"×")) -> 敗
C20: =IF(A19="","",VLOOKUP(A19,登録No.!$A$3:$N$506,4,FALSE)) -> アビックBB | E20: 一般 | P20: =IF(G19="","ゲーム取得率",SUM(H19,K19)/SUM(G19:O19)) -> ゲーム取得率 | R20: 順位 | X20: =IF(V19="","",VLOOKUP(V19,登録No.!$A$3:$N$506,4,FALSE)) | Z20: =IF(V20="","",VLOOKUP(V20,登録No.!$A$3:$N$506,4,FALSE)) | AK20: =IF(AB19="","ゲーム取得率",SUM(AC19,AF19)/SUM(AB19:AJ19)) -> ゲーム取得率 | AM20: 順位
C22: ↓コート・集合時間（ひばり公園 外C 12：30までに本部に出席を届ける）
A23: 3人リーグ | C23: リーグ３ | G23: =C24 -> 出縄 | H23: ・ | I23: =E24 -> 岡本 | J23: =C26 -> 大脇 | K23: ・ | L23: =E26 -> 山本 | M23: =C28 -> 彌山 | N23: ・ | O23: =E28 -> 岡川 | P23: 成績／順位 | V23: 3人リーグ | X23: 3位リーグ | AB23: =X24 | AC23: ・ | AD23: =Z24 | AE23: =X26 | AF23: ・ | AG23: =Z26 | AH23: =X28 | AI23: ・ | AJ23: =Z28 | AK23: 成績／順位
A24: ふ１９ | C24: =IF(A24="","",VLOOKUP(A24,登録No.!$A$3:$N$506,2,FALSE)) -> 出縄 | E24: =IF(A25="","",VLOOKUP(A25,登録No.!$A$3:$N$506,2,FALSE)) -> 岡本 | J24: =IF(K24="","③",IF(K24>L24,"〇","×")) -> ③ | M24: =IF(N24="","②",IF(N24>O24,"〇","×")) -> ② | P24: =IF(K24="","勝",COUNTIF(G24:O24,"〇")) -> 勝 | R24: =IF(K24="","敗",COUNTIF(G24:O24,"×")) -> 敗 | X24: =IF(V24="","",VLOOKUP(V24,登録No.!$A$3:$N$506,2,FALSE)) | Z24: =IF(V25="","",VLOOKUP(V25,登録No.!$A$3:$N$506,2,FALSE)) | AE24: =IF(AF24="","③",IF(AF24>AG24,"〇","×")) -> ③ | AH24: =IF(AI24="","②",IF(AI24>AJ24,"〇","×")) -> ② | AK24: =IF(AF24="","勝",COUNTIF(AB24:AJ24,"〇")) -> 勝 | AM24: =IF(AF24="","敗",COUNTIF(AB24:AJ24,"×")) -> 敗
A25: ふ０２ | C25: =IF(A24="","",VLOOKUP(A24,登録No.!$A$3:$N$506,4,FALSE)) -> フレンズ | E25: =IF(A25="","",VLOOKUP(A25,登録No.!$A$3:$N$506,4,FALSE)) -> フレンズ | P25: =IF(K24="","ゲーム取得率",SUM(K24,N24)/SUM(G24:O24)) -> ゲーム取得率 | R25: 順位 | X25: =IF(V24="","",VLOOKUP(V24,登録No.!$A$3:$N$506,4,FALSE)) | Z25: =IF(V25="","",VLOOKUP(V25,登録No.!$A$3:$N$506,4,FALSE)) | AK25: =IF(AF24="","ゲーム取得率",SUM(AF24,AI24)/SUM(AB24:AJ24)) -> ゲーム取得率 | AM25: 順位
A26: あ２４ | C26: =IF(A26="","",VLOOKUP(A26,登録No.!$A$3:$N$506,2,FALSE)) -> 大脇 | E26: =IF(A27="","",VLOOKUP(A27,登録No.!$A$3:$N$506,2,FALSE)) -> 山本 | G26: =IF(J24="③","",IF(J24="〇","×","〇")) | H26: =IF(L24="","",L24) | I26: =IF(K24="","",K24) | M26: =IF(N26="","①",IF(N26>O26,"〇","×")) -> ① | P26: =IF(G26="","勝",COUNTIF(G26:O26,"〇")) -> 勝 | R26: =IF(G26="","敗",COUNTIF(G26:O26,"×")) -> 敗 | X26: =IF(V26="","",VLOOKUP(V26,登録No.!$A$3:$N$506,2,FALSE)) | Z26: =IF(V27="","",VLOOKUP(V27,登録No.!$A$3:$N$506,2,FALSE)) | AB26: =IF(AE24="③","",IF(AE24="〇","×","〇")) | AC26: =IF(AG24="","",AG24) | AD26: =IF(AF24="","",AF24) | AH26: =IF(AI26="","①",IF(AI26>AJ26,"〇","×")) -> ① | AK26: =IF(AB26="","勝",COUNTIF(AB26:AJ26,"〇")) -> 勝 | AM26: =IF(AB26="","敗",COUNTIF(AB26:AJ26,"×")) -> 敗
A27: う１３ | C27: =IF(A26="","",VLOOKUP(A26,登録No.!$A$3:$N$506,4,FALSE)) -> アビックBB | E27: =IF(A27="","",VLOOKUP(A27,登録No.!$A$3:$N$506,4,FALSE)) -> うさかめ | P27: =IF(H26="","ゲーム取得率",SUM(H26,N26)/SUM(G26:O26)) -> ゲーム取得率 | R27: 順位 | X27: =IF(V26="","",VLOOKUP(V26,登録No.!$A$3:$N$506,4,FALSE)) | Z27: =IF(V27="","",VLOOKUP(V27,登録No.!$A$3:$N$506,4,FALSE)) | AK27: =IF(AC26="","ゲーム取得率",SUM(AC26,AI26)/SUM(AB26:AJ26)) -> ゲーム取得率 | AM27: 順位
C28: 彌山 | E28: =IF(A29="","",VLOOKUP(A29,登録No.!$A$3:$N$506,2,FALSE)) -> 岡川 | G28: =IF(N24="","",IF(M24="〇","×","〇")) | H28: =IF(O24="","",O24) | I28: =IF(N24="","",N24) | J28: =IF(N26="","",IF(M26="〇","×","〇")) | K28: =IF(O26="","",O26) | L28: =IF(N26="","",N26) | P28: =IF(G28="","勝",COUNTIF(G28:O28,"〇")) -> 勝 | R28: =IF(G28="","敗",COUNTIF(G28:O28,"×")) -> 敗 | X28: =IF(V28="","",VLOOKUP(V28,登録No.!$A$3:$N$506,2,FALSE)) | Z28: =IF(V29="","",VLOOKUP(V29,登録No.!$A$3:$N$506,2,FALSE)) | AB28: =IF(AI24="","",IF(AH24="〇","×","〇")) | AC28: =IF(AJ24="","",AJ24) | AD28: =IF(AI24="","",AI24) | AE28: =IF(AI26="","",IF(AH26="〇","×","〇")) | AF28: =IF(AJ26="","",AJ26) | AG28: =IF(AI26="","",AI26) | AK28: =IF(AB28="","勝",COUNTIF(AB28:AJ28,"〇")) -> 勝 | AM28: =IF(AB28="","敗",COUNTIF(AB28:AJ28,"×")) -> 敗
A29: あぷ１６ | C29: 一般 | E29: =IF(A29="","",VLOOKUP(A29,登録No.!$A$3:$N$506,4,FALSE)) -> アプストTC | P29: =IF(G28="","ゲーム取得率",SUM(H28,K28)/SUM(G28:O28)) -> ゲーム取得率 | R29: 順位 | X29: =IF(V28="","",VLOOKUP(V28,登録No.!$A$3:$N$506,4,FALSE)) | Z29: =IF(V29="","",VLOOKUP(V29,登録No.!$A$3:$N$506,4,FALSE)) | AK29: =IF(AB28="","ゲーム取得率",SUM(AC28,AF28)/SUM(AB28:AJ28)) -> ゲーム取得率 | AM29: 順位
A61: ↑ 印刷範囲

Sheet OV120
A1: 第22回 東近江市ミックスダブルス大会
A2: OV120 | J2: 試合形式（1セットマッチ（６－６タイブレーク）ノーアド方式）
C4: ↓コート・集合時間（ひばり公園 外D 8：45までに本部に出席を届ける）
A5: 4人リーグ | C5: リーグ | G5: =C6 -> 今井 | H5: ・ | I5: =E6 -> 池端 | J5: =C8 -> 日高 | K5: ・ | L5: =E8 -> 木村 | M5: =C10 -> 叶丸 | N5: ・ | O5: =E10 -> 今村 | P5: =C12 -> 梅田 | Q5: ・ | R5: =E12 -> 川上 | S5: 成績／順位
A6: う３６ | C6: =IF(A6="","",VLOOKUP(A6,登録No.!$A$3:$N$506,2,FALSE)) -> 今井 | E6: =IF(A7="","",VLOOKUP(A7,登録No.!$A$3:$N$506,2,FALSE)) -> 池端 | J6: =IF(K6="","⑥",IF(K6>L6,"〇","×")) -> ⑥ | M6: =IF(N6="","④",IF(N6>O6,"〇","×")) -> ④ | P6: =IF(Q6="","②",IF(Q6>R6,"〇","×")) -> ② | S6: =IF(K6="","勝",COUNTIF(G6:R6,"〇")) -> 勝 | U6: =IF(K6="","敗",COUNTIF(G6:R6,"×")) -> 敗
A7: ふ０８ | C7: =IF(A6="","",VLOOKUP(A6,登録No.!$A$3:$N$506,4,FALSE)) -> うさかめ | E7: =IF(A7="","",VLOOKUP(A7,登録No.!$A$3:$N$506,4,FALSE)) -> フレンズ | S7: =IF(K6="","ゲーム取得率",SUM(K6,N6,Q6)/SUM(J6:R6)) -> ゲーム取得率 | U7: 順位
A8: あぷ０９ | C8: =IF(A8="","",VLOOKUP(A8,登録No.!$A$3:$N$506,2,FALSE)) -> 日高 | E8: 木村 | G8: =IF(J6="⑥","",IF(J6="〇","×","〇")) | H8: =IF(L6="","",L6) | I8: =IF(K6="","",K6) | M8: =IF(N8="","①",IF(N8>O8,"〇","×")) -> ① | P8: =IF(Q8="","③",IF(Q8>R8,"〇","×")) -> ③ | S8: =IF(G8="","勝",COUNTIF(G8:R8,"〇")) -> 勝 | U8: =IF(G8="","敗",COUNTIF(G8:R8,"×")) -> 敗
C9: =IF(A8="","",VLOOKUP(A8,登録No.!$A$3:$N$506,4,FALSE)) -> アプストTC | E9: 一般 | S9: =IF(G8="","ゲーム取得率",SUM(H8,N8,Q8)/SUM(G8:R8)) -> ゲーム取得率 | U9: 順位
A10: あ３５ | C10: =IF(A10="","",VLOOKUP(A10,登録No.!$A$3:$N$506,2,FALSE)) -> 叶丸 | E10: 今村 | G10: =IF(M6="④","",IF(M6="〇","×","〇")) | H10: =IF(O6="","",O6) | I10: =IF(N6="","",N6) | J10: =IF(M8="①","",IF(M8="〇","×","〇")) | K10: =IF(O8="","",O8) | L10: =IF(N8="","",N8) | P10: =IF(Q10="","⑤",IF(Q10>R10,"〇","×")) -> ⑤ | S10: =IF(K10="","勝",COUNTIF(G10:R10,"〇")) -> 勝 | U10: =IF(J10="","敗",COUNTIF(G10:R10,"×")) -> 敗
C11: =IF(A10="","",VLOOKUP(A10,登録No.!$A$3:$N$506,4,FALSE)) -> アビックBB | E11: 一般 | S11: =IF(G10="","ゲーム取得率",SUM(H10,K10,Q10)/SUM(G10:R10)) -> ゲーム取得率 | U11: 順位
A12: う４０ | C12: =IF(A12="","",VLOOKUP(A12,登録No.!$A$3:$N$506,2,FALSE)) -> 梅田 | E12: =IF(A13="","",VLOOKUP(A13,登録No.!$A$3:$N$506,2,FALSE)) -> 川上 | G12: =IF(P6="②","",IF(P6="〇","×","〇")) | H12: =IF(R6="","",R6) | I12: =IF(Q6="","",Q6) | J12: =IF(P8="③","",IF(P8="〇","×","〇")) | K12: =IF(R8="","",R8) | L12: =IF(Q8="","",Q8) | M12: =IF(P10="⑤","",IF(P10="〇","×","〇")) | N12: =IF(R10="","",R10) | O12: =IF(Q10="","",Q10) | S12: =IF(J12="","勝",COUNTIF(G12:R12,"〇")) -> 勝 | U12: =IF(J12="","敗",COUNTIF(G12:R12,"×")) -> 敗
A13: あぷ０２ | C13: =IF(A12="","",VLOOKUP(A12,登録No.!$A$3:$N$506,4,FALSE)) -> うさかめ | E13: =IF(A13="","",VLOOKUP(A13,登録No.!$A$3:$N$506,4,FALSE)) -> アプストTC | S13: =IF(G12="","ゲーム取得率",SUM(H12,K12,N12)/SUM(G12:O12)) -> ゲーム取得率 | U13: 順位

Sheet OV140
A1: 第22回 東近江市ミックスダブルス大会
A2: OV140 | J2: 試合形式（５ゲーム先取 ノーアド方式）
C4: ↓コート・集合時間（ひばり公園 ドームAB 8：45までに本部に出席を届ける）
A5: 4人リーグ | C5: リーグ | G5: =C6 -> 小林 | H5: ・ | I5: =E6 -> 油利 | J5: =C8 -> 吉岡 | K5: ・ | L5: =E8 -> 清水 | M5: =C10 -> 牧村 | N5: ・ | O5: =E10 -> 岩本 | P5: =C12 -> 前田 | Q5: ・ | R5: =E12 -> 平岩 | S5: 成績／順位
A6: ひ２４ | C6: =IF(A6="","",VLOOKUP(A6,登録No.!$A$3:$N$506,2,FALSE)) -> 小林 | E6: =IF(A7="","",VLOOKUP(A7,登録No.!$A$3:$N$506,2,FALSE)) -> 油利 | J6: =IF(K6="","⑥",IF(K6>L6,"〇","×")) -> ⑥ | M6: =IF(N6="","④",IF(N6>O6,"〇","×")) -> ④ | P6: =IF(Q6="","②",IF(Q6>R6,"〇","×")) -> ② | S6: =IF(K6="","勝",COUNTIF(G6:R6,"〇")) -> 勝 | U6: =IF(K6="","敗",COUNTIF(G6:R6,"×")) -> 敗
A7: ひ２７ | C7: =IF(A6="","",VLOOKUP(A6,登録No.!$A$3:$N$506,4,FALSE)) -> 湖東シニア東近江 | E7: =IF(A7="","",VLOOKUP(A7,登録No.!$A$3:$N$506,4,FALSE)) -> 湖東シニア東近江 | S7: =IF(K6="","ゲーム取得率",SUM(K6,N6,Q6)/SUM(J6:R6)) -> ゲーム取得率 | U7: 順位
A8: ふ２０ | C8: =IF(A8="","",VLOOKUP(A8,登録No.!$A$3:$N$506,2,FALSE)) -> 吉岡 | E8: =IF(A9="","",VLOOKUP(A9,登録No.!$A$3:$N$506,2,FALSE)) -> 清水 | G8: =IF(J6="⑥","",IF(J6="〇","×","〇")) | H8: =IF(L6="","",L6) | I8: =IF(K6="","",K6) | M8: =IF(N8="","①",IF(N8>O8,"〇","×")) -> ① | P8: =IF(Q8="","③",IF(Q8>R8,"〇","×")) -> ③ | S8: =IF(G8="","勝",COUNTIF(G8:R8,"〇")) -> 勝 | U8: =IF(G8="","敗",COUNTIF(G8:R8,"×")) -> 敗
A9: ふ１１ | C9: =IF(A8="","",VLOOKUP(A8,登録No.!$A$3:$N$506,4,FALSE)) -> フレンズ | E9: =IF(A9="","",VLOOKUP(A9,登録No.!$A$3:$N$506,4,FALSE)) -> フレンズ | S9: =IF(G8="","ゲーム取得率",SUM(H8,N8,Q8)/SUM(G8:R8)) -> ゲーム取得率 | U9: 順位
A10: ぷ１８ | C10: =IF(A10="","",VLOOKUP(A10,登録No.!$A$3:$N$506,2,FALSE)) -> 牧村 | E10: 岩本 | G10: =IF(M6="④","",IF(M6="〇","×","〇")) | H10: =IF(O6="","",O6) | I10: =IF(N6="","",N6) | J10: =IF(M8="①","",IF(M8="〇","×","〇")) | K10: =IF(O8="","",O8) | L10: =IF(N8="","",N8) | P10: =IF(Q10="","⑤",IF(Q10>R10,"〇","×")) -> ⑤ | S10: =IF(K10="","勝",COUNTIF(G10:R10,"〇")) -> 勝 | U10: =IF(J10="","敗",COUNTIF(G10:R10,"×")) -> 敗
C11: =IF(A10="","",VLOOKUP(A10,登録No.!$A$3:$N$506,4,FALSE)) -> プラチナＴＣ | E11: 一般 | S11: =IF(G10="","ゲーム取得率",SUM(H10,K10,Q10)/SUM(G10:R10)) -> ゲーム取得率 | U11: 順位
A12: ひ２３ | C12: =IF(A12="","",VLOOKUP(A12,登録No.!$A$3:$N$506,2,FALSE)) -> 前田 | E12: =IF(A13="","",VLOOKUP(A13,登録No.!$A$3:$N$506,2,FALSE)) -> 平岩 | G12: =IF(P6="②","",IF(P6="〇","×","〇")) | H12: =IF(R6="","",R6) | I12: =IF(Q6="","",Q6) | J12: =IF(P8="③","",IF(P8="〇","×","〇")) | K12: =IF(R8="","",R8) | L12: =IF(Q8="","",Q8) | M12: =IF(P10="⑤","",IF(P10="〇","×","〇")) | N12: =IF(R10="","",R10) | O12: =IF(Q10="","",Q10) | S12: =IF(J12="","勝",COUNTIF(G12:R12,"〇")) -> 勝 | U12: =IF(J12="","敗",COUNTIF(G12:R12,"×")) -> 敗
A13: ひ１６ | C13: =IF(A12="","",VLOOKUP(A12,登録No.!$A$3:$N$506,4,FALSE)) -> 湖東シニア東近江 | E13: =IF(A13="","",VLOOKUP(A13,登録No.!$A$3:$N$506,4,FALSE)) -> 湖東シニア東近江 | S13: =IF(G12="","ゲーム取得率",SUM(H12,K12,N12)/SUM(G12:O12)) -> ゲーム取得率 | U13: 順位
C15: ↓コート・集合時間（ひばり公園 ドームAB 8：45までに本部に出席を届ける）
A16: 4人リーグ | C16: リーグ | G16: =C17 -> 福永 | H16: ・ | I16: =E17 -> 吉田 | J16: =C19 -> 村田 | K16: ・ | L16: =E19 -> 片岡 | M16: =C21 -> 中村 | N16: ・ | O16: =E21 -> 谷口 | P16: =C23 -> 井田 | Q16: ・ | R16: =E23 -> 竹中 | S16: 成績／順位
A17: け０６ | C17: =IF(A17="","",VLOOKUP(A17,登録No.!$A$3:$N$506,2,FALSE)) -> 福永 | E17: =IF(A18="","",VLOOKUP(A18,登録No.!$A$3:$N$506,2,FALSE)) -> 吉田 | J17: =IF(K17="","⑥",IF(K17>L17,"〇","×")) -> ⑥ | M17: =IF(N17="","④",IF(N17>O17,"〇","×")) -> ④ | P17: =IF(Q17="","②",IF(Q17>R17,"〇","×")) -> ② | S17: =IF(K17="","勝",COUNTIF(G17:R17,"〇")) -> 勝 | U17: =IF(K17="","敗",COUNTIF(G17:R17,"×")) -> 敗
A18: ぷ０１ | C18: =IF(A17="","",VLOOKUP(A17,登録No.!$A$3:$N$506,4,FALSE)) -> Kテニス | E18: =IF(A18="","",VLOOKUP(A18,登録No.!$A$3:$N$506,4,FALSE)) -> プラチナＴＣ | S18: =IF(K17="","ゲーム取得率",SUM(K17,N17,Q17)/SUM(J17:R17)) -> ゲーム取得率 | U18: 順位
C19: 村田 | E19: =IF(A20="","",VLOOKUP(A20,登録No.!$A$3:$N$506,2,FALSE)) -> 片岡 | G19: =IF(J17="⑥","",IF(J17="〇","×","〇")) | H19: =IF(L17="","",L17) | I19: =IF(K17="","",K17) | M19: =IF(N19="","①",IF(N19>O19,"〇","×")) -> ① | P19: =IF(Q19="","③",IF(Q19>R19,"〇","×")) -> ③ | S19: =IF(G19="","勝",COUNTIF(G19:R19,"〇")) -> 勝 | U19: =IF(G19="","敗",COUNTIF(G19:R19,"×")) -> 敗
A20: ひ０６ | C20: 一般 | E20: =IF(A20="","",VLOOKUP(A20,登録No.!$A$3:$N$506,4,FALSE)) -> 湖東シニア東近江 | S20: =IF(G19="","ゲーム取得率",SUM(H19,N19,Q19)/SUM(G19:R19)) -> ゲーム取得率 | U20: 順位
A21: ひ１３ | C21: =IF(A21="","",VLOOKUP(A21,登録No.!$A$3:$N$506,2,FALSE)) -> 中村 | E21: =IF(A22="","",VLOOKUP(A22,登録No.!$A$3:$N$506,2,FALSE)) -> 谷口 | G21: =IF(M17="④","",IF(M17="〇","×","〇")) | H21: =IF(O17="","",O17) | I21: =IF(N17="","",N17) | J21: =IF(M19="①","",IF(M19="〇","×","〇")) | K21: =IF(O19="","",O19) | L21: =IF(N19="","",N19) | P21: =IF(Q21="","⑤",IF(Q21>R21,"〇","×")) -> ⑤ | S21: =IF(K21="","勝",COUNTIF(G21:R21,"〇")) -> 勝 | U21: =IF(J21="","敗",COUNTIF(G21:R21,"×")) -> 敗
A22: ぷ１１ | C22: =IF(A21="","",VLOOKUP(A21,登録No.!$A$3:$N$506,4,FALSE)) -> 湖東シニア東近江 | E22: =IF(A22="","",VLOOKUP(A22,登録No.!$A$3:$N$506,4,FALSE)) -> プラチナＴＣ | S22: =IF(G21="","ゲーム取得率",SUM(H21,K21,Q21)/SUM(G21:R21)) -> ゲーム取得率 | U22: 順位
A23: ひ１７ | C23: =IF(A23="","",VLOOKUP(A23,登録No.!$A$3:$N$506,2,FALSE)) -> 井田 | E23: =IF(A24="","",VLOOKUP(A24,登録No.!$A$3:$N$506,2,FALSE)) -> 竹中 | G23: =IF(P17="②","",IF(P17="〇","×","〇")) | H23: =IF(R17="","",R17) | I23: =IF(Q17="","",Q17) | J23: =IF(P19="③","",IF(P19="〇","×","〇")) | K23: =IF(R19="","",R19) | L23: =IF(Q19="","",Q19) | M23: =IF(P21="⑤","",IF(P21="〇","×","〇")) | N23: =IF(R21="","",R21) | O23: =IF(Q21="","",Q21) | S23: =IF(J23="","勝",COUNTIF(G23:R23,"〇")) -> 勝 | U23: =IF(J23="","敗",COUNTIF(G23:R23,"×")) -> 敗
A24: ひ０１ | C24: =IF(A23="","",VLOOKUP(A23,登録No.!$A$3:$N$506,4,FALSE)) -> 湖東シニア東近江 | E24: =IF(A24="","",VLOOKUP(A24,登録No.!$A$3:$N$506,4,FALSE)) -> 湖東シニア東近江 | S24: =IF(G23="","ゲーム取得率",SUM(H23,K23,N23)/SUM(G23:O23)) -> ゲーム取得率 | U24: 順位
L26: 勝者
E27: リーグ1・1位 | L27: 結果 | R27: リーグ2・1位
H29: ① | J29: 勝者 | N29: 勝者 | P29: ②
J30: 結果 | L30: ③ | N30: 結果
E31: リーグ2・2位 | R31: リーグ1・2位
A61: ↑ 印刷範囲

Sheet OOP
A1: オーダーオブプレイ
B2: ひばり公園 | H2: すこやかの杜
B3: 外A | C3: 外B | D3: 外C | E3: 外D | F3: ドームA | G3: ドームB | H3: 駐車場側 | I3: 奥側
A4: 0.375 | B4: A級1 | C4: A級2 | D4: B級1 | E4: OV120-1 | F4: OV140_1-1 | G4: OV140_1-2
A5: 0.40277778 | B5: A級3 | C5: A級4 | D5: B級2 | E5: OV120-2 | F5: OV140_2-1 | G5: OV140_2-2
A6: 0.43055556 | B6: A級5 | C6: A級6 | D6: B級3 | E6: OV120-3 | F6: OV140_1-3 | G6: OV140_1-4
A7: 0.45833333 | B7: A級7 | C7: A級8 | D7: B級4 | E7: OV120-4 | F7: OV140_2-3 | G7: OV140_2-4
A8: 0.48611111 | B8: A級9 | C8: A級10 | D8: B級5 | E8: OV120-5 | F8: OV140_1-5 | G8: OV140_1-6
A9: 0.51388889 | D9: B級6 | E9: OV120-6 | F9: OV140_2-5 | G9: OV140_2-6
A10: 0.54166667 | B10: OV100-1-1 | C10: OV100-2-1 | D10: OV100-3-1 | F10: 各リーグ1,2位写真撮影
A11: 0.56944444 | B11: OV100-1-2 | C11: OV100-2-2 | D11: OV100-3-2 | F11: OV140決勝T① | G11: OV140決勝T②
A12: 0.59722222 | B12: OV100-1-3 | C12: OV100-2-3 | D12: OV100-3-3 | F12: OV140_決勝 | G12: OV140_３決
A13: 0.625 | B13: OV100-1位-1 | C13: OV100-2位-1 | D13: OV100-3位-1
A14: 0.65277778 | B14: OV100-1位-2 | C14: OV100-2位-2 | D14: OV100-3位-2
A15: 0.68055556 | B15: OV100-1位-3 | C15: OV100-2位-3 | D15: OV100-3位-3
A16: 0.70833333 | B16: 終わり次第 オープンコート
A17: 0.73611111
A18: 0.75

Sheet 登録No.
B1: ２０２６年度東近江市テニス協会登録ナンバー | I1: 46264
B3: 1 | D3: ３８人
A4: あ０１ | B4: 青木 | C4: 重之 | D4: アビックBB | F4: =A4 -> あ０１ | G4: =B4&C4 -> 青木重之 | H4: =D4 -> アビックBB | I4: 男 | J4: 1971 | K4: =IF(J4="","",(2026-J4)) -> 55 | L4: =IF(G4="","",IF(COUNTIF($G$4:$G$104,G4)>1,"2重登録","OK")) -> OK | M4: 草津市
A5: あ０２ | B5: 西川 | C5: 昌一 | D5: アビックBB | F5: =A5 -> あ０２ | G5: =B5&C5 -> 西川昌一 | H5: =D5 -> アビックBB | I5: 男 | J5: 1970 | K5: =IF(J5="","",(2026-J5)) -> 56 | L5: =IF(G5="","",IF(COUNTIF($G$4:$G$104,G5)>1,"2重登録","OK")) -> OK | M5: 彦根市
A6: あ０３ | B6: 安達 | C6: 隆一 | D6: アビックBB | F6: =A6 -> あ０３ | G6: =B6&C6 -> 安達隆一 | H6: =D6 -> アビックBB | I6: 男 | J6: 1970 | K6: =IF(J6="","",(2026-J6)) -> 56 | L6: =IF(G6="","",IF(COUNTIF($G$4:$G$104,G6)>1,"2重登録","OK")) -> OK | M6: 甲賀市
A7: あ０４ | B7: 上原 | C7: 義弘 | D7: アビックBB | F7: =A7 -> あ０４ | G7: =B7&C7 -> 上原義弘 | H7: =D7 -> アビックBB | I7: 男 | J7: 1974 | K7: =IF(J7="","",(2026-J7)) -> 52 | L7: =IF(G7="","",IF(COUNTIF($G$4:$G$104,G7)>1,"2重登録","OK")) -> OK | M7: 彦根市
A8: あ０５ | B8: 寺村 | C8: 浩一 | D8: アビックBB | F8: =A8 -> あ０５ | G8: =B8&C8 -> 寺村浩一 | H8: =D8 -> アビックBB | I8: 男 | J8: 1968 | K8: =IF(J8="","",(2026-J8)) -> 58 | L8: =IF(G8="","",IF(COUNTIF($G$4:$G$104,G8)>1,"2重登録","OK")) -> OK | M8: 愛荘町
A9: あ０６ | B9: 平居 | C9: 崇 | D9: アビックBB | F9: =A9 -> あ０６ | G9: =B9&C9 -> 平居崇 | H9: =D9 -> アビックBB | I9: 男 | J9: 1972 | K9: =IF(J9="","",(2026-J9)) -> 54 | L9: =IF(G9="","",IF(COUNTIF($G$4:$G$104,G9)>1,"2重登録","OK")) -> OK | M9: 多賀町
A10: あ０７ | B10: 大林 | C10: 弘典 | D10: アビックBB | F10: =A10 -> あ０７ | G10: =B10&C10 -> 大林弘典 | H10: =D10 -> アビックBB | I10: 男 | J10: 1989 | K10: =IF(J10="","",(2026-J10)) -> 37 | L10: =IF(G10="","",IF(COUNTIF($G$4:$G$104,G10)>1,"2重登録","OK")) -> OK | M10: 長浜市
A11: あ０８ | B11: 福嶋 | C11: 亮 | D11: アビックBB | F11: =A11 -> あ０８ | G11: =B11&C11 -> 福嶋亮 | H11: =D11 -> アビックBB | I11: 男 | J11: 1961 | K11: =IF(J11="","",(2026-J11)) -> 65 | L11: =IF(G11="","",IF(COUNTIF($G$4:$G$104,G11)>1,"2重登録","OK")) -> OK | M11: 岐阜県
A12: あ０９ | B12: 落合 | C12: 良弘 | D12: アビックBB | F12: =A12 -> あ０９ | G12: =B12&C12 -> 落合良弘 | H12: =D12 -> アビックBB | I12: 男 | J12: 1968 | K12: =IF(J12="","",(2026-J12)) -> 58 | L12: =IF(G12="","",IF(COUNTIF($G$4:$G$104,G12)>1,"2重登録","OK")) -> OK | M12: 長浜市
A13: あ１０ | B13: 松井 | C13: 傳樹 | D13: アビックBB | F13: =A13 -> あ１０ | G13: =B13&C13 -> 松井傳樹 | H13: =D13 -> アビックBB | I13: 男 | J13: 1987 | K13: =IF(J13="","",(2026-J13)) -> 39 | L13: =IF(G13="","",IF(COUNTIF($G$4:$G$104,G13)>1,"2重登録","OK")) -> OK | M13: 彦根市
A14: あ１１ | B14: 長谷川 | C14: 優 | D14: アビックBB | F14: =A14 -> あ１１ | G14: =B14&C14 -> 長谷川優 | H14: =D14 -> アビックBB | I14: 男 | J14: 1973 | K14: =IF(J14="","",(2026-J14)) -> 53 | L14: =IF(G14="","",IF(COUNTIF($G$4:$G$104,G14)>1,"2重登録","OK")) -> OK | M14: 甲賀市
A15: あ１２ | B15: 草野 | C15: 活地 | D15: アビックBB | F15: =A15 -> あ１２ | G15: =B15&C15 -> 草野活地 | H15: =D15 -> アビックBB | I15: 男 | J15: 1974 | K15: =IF(J15="","",(2026-J15)) -> 52 | L15: =IF(G15="","",IF(COUNTIF($G$4:$G$104,G15)>1,"2重登録","OK")) -> OK | M15: 草津市
... A23: あ２０ | B23: 坪井 | C23: 徳寿 | D23: アビックBB | F23: =A23 -> あ２０ | G23: =B23&C23 -> 坪井徳寿 | H23: =D23 -> アビックBB | I23: 男 | J23: 1979 | K23: =IF(J23="","",(2026-J23)) -> 47 | L23: =IF(G23="","",IF(COUNTIF($G$4:$G$104,G23)>1,"2重登録","OK")) -> OK | M23: 草津市
A24: あ２１ | B24: 辻村 | C24: 惣一 | D24: アビックBB | E24: ｓｅ | F24: =A24 -> あ２１ | G24: =B24&C24 -> 辻村惣一 | H24: =D24 -> アビックBB | I24: 男 | J24: 1953 | K24: =IF(J24="","",(2026-J24)) -> 73 | L24: =IF(G24="","",IF(COUNTIF($G$4:$G$104,G24)>1,"2重登録","OK")) -> OK | M24: 長浜市
A25: あ２２ | B25: 槇田 | C25: 学 | D25: アビックBB | F25: =A25 -> あ２２ | G25: =B25&C25 -> 槇田学 | H25: =D25 -> アビックBB | I25: 男 | J25: 1965 | K25: =IF(J25="","",(2026-J25)) -> 61 | L25: =IF(G25="","",IF(COUNTIF($G$4:$G$104,G25)>1,"2重登録","OK")) -> OK | M25: 彦根市
A26: あ２３ | B26: 武久 | C26: 真也 | D26: アビックBB | F26: =A26 -> あ２３ | G26: =B26&C26 -> 武久真也 | H26: =D26 -> アビックBB | I26: 男 | J26: 1982 | K26: =IF(J26="","",(2026-J26)) -> 44 | L26: =IF(G26="","",IF(COUNTIF($G$4:$G$104,G26)>1,"2重登録","OK")) -> OK | M26: 近江八幡市
A27: あ２４ | B27: 大脇 | C27: 和世 | D27: アビックBB | F27: =A27 -> あ２４ | G27: =B27&C27 -> 大脇和世 | H27: =D27 -> アビックBB | I27: 女 | J27: 1970 | K27: =IF(J27="","",(2026-J27)) -> 56 | L27: =IF(G27="","",IF(COUNTIF($G$4:$G$104,G27)>1,"2重登録","OK")) -> OK | M27: 愛荘町
A28: あ２５ | B28: 西山 | C28: 抄千代 | D28: アビックBB | F28: =A28 -> あ２５ | G28: =B28&C28 -> 西山抄千代 | H28: =D28 -> アビックBB | I28: 女 | J28: 1972 | K28: =IF(J28="","",(2026-J28)) -> 54 | L28: =IF(G28="","",IF(COUNTIF($G$4:$G$104,G28)>1,"2重登録","OK")) -> OK | M28: 米原市
A29: あ２６ | B29: 齋田 | C29: 優子 | D29: アビックBB | F29: =A29 -> あ２６ | G29: =B29&C29 -> 齋田優子 | H29: =D29 -> アビックBB | I29: 女 | J29: 1983 | K29: =IF(J29="","",(2026-J29)) -> 43 | L29: =IF(G29="","",IF(COUNTIF($G$4:$G$104,G29)>1,"2重登録","OK")) -> OK | M29: 長浜市
A30: あ２７ | B30: 中村 | C30: 紗映子 | D30: アビックBB | F30: =A30 -> あ２７ | G30: =B30&C30 -> 中村紗映子 | H30: =D30 -> アビックBB | I30: 女 | J30: 1983 | K30: =IF(J30="","",(2026-J30)) -> 43 | L30: =IF(G30="","",IF(COUNTIF($G$4:$G$104,G30)>1,"2重登録","OK")) -> OK | M30: 長浜市
A31: あ２８ | B31: 松本 | C31: 光美 | D31: アビックBB | F31: =A31 -> あ２８ | G31: =B31&C31 -> 松本光美 | H31: =D31 -> アビックBB | I31: 女 | J31: 1971 | K31: =IF(J31="","",(2026-J31)) -> 55 | L31: =IF(G31="","",IF(COUNTIF($G$4:$G$104,G31)>1,"2重登録","OK")) -> OK | M31: 草津市
A32: あ２９ | B32: 堅田 | C32: 瑞木 | D32: アビックBB | F32: =A32 -> あ２９ | G32: =B32&C32 -> 堅田瑞木 | H32: =D32 -> アビックBB | I32: 女 | J32: 1996 | K32: =IF(J32="","",(2026-J32)) -> 30 | L32: =IF(G32="","",IF(COUNTIF($G$4:$G$104,G32)>1,"2重登録","OK")) -> OK | M32: 京都府
A33: あ３０ | B33: 堀田 | C33: 明子 | D33: アビックBB | F33: =A33 -> あ３０ | G33: =B33&C33 -> 堀田明子 | H33: =D33 -> アビックBB | I33: 女 | J33: 1970 | K33: =IF(J33="","",(2026-J33)) -> 56 | L33: =IF(G33="","",IF(COUNTIF($G$4:$G$104,G33)>1,"2重登録","OK")) -> OK | M33: 東近江市
A34: あ３１ | B34: 佐野 | C34: 直美 | D34: アビックBB | F34: =A34 -> あ３１ | G34: =B34&C34 -> 佐野直美 | H34: =D34 -> アビックBB | I34: 女 | J34: 1975 | K34: =IF(J34="","",(2026-J34)) -> 51 | L34: =IF(G34="","",IF(COUNTIF($G$4:$G$104,G34)>1,"2重登録","OK")) -> OK | M34: 京都府
A35: あ３２ | B35: 千代 | C35: 美由紀 | D35: アビックBB | F35: =A35 -> あ３２ | G35: =B35&C35 -> 千代美由紀 | H35: =D35 -> アビックBB | I35: 女 | J35: 1972 | K35: =IF(J35="","",(2026-J35)) -> 54 | L35: =IF(G35="","",IF(COUNTIF($G$4:$G$104,G35)>1,"2重登録","OK")) -> OK | M35: 京都府
A36: あ３３ | B36: 小西 | C36: 由美子 | D36: アビックBB | F36: =A36 -> あ３３ | G36: =B36&C36 -> 小西由美子 | H36: =D36 -> アビックBB | I36: 女 | J36: 1968 | K36: =IF(J36="","",(2026-J36)) -> 58 | L36: =IF(G36="","",IF(COUNTIF($G$4:$G$104,G36)>1,"2重登録","OK")) -> OK | M36: 近江八幡市
... A42: あ３９ | B42: 谷崎 | C42: 真也 | D42: アビックBB | F42: =A42 -> あ３９ | G42: =B42&C42 -> 谷崎真也 | H42: =D42 -> アビックBB | I42: 男 | J42: 1972 | K42: =IF(J42="","",(2026-J42)) -> 54 | L42: =IF(G42="","",IF(COUNTIF($G$4:$G$104,G42)>1,"2重登録","OK")) -> OK | M42: 甲賀市
B43: 2 | D43: ３２人 | K43: =IF(J43="","",(2026-J43))
A44: あぷ０１ | B44: 杉山 | C44: 邦夫 | D44: アプストTC | E44: ｓｅ | F44: =A44 -> あぷ０１ | G44: =B44&C44 -> 杉山邦夫 | H44: =D44 -> アプストTC | I44: 男 | J44: 1950 | K44: =IF(J44="","",(2026-J44)) -> 76 | L44: =IF(G44="","",IF(COUNTIF($G$4:$G$112,G44)>1,"2重登録","OK")) -> OK | M44: 多賀町
A45: あぷ０２ | B45: 川上 | C45: 英二 | D45: アプストTC | F45: =A45 -> あぷ０２ | G45: =B45&C45 -> 川上英二 | H45: =D45 -> アプストTC | I45: 男 | J45: 1963 | K45: =IF(J45="","",(2026-J45)) -> 63 | L45: =IF(G45="","",IF(COUNTIF($G$4:$G$112,G45)>1,"2重登録","OK")) -> OK | M45: 東近江市
A46: あぷ０３ | B46: 浅田 | C46: 隆昭 | D46: アプストTC | F46: =A46 -> あぷ０３ | G46: =B46&C46 -> 浅田隆昭 | H46: =D46 -> アプストTC | I46: 男 | J46: 1964 | K46: =IF(J46="","",(2026-J46)) -> 62 | L46: =IF(G46="","",IF(COUNTIF($G$4:$G$112,G46)>1,"2重登録","OK")) -> OK | M46: 守山市
A47: あぷ０４ | B47: 森永 | C47: 洋介 | D47: アプストTC | F47: =A47 -> あぷ０４ | G47: =B47&C47 -> 森永洋介 | H47: =D47 -> アプストTC | I47: 男 | J47: 1986 | K47: =IF(J47="","",(2026-J47)) -> 40 | L47: =IF(G47="","",IF(COUNTIF($G$4:$G$112,G47)>1,"2重登録","OK")) -> OK | M47: 近江八幡市
A48: あぷ０５ | B48: 辰巳 | C48: 悟朗 | D48: アプストTC | F48: =A48 -> あぷ０５ | G48: =B48&C48 -> 辰巳悟朗 | H48: =D48 -> アプストTC | I48: 男 | J48: 1974 | K48: =IF(J48="","",(2026-J48)) -> 52 | L48: =IF(G48="","",IF(COUNTIF($G$4:$G$112,G48)>1,"2重登録","OK")) -> OK | M48: 彦根市
A49: あぷ０６ | B49: 川上 | C49: 美弥子 | D49: アプストTC | F49: =A49 -> あぷ０６ | G49: =B49&C49 -> 川上美弥子 | H49: =D49 -> アプストTC | I49: 女 | J49: 1971 | K49: =IF(J49="","",(2026-J49)) -> 55 | L49: =IF(G49="","",IF(COUNTIF($G$4:$G$112,G49)>1,"2重登録","OK")) -> OK | M49: 東近江市
A50: あぷ０７ | B50: 山内 | C50: 雄平 | D50: アプストTC | F50: =A50 -> あぷ０７ | G50: =B50&C50 -> 山内雄平 | H50: =D50 -> アプストTC | I50: 男 | J50: 1989 | K50: =IF(J50="","",(2026-J50)) -> 37 | L50: =IF(G50="","",IF(COUNTIF($G$4:$G$112,G50)>1,"2重登録","OK")) -> OK | M50: 東近江市
A51: あぷ０８ | B51: 木村 | C51: 美香 | D51: アプストTC | F51: =A51 -> あぷ０８ | G51: =B51&C51 -> 木村美香 | H51: =D51 -> アプストTC | I51: 女 | J51: 1962 | K51: =IF(J51="","",(2026-J51)) -> 64 | L51: =IF(G51="","",IF(COUNTIF($G$4:$G$112,G51)>1,"2重登録","OK")) -> OK | M51: 米原市
A52: あぷ０９ | B52: 日高 | C52: 眞規子 | D52: アプストTC | F52: =A52 -> あぷ０９ | G52: =B52&C52 -> 日高眞規子 | H52: =D52 -> アプストTC | I52: 女 | J52: 1963 | K52: =IF(J52="","",(2026-J52)) -> 63 | L52: =IF(G52="","",IF(COUNTIF($G$4:$G$112,G52)>1,"2重登録","OK")) -> OK | M52: 長浜市
A53: あぷ１０ | B53: 長谷出 | C53: 浩 | D53: アプストTC | F53: =A53 -> あぷ１０ | G53: =B53&C53 -> 長谷出浩 | H53: =D53 -> アプストTC | I53: 男 | J53: 1960 | K53: =IF(J53="","",(2026-J53)) -> 66 | L53: =IF(G53="","",IF(COUNTIF($G$4:$G$112,G53)>1,"2重登録","OK")) -> OK | M53: 東近江市
...
