Workbook

Sheet 要項
B2: 第22回 東近江市秋季ダブルス大会要項
B5: 日 時: | C5: 2026年11月01日（日） ※小雨決行
B6: 主 催: | C6: 東近江テニス協会 （担当クラブ：東近江グリフィンズ）
B7: 会 場: | C7: ひばり公園テニスコート、すこやかの杜テニスコート（全て砂入り人工芝）
B8: 試合時間: | C8: 集合 ８：４５ 試合開始 ９：15～
B9: 参加費用： | C9: :協会員 1,000円/人 非協会員 2,000円/人 高校生以下 500円/人
C10: ※当日払いは 500円アップになります
B12: 種 目: | C12: 男子A級・男子B級・男子Ｃ級・over55
C13: 女子A級・女子B級・女子Ｃ級・over55
C14: ※over55は二人とも今年で55才以上になる方
B16: 参加資格: | C16: A級・OV55はオープン
C17: B級 C級は、東近江市テニス協会員（2026年9月末までの登録）のみ
B21: 試合方法: | C21: １セットマッチ ６－６タイブレーク(ノーアドバンテージ)
C22: ※申し込み状況により変更あり
B24: 申込方法： | C24: １．ドロー会議でお申込み
D25: 代表者が申込書、参加料を持参の上、ドロー会議へお越し下さい。
C26: ２．メール・振り込みでお申込み
D27: 2026年10月21日（水）までに参加費用のお振込みおよび
D28: メールで下記宛先に申込書を送付ください。
D30: メール送付先：kagii.777@gmail.com
D31: 振込先 ：楽天銀行 店番247 バンド支店 普通
D32: 口座番号1175806 カギタニコウタ
B34: ドロー会議： | C34: 2026年10月24日（土） 17時30分～ 布引グリーンスタジアム内来賓室
B36: (注意事項）
B37: 1．試合審判は、セルフジャッジとなります。
B38: 2．試合球は、ダンロップフォートを使用します。
B39: 3．試合中の事故に関して東近江市テニス協会は一切責任を負いません。
B40: 4．試合会場に各自で持ち込んだごみは持ち帰るようお願いします。
B41: 5. 試合進行の都合上、コート割り振りのクレームは受け付けません。
B42: 6. その他、試合前の説明事項を遵守ください。

Sheet 申込書
B1: 第２2回 東近江市 秋季ダブルス大会 申込書
B2: 所属クラブ名 | E2: 代表者氏名
B3: 代表連絡先
C5: 種目はリストから選んでください | E5: 登録No(全角)を入れると氏名と年齢が入力されます
B6: 種目 | E6: 一般の方は それぞれのセルに直接入力してください
A7: ランク | B7: 登録No | C7: 氏 名 | D7: 年齢 | E7: 所属クラブ | F7: 備考
A8: 1 | C8: =IF(B8="一般","",IF(B8="","",VLOOKUP(B8,登録ナンバー!$A$1:$M$358,7,FALSE))) | D8: =IF(B8="一般","",IF($B8="","",VLOOKUP(B8,登録ナンバー!$A$1:$M$358,11,FALSE))) | E8: =IF(B8="一般","一般",IF(B8="","",VLOOKUP(B8,登録ナンバー!$A$1:$M$358,4,FALSE))) | F8: 非協会員・協会員・ジュニア
C9: =IF(B9="一般","",IF(B9="","",VLOOKUP(B9,登録ナンバー!$A$1:$M$358,7,FALSE))) | D9: =IF(B9="一般","",IF($B9="","",VLOOKUP(B9,登録ナンバー!$A$1:$M$358,11,FALSE))) | E9: =IF(B9="一般","一般",IF(B9="","",VLOOKUP(B9,登録ナンバー!$A$1:$M$358,4,FALSE))) | F9: 非協会員・協会員・ジュニア
A10: 2 | C10: =IF(B10="一般","",IF(B10="","",VLOOKUP(B10,登録ナンバー!$A$1:$M$358,7,FALSE))) | D10: =IF(B10="一般","",IF($B10="","",VLOOKUP(B10,登録ナンバー!$A$1:$M$358,11,FALSE))) | E10: =IF(B10="一般","一般",IF(B10="","",VLOOKUP(B10,登録ナンバー!$A$1:$M$358,4,FALSE))) | F10: =IF(B10="","協会員・非協会員・ジュニア",IF(D10<18,"ジュニア",IF(B10="一般","非協会員","協会員"))) -> 協会員・非協会員・ジュニア
C11: =IF(B11="一般","",IF(B11="","",VLOOKUP(B11,登録ナンバー!$A$1:$M$358,7,FALSE))) | D11: =IF(B11="一般","",IF($B11="","",VLOOKUP(B11,登録ナンバー!$A$1:$M$358,11,FALSE))) | E11: =IF(B11="一般","一般",IF(B11="","",VLOOKUP(B11,登録ナンバー!$A$1:$M$358,4,FALSE))) | F11: =IF(B11="","協会員・非協会員・ジュニア",IF(D11<18,"ジュニア",IF(B11="一般","非協会員","協会員"))) -> 協会員・非協会員・ジュニア
A12: 3 | C12: =IF(B12="一般","",IF(B12="","",VLOOKUP(B12,登録ナンバー!$A$1:$M$358,7,FALSE))) | D12: =IF(B12="一般","",IF($B12="","",VLOOKUP(B12,登録ナンバー!$A$1:$M$358,11,FALSE))) | E12: =IF(B12="一般","一般",IF(B12="","",VLOOKUP(B12,登録ナンバー!$A$1:$M$358,4,FALSE))) | F12: =IF(B12="","協会員・非協会員・ジュニア",IF(D12<18,"ジュニア",IF(B12="一般","非協会員","協会員"))) -> 協会員・非協会員・ジュニア
C13: =IF(B13="一般","",IF(B13="","",VLOOKUP(B13,登録ナンバー!$A$1:$M$358,7,FALSE))) | D13: =IF(B13="一般","",IF($B13="","",VLOOKUP(B13,登録ナンバー!$A$1:$M$358,11,FALSE))) | E13: =IF(B13="一般","一般",IF(B13="","",VLOOKUP(B13,登録ナンバー!$A$1:$M$358,4,FALSE))) | F13: =IF(B13="","協会員・非協会員・ジュニア",IF(D13<18,"ジュニア",IF(B13="一般","非協会員","協会員"))) -> 協会員・非協会員・ジュニア
A14: 4 | C14: =IF(B14="一般","",IF(B14="","",VLOOKUP(B14,登録ナンバー!$A$1:$M$358,7,FALSE))) | D14: =IF(B14="一般","",IF($B14="","",VLOOKUP(B14,登録ナンバー!$A$1:$M$358,11,FALSE))) | E14: =IF(B14="一般","一般",IF(B14="","",VLOOKUP(B14,登録ナンバー!$A$1:$M$358,4,FALSE))) | F14: =IF(B14="","協会員・非協会員・ジュニア",IF(D14<18,"ジュニア",IF(B14="一般","非協会員","協会員"))) -> 協会員・非協会員・ジュニア
C15: =IF(B15="一般","",IF(B15="","",VLOOKUP(B15,登録ナンバー!$A$1:$M$358,7,FALSE))) | D15: =IF(B15="一般","",IF($B15="","",VLOOKUP(B15,登録ナンバー!$A$1:$M$358,11,FALSE))) | E15: =IF(B15="一般","一般",IF(B15="","",VLOOKUP(B15,登録ナンバー!$A$1:$M$358,4,FALSE))) | F15: =IF(B15="","協会員・非協会員・ジュニア",IF(D15<18,"ジュニア",IF(B15="一般","非協会員","協会員"))) -> 協会員・非協会員・ジュニア
C17: 種目はリストから選んでください
B18: 種目 | E18: 一般の方は それぞれのセルに直接入力してください
A19: ランク | B19: 登録No | C19: 氏 名 | D19: 年齢 | E19: 所属クラブ | F19: 備考
A20: 1 | C20: =IF(B20="一般","",IF(B20="","",VLOOKUP(B20,登録ナンバー!$A$1:$M$358,7,FALSE))) | D20: =IF(B20="一般","",IF($B20="","",VLOOKUP(B20,登録ナンバー!$A$1:$M$358,11,FALSE))) | E20: =IF(B20="一般","一般",IF(B20="","",VLOOKUP(B20,登録ナンバー!$A$1:$M$358,4,FALSE))) | F20: =IF(B20="","協会員・非協会員・ジュニア",IF(D20<18,"ジュニア",IF(B20="一般","非協会員","協会員"))) -> 協会員・非協会員・ジュニア
C21: =IF(B21="一般","",IF(B21="","",VLOOKUP(B21,登録ナンバー!$A$1:$M$358,7,FALSE))) | D21: =IF(B21="一般","",IF($B21="","",VLOOKUP(B21,登録ナンバー!$A$1:$M$358,11,FALSE))) | E21: =IF(B21="一般","一般",IF(B21="","",VLOOKUP(B21,登録ナンバー!$A$1:$M$358,4,FALSE))) | F21: =IF(B21="","協会員・非協会員・ジュニア",IF(D21<18,"ジュニア",IF(B21="一般","非協会員","協会員"))) -> 協会員・非協会員・ジュニア
A22: 2 | C22: =IF(B22="一般","",IF(B22="","",VLOOKUP(B22,登録ナンバー!$A$1:$M$358,7,FALSE))) | D22: =IF(B22="一般","",IF($B22="","",VLOOKUP(B22,登録ナンバー!$A$1:$M$358,11,FALSE))) | E22: =IF(B22="一般","一般",IF(B22="","",VLOOKUP(B22,登録ナンバー!$A$1:$M$358,4,FALSE))) | F22: =IF(B22="","協会員・非協会員・ジュニア",IF(D22<18,"ジュニア",IF(B22="一般","非協会員","協会員"))) -> 協会員・非協会員・ジュニア
C23: =IF(B23="一般","",IF(B23="","",VLOOKUP(B23,登録ナンバー!$A$1:$M$358,7,FALSE))) | D23: =IF(B23="一般","",IF($B23="","",VLOOKUP(B23,登録ナンバー!$A$1:$M$358,11,FALSE))) | E23: =IF(B23="一般","一般",IF(B23="","",VLOOKUP(B23,登録ナンバー!$A$1:$M$358,4,FALSE))) | F23: =IF(B23="","協会員・非協会員・ジュニア",IF(D23<18,"ジュニア",IF(B23="一般","非協会員","協会員"))) -> 協会員・非協会員・ジュニア
A24: 3 | C24: =IF(B24="一般","",IF(B24="","",VLOOKUP(B24,登録ナンバー!$A$1:$M$358,7,FALSE))) | D24: =IF(B24="一般","",IF($B24="","",VLOOKUP(B24,登録ナンバー!$A$1:$M$358,11,FALSE))) | E24: =IF(B24="一般","一般",IF(B24="","",VLOOKUP(B24,登録ナンバー!$A$1:$M$358,4,FALSE))) | F24: =IF(B24="","協会員・非協会員・ジュニア",IF(D24<18,"ジュニア",IF(B24="一般","非協会員","協会員"))) -> 協会員・非協会員・ジュニア
C25: =IF(B25="一般","",IF(B25="","",VLOOKUP(B25,登録ナンバー!$A$1:$M$358,7,FALSE))) | D25: =IF(B25="一般","",IF($B25="","",VLOOKUP(B25,登録ナンバー!$A$1:$M$358,11,FALSE))) | E25: =IF(B25="一般","一般",IF(B25="","",VLOOKUP(B25,登録ナンバー!$A$1:$M$358,4,FALSE))) | F25: =IF(B25="","協会員・非協会員・ジュニア",IF(D25<18,"ジュニア",IF(B25="一般","非協会員","協会員"))) -> 協会員・非協会員・ジュニア
A26: 4 | C26: =IF(B26="一般","",IF(B26="","",VLOOKUP(B26,登録ナンバー!$A$1:$M$358,7,FALSE))) | D26: =IF(B26="一般","",IF($B26="","",VLOOKUP(B26,登録ナンバー!$A$1:$M$358,11,FALSE))) | E26: =IF(B26="一般","一般",IF(B26="","",VLOOKUP(B26,登録ナンバー!$A$1:$M$358,4,FALSE))) | F26: =IF(B26="","協会員・非協会員・ジュニア",IF(D26<18,"ジュニア",IF(B26="一般","非協会員","協会員"))) -> 協会員・非協会員・ジュニア
C27: =IF(B27="一般","",IF(B27="","",VLOOKUP(B27,登録ナンバー!$A$1:$M$358,7,FALSE))) | D27: =IF(B27="一般","",IF($B27="","",VLOOKUP(B27,登録ナンバー!$A$1:$M$358,11,FALSE))) | E27: =IF(B27="一般","一般",IF(B27="","",VLOOKUP(B27,登録ナンバー!$A$1:$M$358,4,FALSE))) | F27: =IF(B27="","協会員・非協会員・ジュニア",IF(D27<18,"ジュニア",IF(B27="一般","非協会員","協会員"))) -> 協会員・非協会員・ジュニア
C29: 種目はリストから選んでください
B30: 種目 | E30: 一般の方は それぞれのセルに直接入力してください
A31: ランク | B31: 登録No | C31: 氏 名 | D31: 年齢 | E31: 所属クラブ | F31: 備考 | H31: 男子A級
C32: =IF(B32="一般","",IF(B32="","",VLOOKUP(B32,登録ナンバー!$A$1:$M$358,7,FALSE))) | D32: =IF(B32="一般","",IF($B32="","",VLOOKUP(B32,登録ナンバー!$A$1:$M$358,11,FALSE))) | E32: =IF(B32="一般","一般",IF(B32="","",VLOOKUP(B32,登録ナンバー!$A$1:$M$358,4,FALSE))) | F32: =IF(B32="","協会員・非協会員・ジュニア",IF(D32<18,"ジュニア",IF(B32="一般","非協会員","協会員"))) -> 協会員・非協会員・ジュニア | H32: 男子B級
C33: =IF(B33="一般","",IF(B33="","",VLOOKUP(B33,登録ナンバー!$A$1:$M$358,7,FALSE))) | D33: =IF(B33="一般","",IF($B33="","",VLOOKUP(B33,登録ナンバー!$A$1:$M$358,11,FALSE))) | E33: =IF(B33="一般","一般",IF(B33="","",VLOOKUP(B33,登録ナンバー!$A$1:$M$358,4,FALSE))) | F33: =IF(B33="","協会員・非協会員・ジュニア",IF(D33<18,"ジュニア",IF(B33="一般","非協会員","協会員"))) -> 協会員・非協会員・ジュニア | H33: 男子C級
A34: 2 | C34: =IF(B34="一般","",IF(B34="","",VLOOKUP(B34,登録ナンバー!$A$1:$M$358,7,FALSE))) | D34: =IF(B34="一般","",IF($B34="","",VLOOKUP(B34,登録ナンバー!$A$1:$M$358,11,FALSE))) | E34: =IF(B34="一般","一般",IF(B34="","",VLOOKUP(B34,登録ナンバー!$A$1:$M$358,4,FALSE))) | F34: =IF(B34="","協会員・非協会員・ジュニア",IF(D34<18,"ジュニア",IF(B34="一般","非協会員","協会員"))) -> 協会員・非協会員・ジュニア | H34: 男子OV55
C35: =IF(B35="一般","",IF(B35="","",VLOOKUP(B35,登録ナンバー!$A$1:$M$358,7,FALSE))) | D35: =IF(B35="一般","",IF($B35="","",VLOOKUP(B35,登録ナンバー!$A$1:$M$358,11,FALSE))) | E35: =IF(B35="一般","一般",IF(B35="","",VLOOKUP(B35,登録ナンバー!$A$1:$M$358,4,FALSE))) | F35: =IF(B35="","協会員・非協会員・ジュニア",IF(D35<18,"ジュニア",IF(B35="一般","非協会員","協会員"))) -> 協会員・非協会員・ジュニア | H35: 女子A級
A36: 3 | C36: =IF(B36="一般","",IF(B36="","",VLOOKUP(B36,登録ナンバー!$A$1:$M$358,7,FALSE))) | D36: =IF(B36="一般","",IF($B36="","",VLOOKUP(B36,登録ナンバー!$A$1:$M$358,11,FALSE))) | E36: =IF(B36="一般","一般",IF(B36="","",VLOOKUP(B36,登録ナンバー!$A$1:$M$358,4,FALSE))) | F36: =IF(B36="","協会員・非協会員・ジュニア",IF(D36<18,"ジュニア",IF(B36="一般","非協会員","協会員"))) -> 協会員・非協会員・ジュニア | H36: 女子B級
C37: =IF(B37="一般","",IF(B37="","",VLOOKUP(B37,登録ナンバー!$A$1:$M$358,7,FALSE))) | D37: =IF(B37="一般","",IF($B37="","",VLOOKUP(B37,登録ナンバー!$A$1:$M$358,11,FALSE))) | E37: =IF(B37="一般","一般",IF(B37="","",VLOOKUP(B37,登録ナンバー!$A$1:$M$358,4,FALSE))) | F37: =IF(B37="","協会員・非協会員・ジュニア",IF(D37<18,"ジュニア",IF(B37="一般","非協会員","協会員"))) -> 協会員・非協会員・ジュニア | H37: 女子C級
H38: 女子OV55
C39: 参加費（円） | E39: 人数（人） | F39: 小計
C40: 協会員 | D40: 1000 | F40: =D40*E40 -> 0
C41: 非協会員 | D41: 2000 | F41: =D41*E41 -> 0
C42: ジュニア | D42: 500 | F42: =D42*E42 -> 0
E43: 合計 | F43: =SUM(F40:F42) -> 0

Sheet 歴代入賞者
B3: 東近江市秋季ダブルス大会 歴代入賞者
E5: 優勝 | F5: 準優勝 | G5: 3位
B6: 第18回 | C6: 男子 | D6: 男子A級 | E6: 川上・竹下（Ｋテニス・うさかめ） | F6: 山口・新谷（Ｋテニスカレッジ） | G6: 松村・牛道 （アンヴァーズ・うさかめ）
D7: Ｂ級＆ＯＶ５５ | E7: 川上・平塚（村田ＴＣ・フレンズ） | F7: 草野・長谷川（アビックＢＢ） | G7: 森・山本（グリフィンズ・うさかめ）
C8: 女子 | D8: Ａ級 | E8: 土肥・南（フレンズ・一般） | F8: 片桐・藤田（アンヴァース・うさかめ） | G8: 谷口・西野（うさかめ・アンヴァーズ）
D9: Ｂ級＆ＯＶ５５ | E9: 永松・藤原（うさかめ・一般） | F9: 梅田・伊吹（うさぎとかめの集い） | G9: 三原・中野（アビックＢＢ・村田ＴＣ
B10: 第19回 | C10: 男子 | D10: 男子A級 | E10: 土田・吉野（グリフィンズ） | F10: 大山・上瀧（一般） | G10: 小原・鈴木（一般）
D11: Ｂ級＆ＯＶ５５ | E11: 岩花・脇野（うさぎとかめの集い） | F11: 辰巳・二ツ井（アプストＴＣ） | G11: 吉村・中嶋（うさかめ・Ｒ11）
C12: 女子 | D12: Ａ級 | E12: 大野・三崎（フレンズ・うさかめ） | F12: 藤田・村木（うさかめ・一般） | G12: 小原・鈴木（一般）
D13: Ｂ級＆ＯＶ５５ | E13: 筒井・永松（フレンズ・うさかめ） | F13: 植垣・西崎（うさぎとかめの集い） | G13: 村田・村田（うさかめ・アプストＴＣ）
B14: 第20回 | C14: 男子 | D14: 男子A級 | E14: 川上・竹下（Ｋテニス・うさかめ） | F14: 山口・新谷（Ｋテニスカレッジ） | G14: 松村・牛道 （アンヴァーズ・うさかめ）
D15: Ｂ級＆ＯＶ５５ | E15: 山本・中田（うさぎとかめの集い） | F15: 片岡・吉村（うさぎとかめの集い） | G15: 石井・牛尾（京セラＴＣ）
C16: 女子 | D16: Ａ級 | E16: 大野・漆原（フレンズ・グリフィンズ） | F16: 木下・原田（一般Jr） | G16: 三代・筒井（フレンズ）
D17: Ｂ級 | E17: 苗村・古株（うさぎとかめの集い） | F17: 永原・永原（個人登録）
B18: 第21回 | C18: 男子 | D18: A級 | E18: 土田・佐野（グリフィンズ・一般） | F18: 杉山・梶田（滋賀県立大） | G18: 上津・中西（アンヴァーズ）
D19: Ｂ級 | E19: 亀井・脇野（うさぎとかめの集い） | F19: 片岡・吉村（うさぎとかめの集い） | G19: 竹内・広瀬（グリフィンズ）
D20: OV55 | E20: 山本・中田（うさぎとかめの集い） | F20: 岡川・稲泉（アプストＴＣ） | G20: 辻村・槇田（アビックＢＢ・一般）
C21: 女子 | D21: A級 | E21: 漆原・西野（グリフィンズ） | F21: 辻・竹下（うさぎとかめの集い）
D22: 男C＆女B・C | E22: 雨天中止

Sheet 登録ナンバー
B1: ２０２６年度東近江市テニス協会登録ナンバー | I1: 46312
B3: 1 | D3: ４４人
A4: あ０１ | B4: 青木 | C4: 重之 | D4: アビックBB | F4: =A4 -> あ０１ | G4: =B4&C4 -> 青木重之 | H4: =D4 -> アビックBB | I4: 男 | J4: 1971 | K4: =IF(J4="","",(2026-J4)) -> 55 | L4: =IF(G4="","",IF(COUNTIF($G$4:$G$109,G4)>1,"2重登録","OK")) -> OK | M4: 草津市
A5: あ０２ | B5: 西川 | C5: 昌一 | D5: アビックBB | F5: =A5 -> あ０２ | G5: =B5&C5 -> 西川昌一 | H5: =D5 -> アビックBB | I5: 男 | J5: 1970 | K5: =IF(J5="","",(2026-J5)) -> 56 | L5: =IF(G5="","",IF(COUNTIF($G$4:$G$109,G5)>1,"2重登録","OK")) -> OK | M5: 彦根市
A6: あ０３ | B6: 安達 | C6: 隆一 | D6: アビックBB | F6: =A6 -> あ０３ | G6: =B6&C6 -> 安達隆一 | H6: =D6 -> アビックBB | I6: 男 | J6: 1970 | K6: =IF(J6="","",(2026-J6)) -> 56 | L6: =IF(G6="","",IF(COUNTIF($G$4:$G$109,G6)>1,"2重登録","OK")) -> OK | M6: 甲賀市
A7: あ０４ | B7: 上原 | C7: 義弘 | D7: アビックBB | F7: =A7 -> あ０４ | G7: =B7&C7 -> 上原義弘 | H7: =D7 -> アビックBB | I7: 男 | J7: 1974 | K7: =IF(J7="","",(2026-J7)) -> 52 | L7: =IF(G7="","",IF(COUNTIF($G$4:$G$109,G7)>1,"2重登録","OK")) -> OK | M7: 彦根市
A8: あ０５ | B8: 寺村 | C8: 浩一 | D8: アビックBB | F8: =A8 -> あ０５ | G8: =B8&C8 -> 寺村浩一 | H8: =D8 -> アビックBB | I8: 男 | J8: 1968 | K8: =IF(J8="","",(2026-J8)) -> 58 | L8: =IF(G8="","",IF(COUNTIF($G$4:$G$109,G8)>1,"2重登録","OK")) -> OK | M8: 愛荘町
A9: あ０６ | B9: 平居 | C9: 崇 | D9: アビックBB | F9: =A9 -> あ０６ | G9: =B9&C9 -> 平居崇 | H9: =D9 -> アビックBB | I9: 男 | J9: 1972 | K9: =IF(J9="","",(2026-J9)) -> 54 | L9: =IF(G9="","",IF(COUNTIF($G$4:$G$109,G9)>1,"2重登録","OK")) -> OK | M9: 多賀町
A10: あ０７ | B10: 大林 | C10: 弘典 | D10: アビックBB | F10: =A10 -> あ０７ | G10: =B10&C10 -> 大林弘典 | H10: =D10 -> アビックBB | I10: 男 | J10: 1989 | K10: =IF(J10="","",(2026-J10)) -> 37 | L10: =IF(G10="","",IF(COUNTIF($G$4:$G$109,G10)>1,"2重登録","OK")) -> OK | M10: 長浜市
A11: あ０８ | B11: 福嶋 | C11: 亮 | D11: アビックBB | F11: =A11 -> あ０８ | G11: =B11&C11 -> 福嶋亮 | H11: =D11 -> アビックBB | I11: 男 | J11: 1961 | K11: =IF(J11="","",(2026-J11)) -> 65 | L11: =IF(G11="","",IF(COUNTIF($G$4:$G$109,G11)>1,"2重登録","OK")) -> OK | M11: 岐阜県
A12: あ０９ | B12: 落合 | C12: 良弘 | D12: アビックBB | F12: =A12 -> あ０９ | G12: =B12&C12 -> 落合良弘 | H12: =D12 -> アビックBB | I12: 男 | J12: 1968 | K12: =IF(J12="","",(2026-J12)) -> 58 | L12: =IF(G12="","",IF(COUNTIF($G$4:$G$109,G12)>1,"2重登録","OK")) -> OK | M12: 長浜市
A13: あ１０ | B13: 松井 | C13: 傳樹 | D13: アビックBB | F13: =A13 -> あ１０ | G13: =B13&C13 -> 松井傳樹 | H13: =D13 -> アビックBB | I13: 男 | J13: 1987 | K13: =IF(J13="","",(2026-J13)) -> 39 | L13: =IF(G13="","",IF(COUNTIF($G$4:$G$109,G13)>1,"2重登録","OK")) -> OK | M13: 彦根市
A14: あ１１ | B14: 長谷川 | C14: 優 | D14: アビックBB | F14: =A14 -> あ１１ | G14: =B14&C14 -> 長谷川優 | H14: =D14 -> アビックBB | I14: 男 | J14: 1973 | K14: =IF(J14="","",(2026-J14)) -> 53 | L14: =IF(G14="","",IF(COUNTIF($G$4:$G$109,G14)>1,"2重登録","OK")) -> OK | M14: 甲賀市
A15: あ１２ | B15: 草野 | C15: 活地 | D15: アビックBB | F15: =A15 -> あ１２ | G15: =B15&C15 -> 草野活地 | H15: =D15 -> アビックBB | I15: 男 | J15: 1974 | K15: =IF(J15="","",(2026-J15)) -> 52 | L15: =IF(G15="","",IF(COUNTIF($G$4:$G$109,G15)>1,"2重登録","OK")) -> OK | M15: 草津市
... A23: あ２０ | B23: 坪井 | C23: 徳寿 | D23: アビックBB | F23: =A23 -> あ２０ | G23: =B23&C23 -> 坪井徳寿 | H23: =D23 -> アビックBB | I23: 男 | J23: 1979 | K23: =IF(J23="","",(2026-J23)) -> 47 | L23: =IF(G23="","",IF(COUNTIF($G$4:$G$109,G23)>1,"2重登録","OK")) -> OK | M23: 草津市
A24: あ２１ | B24: 辻村 | C24: 惣一 | D24: アビックBB | E24: ｓｅ | F24: =A24 -> あ２１ | G24: =B24&C24 -> 辻村惣一 | H24: =D24 -> アビックBB | I24: 男 | J24: 1953 | K24: =IF(J24="","",(2026-J24)) -> 73 | L24: =IF(G24="","",IF(COUNTIF($G$4:$G$109,G24)>1,"2重登録","OK")) -> OK | M24: 長浜市
A25: あ２２ | B25: 槇田 | C25: 学 | D25: アビックBB | F25: =A25 -> あ２２ | G25: =B25&C25 -> 槇田学 | H25: =D25 -> アビックBB | I25: 男 | J25: 1965 | K25: =IF(J25="","",(2026-J25)) -> 61 | L25: =IF(G25="","",IF(COUNTIF($G$4:$G$109,G25)>1,"2重登録","OK")) -> OK | M25: 彦根市
A26: あ２３ | B26: 武久 | C26: 真也 | D26: アビックBB | F26: =A26 -> あ２３ | G26: =B26&C26 -> 武久真也 | H26: =D26 -> アビックBB | I26: 男 | J26: 1982 | K26: =IF(J26="","",(2026-J26)) -> 44 | L26: =IF(G26="","",IF(COUNTIF($G$4:$G$109,G26)>1,"2重登録","OK")) -> OK | M26: 近江八幡市
A27: あ２４ | B27: 大脇 | C27: 和世 | D27: アビックBB | F27: =A27 -> あ２４ | G27: =B27&C27 -> 大脇和世 | H27: =D27 -> アビックBB | I27: 女 | J27: 1970 | K27: =IF(J27="","",(2026-J27)) -> 56 | L27: =IF(G27="","",IF(COUNTIF($G$4:$G$109,G27)>1,"2重登録","OK")) -> OK | M27: 愛荘町
A28: あ２５ | B28: 西山 | C28: 抄千代 | D28: アビックBB | F28: =A28 -> あ２５ | G28: =B28&C28 -> 西山抄千代 | H28: =D28 -> アビックBB | I28: 女 | J28: 1972 | K28: =IF(J28="","",(2026-J28)) -> 54 | L28: =IF(G28="","",IF(COUNTIF($G$4:$G$109,G28)>1,"2重登録","OK")) -> OK | M28: 米原市
A29: あ２６ | B29: 齋田 | C29: 優子 | D29: アビックBB | F29: =A29 -> あ２６ | G29: =B29&C29 -> 齋田優子 | H29: =D29 -> アビックBB | I29: 女 | J29: 1983 | K29: =IF(J29="","",(2026-J29)) -> 43 | L29: =IF(G29="","",IF(COUNTIF($G$4:$G$109,G29)>1,"2重登録","OK")) -> OK | M29: 長浜市
A30: あ２７ | B30: 中村 | C30: 紗映子 | D30: アビックBB | F30: =A30 -> あ２７ | G30: =B30&C30 -> 中村紗映子 | H30: =D30 -> アビックBB | I30: 女 | J30: 1983 | K30: =IF(J30="","",(2026-J30)) -> 43 | L30: =IF(G30="","",IF(COUNTIF($G$4:$G$109,G30)>1,"2重登録","OK")) -> OK | M30: 長浜市
A31: あ２８ | B31: 松本 | C31: 光美 | D31: アビックBB | F31: =A31 -> あ２８ | G31: =B31&C31 -> 松本光美 | H31: =D31 -> アビックBB | I31: 女 | J31: 1971 | K31: =IF(J31="","",(2026-J31)) -> 55 | L31: =IF(G31="","",IF(COUNTIF($G$4:$G$109,G31)>1,"2重登録","OK")) -> OK | M31: 草津市
A32: あ２９ | B32: 堅田 | C32: 瑞木 | D32: アビックBB | F32: =A32 -> あ２９ | G32: =B32&C32 -> 堅田瑞木 | H32: =D32 -> アビックBB | I32: 女 | J32: 1996 | K32: =IF(J32="","",(2026-J32)) -> 30 | L32: =IF(G32="","",IF(COUNTIF($G$4:$G$109,G32)>1,"2重登録","OK")) -> OK | M32: 京都府
A33: あ３０ | B33: 堀田 | C33: 明子 | D33: アビックBB | F33: =A33 -> あ３０ | G33: =B33&C33 -> 堀田明子 | H33: =D33 -> アビックBB | I33: 女 | J33: 1970 | K33: =IF(J33="","",(2026-J33)) -> 56 | L33: =IF(G33="","",IF(COUNTIF($G$4:$G$109,G33)>1,"2重登録","OK")) -> OK | M33: 東近江市
A34: あ３１ | B34: 佐野 | C34: 直美 | D34: アビックBB | F34: =A34 -> あ３１ | G34: =B34&C34 -> 佐野直美 | H34: =D34 -> アビックBB | I34: 女 | J34: 1975 | K34: =IF(J34="","",(2026-J34)) -> 51 | L34: =IF(G34="","",IF(COUNTIF($G$4:$G$109,G34)>1,"2重登録","OK")) -> OK | M34: 京都府
A35: あ３２ | B35: 千代 | C35: 美由紀 | D35: アビックBB | F35: =A35 -> あ３２ | G35: =B35&C35 -> 千代美由紀 | H35: =D35 -> アビックBB | I35: 女 | J35: 1972 | K35: =IF(J35="","",(2026-J35)) -> 54 | L35: =IF(G35="","",IF(COUNTIF($G$4:$G$109,G35)>1,"2重登録","OK")) -> OK | M35: 京都府
A36: あ３３ | B36: 小西 | C36: 由美子 | D36: アビックBB | F36: =A36 -> あ３３ | G36: =B36&C36 -> 小西由美子 | H36: =D36 -> アビックBB | I36: 女 | J36: 1968 | K36: =IF(J36="","",(2026-J36)) -> 58 | L36: =IF(G36="","",IF(COUNTIF($G$4:$G$109,G36)>1,"2重登録","OK")) -> OK | M36: 近江八幡市
... A47: あ４４ | B47: 長瀬 | C47: 圭音 | D47: アビックBB | F47: =A47 -> あ４４ | G47: =B47&C47 -> 長瀬圭音 | H47: =D47 -> アビックBB | I47: 女 | J47: 2007 | K47: =IF(J47="","",(2026-J47)) -> 19 | L47: =IF(G47="","",IF(COUNTIF($G$4:$G$109,G47)>1,"2重登録","OK")) -> OK | M47: 東近江市
B48: 2 | D48: ３３人 | K48: =IF(J48="","",(2026-J48))
A49: あぷ０１ | B49: 杉山 | C49: 邦夫 | D49: アプストTC | E49: ｓｅ | F49: =A49 -> あぷ０１ | G49: =B49&C49 -> 杉山邦夫 | H49: =D49 -> アプストTC | I49: 男 | J49: 1950 | K49: =IF(J49="","",(2026-J49)) -> 76 | L49: =IF(G49="","",IF(COUNTIF($G$4:$G$117,G49)>1,"2重登録","OK")) -> OK | M49: 多賀町
A50: あぷ０２ | B50: 川上 | C50: 英二 | D50: アプストTC | F50: =A50 -> あぷ０２ | G50: =B50&C50 -> 川上英二 | H50: =D50 -> アプストTC | I50: 男 | J50: 1963 | K50: =IF(J50="","",(2026-J50)) -> 63 | L50: =IF(G50="","",IF(COUNTIF($G$4:$G$117,G50)>1,"2重登録","OK")) -> OK | M50: 東近江市
A51: あぷ０３ | B51: 浅田 | C51: 隆昭 | D51: アプストTC | F51: =A51 -> あぷ０３ | G51: =B51&C51 -> 浅田隆昭 | H51: =D51 -> アプストTC | I51: 男 | J51: 1964 | K51: =IF(J51="","",(2026-J51)) -> 62 | L51: =IF(G51="","",IF(COUNTIF($G$4:$G$117,G51)>1,"2重登録","OK")) -> OK | M51: 守山市
A52: あぷ０４ | B52: 森永 | C52: 洋介 | D52: アプストTC | F52: =A52 -> あぷ０４ | G52: =B52&C52 -> 森永洋介 | H52: =D52 -> アプストTC | I52: 男 | J52: 1986 | K52: =IF(J52="","",(2026-J52)) -> 40 | L52: =IF(G52="","",IF(COUNTIF($G$4:$G$117,G52)>1,"2重登録","OK")) -> OK | M52: 近江八幡市
A53: あぷ０５ | B53: 辰巳 | C53: 悟朗 | D53: アプストTC | F53: =A53 -> あぷ０５ | G53: =B53&C53 -> 辰巳悟朗 | H53: =D53 -> アプストTC | I53: 男 | J53: 1974 | K53: =IF(J53="","",(2026-J53)) -> 52 | L53: =IF(G53="","",IF(COUNTIF($G$4:$G$117,G53)>1,"2重登録","OK")) -> OK | M53: 彦根市
A54: あぷ０６ | B54: 川上 | C54: 美弥子 | D54: アプストTC | F54: =A54 -> あぷ０６ | G54: =B54&C54 -> 川上美弥子 | H54: =D54 -> アプストTC | I54: 女 | J54: 1971 | K54: =IF(J54="","",(2026-J54)) -> 55 | L54: =IF(G54="","",IF(COUNTIF($G$4:$G$117,G54)>1,"2重登録","OK")) -> OK | M54: 東近江市
A55: あぷ０７ | B55: 山内 | C55: 雄平 | D55: アプストTC | F55: =A55 -> あぷ０７ | G55: =B55&C55 -> 山内雄平 | H55: =D55 -> アプストTC | I55: 男 | J55: 1989 | K55: =IF(J55="","",(2026-J55)) -> 37 | L55: =IF(G55="","",IF(COUNTIF($G$4:$G$117,G55)>1,"2重登録","OK")) -> OK | M55: 東近江市
A56: あぷ０８ | B56: 木村 | C56: 美香 | D56: アプストTC | F56: =A56 -> あぷ０８ | G56: =B56&C56 -> 木村美香 | H56: =D56 -> アプストTC | I56: 女 | J56: 1962 | K56: =IF(J56="","",(2026-J56)) -> 64 | L56: =IF(G56="","",IF(COUNTIF($G$4:$G$117,G56)>1,"2重登録","OK")) -> OK | M56: 米原市
A57: あぷ０９ | B57: 日高 | C57: 眞規子 | D57: アプストTC | F57: =A57 -> あぷ０９ | G57: =B57&C57 -> 日高眞規子 | H57: =D57 -> アプストTC | I57: 女 | J57: 1963 | K57: =IF(J57="","",(2026-J57)) -> 63 | L57: =IF(G57="","",IF(COUNTIF($G$4:$G$117,G57)>1,"2重登録","OK")) -> OK | M57: 長浜市
A58: あぷ１０ | B58: 長谷出 | C58: 浩 | D58: アプストTC | F58: =A58 -> あぷ１０ | G58: =B58&C58 -> 長谷出浩 | H58: =D58 -> アプストTC | I58: 男 | J58: 1960 | K58: =IF(J58="","",(2026-J58)) -> 66 | L58: =IF(G58="","",IF(COUNTIF($G$4:$G$117,G58)>1,"2重登録","OK")) -> OK | M58: 東近江市
A59: あぷ１１ | B59: 奥田 | C59: 純也 | D59: アプストTC | F59: =A59 -> あぷ１１ | G59: =B59&C59 -> 奥田純也 | H59: =D59 -> アプストTC | I59: 男 | J59: 1963 | K59: =IF(J59="","",(2026-J59)) -> 63 | L59: =IF(G59="","",IF(COUNTIF($G$4:$G$117,G59)>1,"2重登録","OK")) -> OK | M59: 東近江市
A60: あぷ１２ | B60: 村田 | C60: 理恵子 | D60: アプストTC | F60: =A60 -> あぷ１２ | G60: =B60&C60 -> 村田理恵子 | H60: =D60 -> アプストTC | I60: 女 | J60: 1979 | K60: =IF(J60="","",(2026-J60)) -> 47 | L60: =IF(G60="","",IF(COUNTIF($G$4:$G$117,G60)>1,"2重登録","OK")) -> OK | M60: 東近江市
A61: あぷ１３ | B61: 東 | C61: 正隆 | D61: アプストTC | F61: =A61 -> あぷ１３ | G61: =B61&C61 -> 東正隆 | H61: =D61 -> アプストTC | I61: 男 | J61: 1965 | K61: =IF(J61="","",(2026-J61)) -> 61 | L61: =IF(G61="","",IF(COUNTIF($G$4:$G$117,G61)>1,"2重登録","OK")) -> OK | M61: 彦根市
... A81: あぷ３３ | B81: 赤木 | C81: 拓 | D81: アプストTC | F81: =A81 -> あぷ３３ | G81: =B81&C81 -> 赤木拓 | H81: =D81 -> アプストTC | I81: 男 | J81: 1979 | K81: =IF(J81="","",(2026-J81)) -> 47 | L81: =IF(G81="","",IF(COUNTIF($G$4:$G$117,G81)>1,"2重登録","OK")) -> OK | M81: 近江八幡市
B82: 3 | D82: ２７人 | H82: =D82 -> ２７人 | K82: =IF(J82="","",(2026-J82))
A83: あん０１ | B83: 上津 | C83: 慶和 | D83: アンヴァース | F83: =A83 -> あん０１ | G83: =B83&C83 -> 上津慶和 | H83: =D83 -> アンヴァース | I83: 男 | J83: 1993 | K83: =IF(J83="","",(2026-J83)) -> 33 | L83: =IF(G83="","",IF(COUNTIF($G$5:$G$623,G83)>1,"2重登録","OK")) -> OK | M83: 大津市
A84: あん０２ | B84: 脇坂 | C84: 和樹 | D84: アンヴァース | F84: =A84 -> あん０２ | G84: =B84&C84 -> 脇坂和樹 | H84: =D84 -> アンヴァース | I84: 男 | J84: 1992 | K84: =IF(J84="","",(2026-J84)) -> 34 | L84: =IF(G84="","",IF(COUNTIF($G$5:$G$623,G84)>1,"2重登録","OK")) -> OK | M84: 彦根市
A85: あん０３ | B85: 小田 | C85: 紀彦 | D85: アンヴァース | F85: =A85 -> あん０３ | G85: =B85&C85 -> 小田紀彦 | H85: =D85 -> アンヴァース | I85: 男 | J85: 1984 | K85: =IF(J85="","",(2026-J85)) -> 42 | L85: =IF(G85="","",IF(COUNTIF($G$5:$G$623,G85)>1,"2重登録","OK")) -> OK | M85: 野洲市
A86: あん０４ | B86: 越智 | C86: 友基 | D86: アンヴァース | F86: =A86 -> あん０４ | G86: =B86&C86 -> 越智友基 | H86: =D86 -> アンヴァース | I86: 男 | J86: 1987 | K86: =IF(J86="","",(2026-J86)) -> 39 | L86: =IF(G86="","",IF(COUNTIF($G$5:$G$623,G86)>1,"2重登録","OK")) -> OK | M86: 野洲市
A87: あん０５ | B87: 辻本 | C87: 将士 | D87: アンヴァース | F87: =A87 -> あん０５ | G87: =B87&C87 -> 辻本将士 | H87: =D87 -> アンヴァース | I87: 男 | J87: 1986 | K87: =IF(J87="","",(2026-J87)) -> 40 | L87: =IF(G87="","",IF(COUNTIF($G$5:$G$623,G87)>1,"2重登録","OK")) -> OK | M87: 東近江市
A88: あん０６ | B88: 津曲 | C88: 崇志 | D88: アンヴァース | F88: =A88 -> あん０６ | G88: =B88&C88 -> 津曲崇志 | H88: =D88 -> アンヴァース | I88: 男 | J88: 1989 | K88: =IF(J88="","",(2026-J88)) -> 37 | L88: =IF(G88="","",IF(COUNTIF($G$5:$G$623,G88)>1,"2重登録","OK")) -> OK | M88: 湖南市
A89: あん０７ | B89: 鍋内 | C89: 雄樹 | D89: アンヴァース | F89: =A89 -> あん０７ | G89: =B89&C89 -> 鍋内雄樹 | H89: =D89 -> アンヴァース | I89: 男 | J89: 1990 | K89: =IF(J89="","",(2026-J89)) -> 36 | L89: =IF(G89="","",IF(COUNTIF($G$5:$G$623,G89)>1,"2重登録","OK")) -> OK | M89: 湖南市
A90: あん０８ | B90: 桐原 | C90: 昇汰 | D90: アンヴァース | F90: =A90 -> あん０８ | G90: =B90&C90 -> 桐原昇汰 | H90: =D90 -> アンヴァース | I90: 男 | J90: 1994 | K90: =IF(J90="","",(2026-J90)) -> 32 | L90: =IF(G90="","",IF(COUNTIF($G$5:$G$623,G90)>1,"2重登録","OK")) -> OK | M90: 守山市
A91: あん０９ | B91: 松村 | C91: 友喜 | D91: アンヴァース | F91: =A91 -> あん０９ | G91: =B91&C91 -> 松村友喜 | H91: =D91 -> アンヴァース | I91: 男 | J91: 1988 | K91: =IF(J91="","",(2026-J91)) -> 38 | L91: =IF(G91="","",IF(COUNTIF($G$5:$G$623,G91)>1,"2重登録","OK")) -> OK | M91: 彦根市
A92: あん１０ | B92: 薮内 | C92: 豪 | D92: アンヴァース | F92: =A92 -> あん１０ | G92: =B92&C92 -> 薮内豪 | H92: =D92 -> アンヴァース | I92: 男 | J92: 1986 | K92: =IF(J92="","",(2026-J92)) -> 40 | L92: =IF(G92="","",IF(COUNTIF($G$5:$G$623,G92)>1,"2重登録","OK")) -> OK | M92: 長浜市
A93: あん１１ | B93: 山田 | C93: 佳明 | D93: アンヴァース | F93: =A93 -> あん１１ | G93: =B93&C93 -> 山田佳明 | H93: =D93 -> アンヴァース | I93: 男 | J93: 1986 | K93: =IF(J93="","",(2026-J93)) -> 40 | L93: =IF(G93="","",IF(COUNTIF($G$5:$G$623,G93)>1,"2重登録","OK")) -> OK | M93: 京都府
A94: あん１２ | B94: 政田 | C94: 秀栄 | D94: アンヴァース | F94: =A94 -> あん１２ | G94: =B94&C94 -> 政田秀栄 | H94: =D94 -> アンヴァース | I94: 男 | J94: 1982 | K94: =IF(J94="","",(2026-J94)) -> 44 | L94: =IF(G94="","",IF(COUNTIF($G$5:$G$623,G94)>1,"2重登録","OK")) -> OK | M94: 栗東市
... A109: あん２７ | B109: 青木 | C109: 奈菜 | D109: アンヴァース | F109: =A109 -> あん２７ | G109: =B109&C109 -> 青木奈菜 | H109: =D109 -> アンヴァース | I109: 女 | J109: 2006 | K109: =IF(J109="","",(2026-J109)) -> 20 | L109: =IF(G109="","",IF(COUNTIF($G$5:$G$623,G109)>1,"2重登録","OK")) -> OK | M109: 岐阜県
B110: 4 | D110: ２９人 | H110: =D110 -> ２９人 | K110: =IF(J110="","",(2026-J110))
A111: け０１ | B111: 稲岡 | C111: 和紀 | D111: Kテニス | F111: =A111 -> け０１ | G111: =B111&C111 -> 稲岡和紀 | H111: Ｋテニスカレッジ | I111: 男 | J111: 1978 | K111: =IF(J111="","",(2026-J111)) -> 48 | L111: =IF(G111="","",IF(COUNTIF($G$4:$G$109,G111)>1,"2重登録","OK")) -> OK | M111: 東近江市
A112: け０２ | B112: 上村 | C112: 武 | D112: Kテニス | F112: =A112 -> け０２ | G112: =B112&C112 -> 上村 武 | H112: Ｋテニスカレッジ | I112: 男 | J112: 1978 | K112: =IF(J112="","",(2026-J112)) -> 48 | L112: =IF(G112="","",IF(COUNTIF($G$4:$G$109,G112)>1,"2重登録","OK")) -> OK | M112: 彦根市
A113: け０３ | B113: 川上 | C113: 悠作 | D113: Kテニス | F113: =A113 -> け０３ | G113: =B113&C113 -> 川上悠作 | H113: Ｋテニスカレッジ | I113: 男 | J113: 2000 | K113: =IF(J113="","",(2026-J113)) -> 26 | L113: =IF(G113="","",IF(COUNTIF($G$4:$G$109,G113)>1,"2重登録","OK")) -> OK | M113: 東近江市
A114: け０４ | B114: 坪田 | C114: 真嘉 | D114: Kテニス | F114: =A114 -> け０４ | G114: =B114&C114 -> 坪田真嘉 | H114: Ｋテニスカレッジ | I114: 男 | J114: 1976 | K114: =IF(J114="","",(2026-J114)) -> 50 | L114: =IF(G114="","",IF(COUNTIF($G$4:$G$109,G114)>1,"2重登録","OK")) -> OK | M114: 東近江市
A115: け０５ | B115: 山口 | C115: 直彦 | D115: Kテニス | F115: =A115 -> け０５ | G115: =B115&C115 -> 山口直彦 | H115: Ｋテニスカレッジ | I115: 男 | J115: 1986 | K115: =IF(J115="","",(2026-J115)) -> 40 | L115: =IF(G115="","",IF(COUNTIF($G$4:$G$109,G115)>1,"2重登録","OK")) -> OK | M115: 東近江市
A116: け０６ | B116: 福永 | C116: 裕美 | D116: Kテニス | F116: =A116 -> け０６ | G116: =B116&C116 -> 福永裕美 | H116: Ｋテニスカレッジ | I116: 女 | J116: 1963 | K116: =IF(J116="","",(2026-J116)) -> 63 | L116: =IF(G116="","",IF(COUNTIF($G$4:$G$109,G116)>1,"2重登録","OK")) -> OK | M116: 東近江市
A117: け０７ | B117: 福永 | C117: 一典 | D117: Kテニス | F117: =A117 -> け０７ | G117: =B117&C117 -> 福永一典 | H117: Ｋテニスカレッジ | I117: 男 | J117: 1967 | K117: =IF(J117="","",(2026-J117)) -> 59 | L117: =IF(G117="","",IF(COUNTIF($G$4:$G$109,G117)>1,"2重登録","OK")) -> OK | M117: 近江八幡市
A118: け０８ | B118: 小澤 | C118: 藤信 | D118: Kテニス | F118: =A118 -> け０８ | G118: =B118&C118 -> 小澤藤信 | H118: Ｋテニスカレッジ | I118: 男 | J118: 1964 | K118: =IF(J118="","",(2026-J118)) -> 62 | L118: =IF(G118="","",IF(COUNTIF($G$4:$G$109,G118)>1,"2重登録","OK")) -> OK | M118: 彦根市
A119: け０９ | B119: 朝日 | C119: 尚紀 | D119: Kテニス | F119: =A119 -> け０９ | G119: =B119&C119 -> 朝日尚紀 | H119: Ｋテニスカレッジ | I119: 男 | J119: 1983 | K119: =IF(J119="","",(2026-J119)) -> 43 | L119: =IF(G119="","",IF(COUNTIF($G$4:$G$109,G119)>1,"2重登録","OK")) -> OK | M119: 三重県
A120: け１０ | B120: 朝日 | C120: 智美 | D120: Kテニス | F120: =A120 -> け１０ | G120: =B120&C120 -> 朝日智美 | H120: Ｋテニスカレッジ | I120: 女 | J120: 1983 | K120: =IF(J120="","",(2026-J120)) -> 43 | L120: =IF(G120="","",IF(COUNTIF($G$4:$G$109,G120)>1,"2重登録","OK")) -> OK | M120: 三重県
A121: け１１ | B121: 本多 | C121: 勇輝 | D121: Kテニス | F121: =A121 -> け１１ | G121: =B121&C121 -> 本多勇輝 | H121: Ｋテニスカレッジ | I121: 男 | J121: 1989 | K121: =IF(J121="","",(2026-J121)) -> 37 | L121: =IF(G121="","",IF(COUNTIF($G$4:$G$109,G121)>1,"2重登録","OK")) -> OK | M121: 守山市
A122: け１２ | B122: 堤 | C122: 泰彦 | D122: Kテニス | F122: =A122 -> け１２ | G122: =B122&C122 -> 堤泰彦 | H122: Ｋテニスカレッジ | I122: 男 | J122: 1987 | K122: =IF(J122="","",(2026-J122)) -> 39 | L122: =IF(G122="","",IF(COUNTIF($G$4:$G$109,G122)>1,"2重登録","OK")) -> OK | M122: 東近江市
... A134: け２４ | B134: 中島 | C134: 康之 | D134: Kテニス | F134: =A134 -> け２４ | G134: =B134&C134 -> 中島康之 | H134: Ｋテニスカレッジ | I134: 男 | J134: 1980 | K134: =IF(J134="","",(2026-J134)) -> 46 | L134: =IF(G134="","",IF(COUNTIF($G$4:$G$109,G134)>1,"2重登録","OK")) -> OK | M134: 東近江市
A135: け２５ | B135: 山口 | C135: 希子 | D135: Kテニス | E135: ｊｒ | F135: =A135 -> け２５ | G135: =B135&C135 -> 山口希子 | H135: Ｋテニスカレッジ | I135: 女 | J135: 2014 | K135: =IF(J135="","",(2026-J135)) -> 12 | L135: =IF(G135="","",IF(COUNTIF($G$4:$G$109,G135)>1,"2重登録","OK")) -> OK | M135: 東近江市
A136: け２６ | B136: 𠮷越 | C136: 洋一 | D136: Kテニス | F136: =A136 -> け２６ | G136: =B136&C136 -> 𠮷越洋一 | H136: Ｋテニスカレッジ | I136: 男 | J136: 1977 | K136: =IF(J136="","",(2026-J136)) -> 49 | L136: =IF(G136="","",IF(COUNTIF($G$4:$G$109,G136)>1,"2重登録","OK")) -> OK | M136: 大阪府
A137: け２７ | B137: 稲岡 | C137: 沙良 | D137: Kテニス | E137: ｊｒ | F137: =A137 -> け２７ | G137: =B137&C137 -> 稲岡沙良 | H137: Ｋテニスカレッジ | I137: 女 | J137: 2012 | K137: =IF(J137="","",(2026-J137)) -> 14 | L137: =IF(G137="","",IF(COUNTIF($G$4:$G$109,G137)>1,"2重登録","OK")) -> OK | M137: 東近江市
A138: け２８ | B138: 大橋 | C138: 凛斗 | D138: Kテニス | E138: ｊｒ | F138: =A138 -> け２８ | G138: =B138&C138 -> 大橋凛斗 | H138: Ｋテニスカレッジ | I138: 男 | J138: 2015 | K138: =IF(J138="","",(2026-J138)) -> 11 | L138: =IF(G138="","",IF(COUNTIF($G$4:$G$109,G138)>1,"2重登録","OK")) -> OK | M138: 栗東市
A139: け２９ | B139: 岡本 | C139: 隆之介 | D139: Kテニス | E139: ｊｒ | F139: =A139 -> け２９ | G139: =B139&C139 -> 岡本隆之介 | H139: Ｋテニスカレッジ | I139: 男 | J139: 2015 | K139: =IF(J139="","",(2026-J139)) -> 11 | L139: =IF(G139="","",IF(COUNTIF($G$4:$G$109,G139)>1,"2重登録","OK")) -> OK | M139: 大津市
B140: 5 | D140: ３４人 | K140: =IF(J140="","",(2026-J140))
A141: き０１ | B141: 荒浪 | C141: 順次 | D141: 京セラTC | F141: =A141 -> き０１ | G141: =B141&C141 -> 荒浪順次 | H141: =D141 -> 京セラTC | I141: 男 | J141: 1977 | K141: =IF(J141="","",(2026-J141)) -> 49 | L141: =IF(G141="","",IF(COUNTIF($G$4:$G$109,G141)>1,"2重登録","OK")) -> OK | M141: 大津市
A142: き０２ | B142: 井澤 | C142: 匡志 | D142: 京セラTC | F142: =A142 -> き０２ | G142: =B142&C142 -> 井澤 匡志 | H142: =D142 -> 京セラTC | I142: 男 | J142: 1967 | K142: =IF(J142="","",(2026-J142)) -> 59 | L142: =IF(G142="","",IF(COUNTIF($G$4:$G$109,G142)>1,"2重登録","OK")) -> OK | M142: 東近江市
A143: き０３ | B143: 石井 | C143: 耶真斗 | D143: 京セラTC | F143: =A143 -> き０３ | G143: =B143&C143 -> 石井耶真斗 | H143: =D143 -> 京セラTC | I143: 男 | J143: 1995 | K143: =IF(J143="","",(2026-J143)) -> 31 | L143: =IF(G143="","",IF(COUNTIF($G$4:$G$109,G143)>1,"2重登録","OK")) -> OK | M143: 東近江市
A144: き０４ | B144: 石川 | C144: 和洋 | D144: 京セラTC | F144: =A144 -> き０４ | G144: =B144&C144 -> 石川和洋 | H144: =D144 -> 京セラTC | I144: 男 | J144: 1978 | K144: =IF(J144="","",(2026-J144)) -> 48 | L144: =IF(G144="","",IF(COUNTIF($G$4:$G$109,G144)>1,"2重登録","OK")) -> OK | M144: 竜王町
A145: き０５ | B145: 石田 | C145: 文彦 | D145: 京セラTC | F145: =A145 -> き０５ | G145: =B145&C145 -> 石田文彦 | H145: =D145 -> 京セラTC | I145: 男 | J145: 1993 | K145: =IF(J145="","",(2026-J145)) -> 33 | L145: =IF(G145="","",IF(COUNTIF($G$4:$G$109,G145)>1,"2重登録","OK")) -> OK | M145: 近江八幡市
A146: き０６ | B146: 一色 | C146: 翼 | D146: 京セラTC | F146: =A146 -> き０６ | G146: =B146&C146 -> 一色翼 | H146: =D146 -> 京セラTC | I146: 男 | J146: 1984 | K146: =IF(J146="","",(2026-J146)) -> 42 | L146: =IF(G146="","",IF(COUNTIF($G$4:$G$109,G146)>1,"2重登録","OK")) -> OK | M146: 東近江市
A147: き０７ | B147: 牛尾 | C147: 紳之介 | D147: 京セラTC | F147: =A147 -> き０７ | G147: =B147&C147 -> 牛尾紳之介 | H147: =D147 -> 京セラTC | I147: 男 | J147: 1984 | K147: =IF(J147="","",(2026-J147)) -> 42 | L147: =IF(G147="","",IF(COUNTIF($G$4:$G$109,G147)>1,"2重登録","OK")) -> OK | M147: 東近江市
A148: き０８ | B148: 太田 | C148: 圭亮 | D148: 京セラTC | F148: =A148 -> き０８ | G148: =B148&C148 -> 太田圭亮 | H148: =D148 -> 京セラTC | I148: 男 | J148: 1981 | K148: =IF(J148="","",(2026-J148)) -> 45 | L148: =IF(G148="","",IF(COUNTIF($G$4:$G$109,G148)>1,"2重登録","OK")) -> OK | M148: 近江八幡市
A149: き０９ | B149: 奥田 | C149: 司 | D149: 京セラTC | F149: =A149 -> き０９ | G149: =B149&C149 -> 奥田司 | H149: =D149 -> 京セラTC | I149: 男 | J149: 1997 | K149: =IF(J149="","",(2026-J149)) -> 29 | L149: =IF(G149="","",IF(COUNTIF($G$4:$G$109,G149)>1,"2重登録","OK")) -> OK | M149: 東近江市
A150: き１０ | B150: 木村 | C150: 圭 | D150: 京セラTC | F150: =A150 -> き１０ | G150: =B150&C150 -> 木村圭 | H150: =D150 -> 京セラTC | I150: 男 | J150: 1968 | K150: =IF(J150="","",(2026-J150)) -> 58 | L150: =IF(G150="","",IF(COUNTIF($G$4:$G$109,G150)>1,"2重登録","OK")) -> OK | M150: 大津市
A151: き１１ | B151: 栗山 | C151: 飛鳥 | D151: 京セラTC | F151: =A151 -> き１１ | G151: =B151&C151 -> 栗山飛鳥 | H151: =D151 -> 京セラTC | I151: 男 | J151: 1997 | K151: =IF(J151="","",(2026-J151)) -> 29 | L151: =IF(G151="","",IF(COUNTIF($G$4:$G$109,G151)>1,"2重登録","OK")) -> OK | M151: 東近江市
A152: き１２ | B152: 清水 | C152: 陽介 | D152: 京セラTC | F152: =A152 -> き１２ | G152: =B152&C152 -> 清水陽介 | H152: =D152 -> 京セラTC | I152: 男 | J152: 1991 | K152: =IF(J152="","",(2026-J152)) -> 35 | L152: =IF(G152="","",IF(COUNTIF($G$4:$G$109,G152)>1,"2重登録","OK")) -> OK | M152: 守山市
... A174: き３４ | B174: 和田 | C174: 洸 | D174: 京セラTC | F174: =A174 -> き３４ | G174: =B174&C174 -> 和田洸 | H174: =D174 -> 京セラTC | I174: 男 | J174: 2001 | K174: =IF(J174="","",(2026-J174)) -> 25 | L174: =IF(G174="","",IF(COUNTIF($G$4:$G$109,G174)>1,"2重登録","OK")) -> OK | M174: 野洲市
B175: 6 | D175: ４１人 | H175: =D175 -> ４１人 | K175: =IF(J175="","",(2026-J175)) | L175: =IF(G175="","",IF(COUNTIF($G$5:$G$698,G175)>1,"2重登録","OK"))
A176: ぐ０１ | B176: 鍵谷 | C176: 浩太 | D176: グリフィンズ | F176: =A176 -> ぐ０１ | G176: =B176&C176 -> 鍵谷浩太 | H176: 東近江グリフィンズ | I176: 男 | J176: 1991 | K176: =IF(J176="","",(2026-J176)) -> 35 | L176: =IF(G176="","",IF(COUNTIF($G$5:$G$698,G176)>1,"2重登録","OK")) -> OK | M176: 彦根市
A177: ぐ０２ | B177: 中西 | C177: 泰輝 | D177: グリフィンズ | F177: =A177 -> ぐ０２ | G177: =B177&C177 -> 中西泰輝 | H177: 東近江グリフィンズ | I177: 男 | J177: 1992 | K177: =IF(J177="","",(2026-J177)) -> 34 | L177: =IF(G177="","",IF(COUNTIF($G$5:$G$698,G177)>1,"2重登録","OK")) -> OK | M177: 守山市
A178: ぐ０３ | B178: 井ノ口 | C178: 幹也 | D178: グリフィンズ | F178: =A178 -> ぐ０３ | G178: =B178&C178 -> 井ノ口幹也 | H178: 東近江グリフィンズ | I178: 男 | J178: 1990 | K178: =IF(J178="","",(2026-J178)) -> 36 | L178: =IF(G178="","",IF(COUNTIF($G$5:$G$698,G178)>1,"2重登録","OK")) -> OK | M178: 東近江市
A179: ぐ０４ | B179: 久保村 | C179: 悠史 | D179: グリフィンズ | F179: =A179 -> ぐ０４ | G179: =B179&C179 -> 久保村悠史 | H179: 東近江グリフィンズ | I179: 男 | J179: 1990 | K179: =IF(J179="","",(2026-J179)) -> 36 | L179: =IF(G179="","",IF(COUNTIF($G$5:$G$698,G179)>1,"2重登録","OK")) -> OK | M179: 京都府
A180: ぐ０５ | B180: 漆原 | C180: 大介 | D180: グリフィンズ | F180: =A180 -> ぐ０５ | G180: =B180&C180 -> 漆原大介 | H180: 東近江グリフィンズ | I180: 男 | J180: 1988 | K180: =IF(J180="","",(2026-J180)) -> 38 | L180: =IF(G180="","",IF(COUNTIF($G$5:$G$698,G180)>1,"2重登録","OK")) -> OK | M180: 彦根市
A181: ぐ０６ | B181: 土田 | C181: 哲也 | D181: グリフィンズ | F181: =A181 -> ぐ０６ | G181: =B181&C181 -> 土田哲也 | H181: 東近江グリフィンズ | I181: 男 | J181: 1990 | K181: =IF(J181="","",(2026-J181)) -> 36 | L181: =IF(G181="","",IF(COUNTIF($G$5:$G$698,G181)>1,"2重登録","OK")) -> OK | M181: 長浜市
A182: ぐ０７ | B182: 金谷 | C182: 太郎 | D182: グリフィンズ | F182: =A182 -> ぐ０７ | G182: =B182&C182 -> 金谷太郎 | H182: 東近江グリフィンズ | I182: 男 | J182: 1976 | K182: =IF(J182="","",(2026-J182)) -> 50 | L182: =IF(G182="","",IF(COUNTIF($G$5:$G$698,G182)>1,"2重登録","OK")) -> OK | M182: 彦根市
A183: ぐ０８ | B183: 山本 | C183: 将義 | D183: グリフィンズ | F183: =A183 -> ぐ０８ | G183: =B183&C183 -> 山本将義 | H183: 東近江グリフィンズ | I183: 男 | J183: 1986 | K183: =IF(J183="","",(2026-J183)) -> 40 | L183: =IF(G183="","",IF(COUNTIF($G$5:$G$698,G183)>1,"2重登録","OK")) -> OK | M183: 彦根市
...
