Workbook

Sheet 要項
B2: 第22回 東近江市秋季ダブルス大会要項
B5: 日 時: | C5: 2026年11月01日（日） ※小雨決行
B6: 主 催: | C6: 東近江テニス協会 （担当クラブ：東近江グリフィンズ）
B7: 会 場: | C7: ひばり公園テニスコート、すこやかの杜テニスコート（全て砂入り人工芝）
B8: 試合時間: | C8: 集合 ８：４５ 試合開始 ９：15～
B9: 参加費用： | C9: :協会員 1,000円/人 非協会員 2,000円/人 高校生以下 500円/人
C10: ※当日払いは 500円アップになります
B12: 種 目: | C12: 男子A級・男子B級・男子Ｃ級・over55
C13: 女子A級・女子B級・女子Ｃ級・over55
C14: ※over55は二人とも今年で55才以上になる方
B16: 参加資格: | C16: A級・OV55はオープン
C17: B級 C級は、東近江市テニス協会員（2026年9月末までの登録）のみ
B21: 試合方法: | C21: １セットマッチ ６－６タイブレーク(ノーアドバンテージ)
C22: ※申し込み状況により変更あり
B24: 申込方法： | C24: １．ドロー会議でお申込み
D25: 代表者が申込書、参加料を持参の上、ドロー会議へお越し下さい。
C26: ２．メール・振り込みでお申込み
D27: 2026年10月21日（水）までに参加費用のお振込みおよび
D28: メールで下記宛先に申込書を送付ください。
D30: メール送付先：kagii.777@gmail.com
D31: 振込先 ：楽天銀行 店番247 バンド支店 普通
D32: 口座番号1175806 カギタニコウタ
B34: ドロー会議： | C34: 2026年10月24日（土） 17時30分～ 布引グリーンスタジアム内来賓室
B36: (注意事項）
B37: 1．試合審判は、セルフジャッジとなります。
B38: 2．試合球は、ダンロップフォートを使用します。
B39: 3．試合中の事故に関して東近江市テニス協会は一切責任を負いません。
B40: 4．試合会場に各自で持ち込んだごみは持ち帰るようお願いします。
B41: 5. 試合進行の都合上、コート割り振りのクレームは受け付けません。
B42: 6. その他、試合前の説明事項を遵守ください。

Sheet 申込書
B1: 第２2回 東近江市 秋季ダブルス大会 申込書
B2: 所属クラブ名 | E2: 代表者氏名
B3: 代表連絡先
C5: 種目はリストから選んでください | E5: 登録No(全角)を入れると氏名と年齢が入力されます
B6: 種目 | E6: 一般の方は それぞれのセルに直接入力してください
A7: ランク | B7: 登録No | C7: 氏 名 | D7: 年齢 | E7: 所属クラブ | F7: 備考
A8: 1 | C8: =IF(B8="一般","",IF(B8="","",VLOOKUP(B8,登録ナンバー!$A$1:$M$358,7,FALSE))) | D8: =IF(B8="一般","",IF($B8="","",VLOOKUP(B8,登録ナンバー!$A$1:$M$358,11,FALSE))) | E8: =IF(B8="一般","一般",IF(B8="","",VLOOKUP(B8,登録ナンバー!$A$1:$M$358,4,FALSE))) | F8: 非協会員・協会員・ジュニア
C9: =IF(B9="一般","",IF(B9="","",VLOOKUP(B9,登録ナンバー!$A$1:$M$358,7,FALSE))) | D9: =IF(B9="一般","",IF($B9="","",VLOOKUP(B9,登録ナンバー!$A$1:$M$358,11,FALSE))) | E9: =IF(B9="一般","一般",IF(B9="","",VLOOKUP(B9,登録ナンバー!$A$1:$M$358,4,FALSE))) | F9: 非協会員・協会員・ジュニア
A10: 2 | C10: =IF(B10="一般","",IF(B10="","",VLOOKUP(B10,登録ナンバー!$A$1:$M$358,7,FALSE))) | D10: =IF(B10="一般","",IF($B10="","",VLOOKUP(B10,登録ナンバー!$A$1:$M$358,11,FALSE))) | E10: =IF(B10="一般","一般",IF(B10="","",VLOOKUP(B10,登録ナンバー!$A$1:$M$358,4,FALSE))) | F10: =IF(B10="","協会員・非協会員・ジュニア",IF(D10<18,"ジュニア",IF(B10="一般","非協会員","協会員"))) -> 協会員・非協会員・ジュニア
C11: =IF(B11="一般","",IF(B11="","",VLOOKUP(B11,登録ナンバー!$A$1:$M$358,7,FALSE))) | D11: =IF(B11="一般","",IF($B11="","",VLOOKUP(B11,登録ナンバー!$A$1:$M$358,11,FALSE))) | E11: =IF(B11="一般","一般",IF(B11="","",VLOOKUP(B11,登録ナンバー!$A$1:$M$358,4,FALSE))) | F11: =IF(B11="","協会員・非協会員・ジュニア",IF(D11<18,"ジュニア",IF(B11="一般","非協会員","協会員"))) -> 協会員・非協会員・ジュニア
A12: 3 | C12: =IF(B12="一般","",IF(B12="","",VLOOKUP(B12,登録ナンバー!$A$1:$M$358,7,FALSE))) | D12: =IF(B12="一般","",IF($B12="","",VLOOKUP(B12,登録ナンバー!$A$1:$M$358,11,FALSE))) | E12: =IF(B12="一般","一般",IF(B12="","",VLOOKUP(B12,登録ナンバー!$A$1:$M$358,4,FALSE))) | F12: =IF(B12="","協会員・非協会員・ジュニア",IF(D12<18,"ジュニア",IF(B12="一般","非協会員","協会員"))) -> 協会員・非協会員・ジュニア
C13: =IF(B13="一般","",IF(B13="","",VLOOKUP(B13,登録ナンバー!$A$1:$M$358,7,FALSE))) | D13: =IF(B13="一般","",IF($B13="","",VLOOKUP(B13,登録ナンバー!$A$1:$M$358,11,FALSE))) | E13: =IF(B13="一般","一般",IF(B13="","",VLOOKUP(B13,登録ナンバー!$A$1:$M$358,4,FALSE))) | F13: =IF(B13="","協会員・非協会員・ジュニア",IF(D13<18,"ジュニア",IF(B13="一般","非協会員","協会員"))) -> 協会員・非協会員・ジュニア
A14: 4 | C14: =IF(B14="一般","",IF(B14="","",VLOOKUP(B14,登録ナンバー!$A$1:$M$358,7,FALSE))) | D14: =IF(B14="一般","",IF($B14="","",VLOOKUP(B14,登録ナンバー!$A$1:$M$358,11,FALSE))) | E14: =IF(B14="一般","一般",IF(B14="","",VLOOKUP(B14,登録ナンバー!$A$1:$M$358,4,FALSE))) | F14: =IF(B14="","協会員・非協会員・ジュニア",IF(D14<18,"ジュニア",IF(B14="一般","非協会員","協会員"))) -> 協会員・非協会員・ジュニア
C15: =IF(B15="一般","",IF(B15="","",VLOOKUP(B15,登録ナンバー!$A$1:$M$358,7,FALSE))) | D15: =IF(B15="一般","",IF($B15="","",VLOOKUP(B15,登録ナンバー!$A$1:$M$358,11,FALSE))) | E15: =IF(B15="一般","一般",IF(B15="","",VLOOKUP(B15,登録ナンバー!$A$1:$M$358,4,FALSE))) | F15: =IF(B15="","協会員・非協会員・ジュニア",IF(D15<18,"ジュニア",IF(B15="一般","非協会員","協会員"))) -> 協会員・非協会員・ジュニア
C17: 種目はリストから選んでください
B18: 種目 | E18: 一般の方は それぞれのセルに直接入力してください
A19: ランク | B19: 登録No | C19: 氏 名 | D19: 年齢 | E19: 所属クラブ | F19: 備考
A20: 1 | C20: =IF(B20="一般","",IF(B20="","",VLOOKUP(B20,登録ナンバー!$A$1:$M$358,7,FALSE))) | D20: =IF(B20="一般","",IF($B20="","",VLOOKUP(B20,登録ナンバー!$A$1:$M$358,11,FALSE))) | E20: =IF(B20="一般","一般",IF(B20="","",VLOOKUP(B20,登録ナンバー!$A$1:$M$358,4,FALSE))) | F20: =IF(B20="","協会員・非協会員・ジュニア",IF(D20<18,"ジュニア",IF(B20="一般","非協会員","協会員"))) -> 協会員・非協会員・ジュニア
C21: =IF(B21="一般","",IF(B21="","",VLOOKUP(B21,登録ナンバー!$A$1:$M$358,7,FALSE))) | D21: =IF(B21="一般","",IF($B21="","",VLOOKUP(B21,登録ナンバー!$A$1:$M$358,11,FALSE))) | E21: =IF(B21="一般","一般",IF(B21="","",VLOOKUP(B21,登録ナンバー!$A$1:$M$358,4,FALSE))) | F21: =IF(B21="","協会員・非協会員・ジュニア",IF(D21<18,"ジュニア",IF(B21="一般","非協会員","協会員"))) -> 協会員・非協会員・ジュニア
A22: 2 | C22: =IF(B22="一般","",IF(B22="","",VLOOKUP(B22,登録ナンバー!$A$1:$M$358,7,FALSE))) | D22: =IF(B22="一般","",IF($B22="","",VLOOKUP(B22,登録ナンバー!$A$1:$M$358,11,FALSE))) | E22: =IF(B22="一般","一般",IF(B22="","",VLOOKUP(B22,登録ナンバー!$A$1:$M$358,4,FALSE))) | F22: =IF(B22="","協会員・非協会員・ジュニア",IF(D22<18,"ジュニア",IF(B22="一般","非協会員","協会員"))) -> 協会員・非協会員・ジュニア
C23: =IF(B23="一般","",IF(B23="","",VLOOKUP(B23,登録ナンバー!$A$1:$M$358,7,FALSE))) | D23: =IF(B23="一般","",IF($B23="","",VLOOKUP(B23,登録ナンバー!$A$1:$M$358,11,FALSE))) | E23: =IF(B23="一般","一般",IF(B23="","",VLOOKUP(B23,登録ナンバー!$A$1:$M$358,4,FALSE))) | F23: =IF(B23="","協会員・非協会員・ジュニア",IF(D23<18,"ジュニア",IF(B23="一般","非協会員","協会員"))) -> 協会員・非協会員・ジュニア
A24: 3 | C24: =IF(B24="一般","",IF(B24="","",VLOOKUP(B24,登録ナンバー!$A$1:$M$358,7,FALSE))) | D24: =IF(B24="一般","",IF($B24="","",VLOOKUP(B24,登録ナンバー!$A$1:$M$358,11,FALSE))) | E24: =IF(B24="一般","一般",IF(B24="","",VLOOKUP(B24,登録ナンバー!$A$1:$M$358,4,FALSE))) | F24: =IF(B24="","協会員・非協会員・ジュニア",IF(D24<18,"ジュニア",IF(B24="一般","非協会員","協会員"))) -> 協会員・非協会員・ジュニア
C25: =IF(B25="一般","",IF(B25="","",VLOOKUP(B25,登録ナンバー!$A$1:$M$358,7,FALSE))) | D25: =IF(B25="一般","",IF($B25="","",VLOOKUP(B25,登録ナンバー!$A$1:$M$358,11,FALSE))) | E25: =IF(B25="一般","一般",IF(B25="","",VLOOKUP(B25,登録ナンバー!$A$1:$M$358,4,FALSE))) | F25: =IF(B25="","協会員・非協会員・ジュニア",IF(D25<18,"ジュニア",IF(B25="一般","非協会員","協会員"))) -> 協会員・非協会員・ジュニア
A26: 4 | C26: =IF(B26="一般","",IF(B26="","",VLOOKUP(B26,登録ナンバー!$A$1:$M$358,7,FALSE))) | D26: =IF(B26="一般","",IF($B26="","",VLOOKUP(B26,登録ナンバー!$A$1:$M$358,11,FALSE))) | E26: =IF(B26="一般","一般",IF(B26="","",VLOOKUP(B26,登録ナンバー!$A$1:$M$358,4,FALSE))) | F26: =IF(B26="","協会員・非協会員・ジュニア",IF(D26<18,"ジュニア",IF(B26="一般","非協会員","協会員"))) -> 協会員・非協会員・ジュニア
C27: =IF(B27="一般","",IF(B27="","",VLOOKUP(B27,登録ナンバー!$A$1:$M$358,7,FALSE))) | D27: =IF(B27="一般","",IF($B27="","",VLOOKUP(B27,登録ナンバー!$A$1:$M$358,11,FALSE))) | E27: =IF(B27="一般","一般",IF(B27="","",VLOOKUP(B27,登録ナンバー!$A$1:$M$358,4,FALSE))) | F27: =IF(B27="","協会員・非協会員・ジュニア",IF(D27<18,"ジュニア",IF(B27="一般","非協会員","協会員"))) -> 協会員・非協会員・ジュニア
C29: 種目はリストから選んでください
B30: 種目 | E30: 一般の方は それぞれのセルに直接入力してください
A31: ランク | B31: 登録No | C31: 氏 名 | D31: 年齢 | E31: 所属クラブ | F31: 備考 | H31: 男子A級
C32: =IF(B32="一般","",IF(B32="","",VLOOKUP(B32,登録ナンバー!$A$1:$M$358,7,FALSE))) | D32: =IF(B32="一般","",IF($B32="","",VLOOKUP(B32,登録ナンバー!$A$1:$M$358,11,FALSE))) | E32: =IF(B32="一般","一般",IF(B32="","",VLOOKUP(B32,登録ナンバー!$A$1:$M$358,4,FALSE))) | F32: =IF(B32="","協会員・非協会員・ジュニア",IF(D32<18,"ジュニア",IF(B32="一般","非協会員","協会員"))) -> 協会員・非協会員・ジュニア | H32: 男子B級
C33: =IF(B33="一般","",IF(B33="","",VLOOKUP(B33,登録ナンバー!$A$1:$M$358,7,FALSE))) | D33: =IF(B33="一般","",IF($B33="","",VLOOKUP(B33,登録ナンバー!$A$1:$M$358,11,FALSE))) | E33: =IF(B33="一般","一般",IF(B33="","",VLOOKUP(B33,登録ナンバー!$A$1:$M$358,4,FALSE))) | F33: =IF(B33="","協会員・非協会員・ジュニア",IF(D33<18,"ジュニア",IF(B33="一般","非協会員","協会員"))) -> 協会員・非協会員・ジュニア | H33: 男子C級
A34: 2 | C34: =IF(B34="一般","",IF(B34="","",VLOOKUP(B34,登録ナンバー!$A$1:$M$358,7,FALSE))) | D34: =IF(B34="一般","",IF($B34="","",VLOOKUP(B34,登録ナンバー!$A$1:$M$358,11,FALSE))) | E34: =IF(B34="一般","一般",IF(B34="","",VLOOKUP(B34,登録ナンバー!$A$1:$M$358,4,FALSE))) | F34: =IF(B34="","協会員・非協会員・ジュニア",IF(D34<18,"ジュニア",IF(B34="一般","非協会員","協会員"))) -> 協会員・非協会員・ジュニア | H34: 男子OV55
C35: =IF(B35="一般","",IF(B35="","",VLOOKUP(B35,登録ナンバー!$A$1:$M$358,7,FALSE))) | D35: =IF(B35="一般","",IF($B35="","",VLOOKUP(B35,登録ナンバー!$A$1:$M$358,11,FALSE))) | E35: =IF(B35="一般","一般",IF(B35="","",VLOOKUP(B35,登録ナンバー!$A$1:$M$358,4,FALSE))) | F35: =IF(B35="","協会員・非協会員・ジュニア",IF(D35<18,"ジュニア",IF(B35="一般","非協会員","協会員"))) -> 協会員・非協会員・ジュニア | H35: 女子A級
A36: 3 | C36: =IF(B36="一般","",IF(B36="","",VLOOKUP(B36,登録ナンバー!$A$1:$M$358,7,FALSE))) | D36: =IF(B36="一般","",IF($B36="","",VLOOKUP(B36,登録ナンバー!$A$1:$M$358,11,FALSE))) | E36: =IF(B36="一般","一般",IF(B36="","",VLOOKUP(B36,登録ナンバー!$A$1:$M$358,4,FALSE))) | F36: =IF(B36="","協会員・非協会員・ジュニア",IF(D36<18,"ジュニア",IF(B36="一般","非協会員","協会員"))) -> 協会員・非協会員・ジュニア | H36: 女子B級
C37: =IF(B37="一般","",IF(B37="","",VLOOKUP(B37,登録ナンバー!$A$1:$M$358,7,FALSE))) | D37: =IF(B37="一般","",IF($B37="","",VLOOKUP(B37,登録ナンバー!$A$1:$M$358,11,FALSE))) | E37: =IF(B37="一般","一般",IF(B37="","",VLOOKUP(B37,登録ナンバー!$A$1:$M$358,4,FALSE))) | F37: =IF(B37="","協会員・非協会員・ジュニア",IF(D37<18,"ジュニア",IF(B37="一般","非協会員","協会員"))) -> 協会員・非協会員・ジュニア | H37: 女子C級
H38: 女子OV55
C39: 参加費（円） | E39: 人数（人） | F39: 小計
C40: 協会員 | D40: 1000 | F40: =D40*E40 -> 0
C41: 非協会員 | D41: 2000 | F41: =D41*E41 -> 0
C42: ジュニア | D42: 500 | F42: =D42*E42 -> 0
E43: 合計 | F43: =SUM(F40:F42) -> 0

Sheet 歴代入賞者
B3: 東近江市秋季ダブルス大会 歴代入賞者
E5: 優勝 | F5: 準優勝 | G5: 3位
B6: 第18回 | C6: 男子 | D6: 男子A級 | E6: 川上・竹下（Ｋテニス・うさかめ） | F6: 山口・新谷（Ｋテニスカレッジ） | G6: 松村・牛道 （アンヴァーズ・うさかめ）
D7: Ｂ級＆ＯＶ５５ | E7: 川上・平塚（村田ＴＣ・フレンズ） | F7: 草野・長谷川（アビックＢＢ） | G7: 森・山本（グリフィンズ・うさかめ）
C8: 女子 | D8: Ａ級 | E8: 土肥・南（フレンズ・一般） | F8: 片桐・藤田（アンヴァース・うさかめ） | G8: 谷口・西野（うさかめ・アンヴァーズ）
D9: Ｂ級＆ＯＶ５５ | E9: 永松・藤原（うさかめ・一般） | F9: 梅田・伊吹（うさぎとかめの集い） | G9: 三原・中野（アビックＢＢ・村田ＴＣ
B10: 第19回 | C10: 男子 | D10: 男子A級 | E10: 土田・吉野（グリフィンズ） | F10: 大山・上瀧（一般） | G10: 小原・鈴木（一般）
D11: Ｂ級＆ＯＶ５５ | E11: 岩花・脇野（うさぎとかめの集い） | F11: 辰巳・二ツ井（アプストＴＣ） | G11: 吉村・中嶋（うさかめ・Ｒ11）
C12: 女子 | D12: Ａ級 | E12: 大野・三崎（フレンズ・うさかめ） | F12: 藤田・村木（うさかめ・一般） | G12: 小原・鈴木（一般）
D13: Ｂ級＆ＯＶ５５ | E13: 筒井・永松（フレンズ・うさかめ） | F13: 植垣・西崎（うさぎとかめの集い） | G13: 村田・村田（うさかめ・アプストＴＣ）
B14: 第20回 | C14: 男子 | D14: 男子A級 | E14: 川上・竹下（Ｋテニス・うさかめ） | F14: 山口・新谷（Ｋテニスカレッジ） | G14: 松村・牛道 （アンヴァーズ・うさかめ）
D15: Ｂ級＆ＯＶ５５ | E15: 山本・中田（うさぎとかめの集い） | F15: 片岡・吉村（うさぎとかめの集い） | G15: 石井・牛尾（京セラＴＣ）
C16: 女子 | D16: Ａ級 | E16: 大野・漆原（フレンズ・グリフィンズ） | F16: 木下・原田（一般Jr） | G16: 三代・筒井（フレンズ）
D17: Ｂ級 | E17: 苗村・古株（うさぎとかめの集い） | F17: 永原・永原（個人登録）
B18: 第21回 | C18: 男子 | D18: A級 | E18: 土田・佐野（グリフィンズ・一般） | F18: 杉山・梶田（滋賀県立大） | G18: 上津・中西（アンヴァーズ）
D19: Ｂ級 | E19: 亀井・脇野（うさぎとかめの集い） | F19: 片岡・吉村（うさぎとかめの集い） | G19: 竹内・広瀬（グリフィンズ）
D20: OV55 | E20: 山本・中田（うさぎとかめの集い） | F20: 岡川・稲泉（アプストＴＣ） | G20: 辻村・槇田（アビックＢＢ・一般）
C21: 女子 | D21: A級 | E21: 漆原・西野（グリフィンズ） | F21: 辻・竹下（うさぎとかめの集い）
D22: 男C＆女B・C | E22: 雨天中止

Sheet 登録ナンバー
B1: ２０２６年度東近江市テニス協会登録ナンバー | I1: 46312
B3: 1 | D3: ４４人
A4: あ０１ | B4: 青木 | C4: 重之 | D4: アビックBB | F4: =A4 -> あ０１ | G4: =B4&C4 -> 青木重之 | H4: =D4 -> アビックBB | I4: 男 | J4: 1971 | K4: =IF(J4="","",(2026-J4)) -> 55 | L4: =IF(G4="","",IF(COUNTIF($G$4:$G$109,G4)>1,"2重登録","OK")) -> OK | M4: 草津市
A5: あ０２ | B5: 西川 | C5: 昌一 | D5: アビックBB | F5: =A5 -> あ０２ | G5: =B5&C5 -> 西川昌一 | H5: =D5 -> アビックBB | I5: 男 | J5: 1970 | K5: =IF(J5="","",(2026-J5)) -> 56 | L5: =IF(G5="","",IF(COUNTIF($G$4:$G$109,G5)>1,"2重登録","OK")) -> OK | M5: 彦根市
A6: あ０３ | B6: 安達 | C6: 隆一 | D6: アビックBB | F6: =A6 -> あ０３ | G6: =B6&C6 -> 安達隆一 | H6: =D6 -> アビックBB | I6: 男 | J6: 1970 | K6: =IF(J6="","",(2026-J6)) -> 56 | L6: =IF(G6="","",IF(COUNTIF($G$4:$G$109,G6)>1,"2重登録","OK")) -> OK | M6: 甲賀市
A7: あ０４ | B7: 上原 | C7: 義弘 | D7: アビックBB | F7: =A7 -> あ０４ | G7: =B7&C7 -> 上原義弘 | H7: =D7 -> アビックBB | I7: 男 | J7: 1974 | K7: =IF(J7="","",(2026-J7)) -> 52 | L7: =IF(G7="","",IF(COUNTIF($G$4:$G$109,G7)>1,"2重登録","OK")) -> OK | M7: 彦根市
A8: あ０５ | B8: 寺村 | C8: 浩一 | D8: アビックBB | F8: =A8 -> あ０５ | G8: =B8&C8 -> 寺村浩一 | H8: =D8 -> アビックBB | I8: 男 | J8: 1968 | K8: =IF(J8="","",(2026-J8)) -> 58 | L8: =IF(G8="","",IF(COUNTIF($G$4:$G$109,G8)>1,"2重登録","OK")) -> OK | M8: 愛荘町
A9: あ０６ | B9: 平居 | C9: 崇 | D9: アビックBB | F9: =A9 -> あ０６ | G9: =B9&C9 -> 平居崇 | H9: =D9 -> アビックBB | I9: 男 | J9: 1972 | K9: =IF(J9="","",(2026-J9)) -> 54 | L9: =IF(G9="","",IF(COUNTIF($G$4:$G$109,G9)>1,"2重登録","OK")) -> OK | M9: 多賀町
A10: あ０７ | B10: 大林 | C10: 弘典 | D10: アビックBB | F10: =A10 -> あ０７ | G10: =B10&C10 -> 大林弘典 | H10: =D10 -> アビックBB | I10: 男 | J10: 1989 | K10: =IF(J10="","",(2026-J10)) -> 37 | L10: =IF(G10="","",IF(COUNTIF($G$4:$G$109,G10)>1,"2重登録","OK")) -> OK | M10: 長浜市
A11: あ０８ | B11: 福嶋 | C11: 亮 | D11: アビックBB | F11: =A11 -> あ０８ | G11: =B11&C11 -> 福嶋亮 | H11: =D11 -> アビックBB | I11: 男 | J11: 1961 | K11: =IF(J11="","",(2026-J11)) -> 65 | L11: =IF(G11="","",IF(COUNTIF($G$4:$G$109,G11)>1,"2重登録","OK")) -> OK | M11: 岐阜県
A12: あ０９ | B12: 落合 | C12: 良弘 | D12: アビックBB | F12: =A12 -> あ０９ | G12: =B12&C12 -> 落合良弘 | H12: =D12 -> アビックBB | I12: 男 | J12: 1968 | K12: =IF(J12="","",(2026-J12)) -> 58 | L12: =IF(G12="","",IF(COUNTIF($G$4:$G$109,G12)>1,"2重登録","OK")) -> OK | M12: 長浜市
A13: あ１０ | B13: 松井 | C13: 傳樹 | D13: アビックBB | F13: =A13 -> あ１０ | G13: =B13&C13 -> 松井傳樹 | H13: =D13 -> アビックBB | I13: 男 | J13: 1987 | K13: =IF(J13="","",(2026-J13)) -> 39 | L13: =IF(G13="","",IF(COUNTIF($G$4:$G$109,G13)>1,"2重登録","OK")) -> OK | M13: 彦根市
A14: あ１１ | B14: 長谷川 | C14: 優 | D14: アビックBB | F14: =A14 -> あ１１ | G14: =B14&C14 -> 長谷川優 | H14: =D14 -> アビックBB | I14: 男 | J14: 1973 | K14: =IF(J14="","",(2026-J14)) -> 53 | L14: =IF(G14="","",IF(COUNTIF($G$4:$G$109,G14)>1,"2重登録","OK")) -> OK | M14: 甲賀市
A15: あ１２ | B15: 草野 | C15: 活地 | D15: アビックBB | F15: =A15 -> あ１２ | G15: =B15&C15 -> 草野活地 | H15: =D15 -> アビックBB | I15: 男 | J15: 1974 | K15: =IF(J15="","",(2026-J15)) -> 52 | L15: =IF(G15="","",IF(COUNTIF($G$4:$G$109,G15)>1,"2重登録","OK")) -> OK | M15: 草津市
... A23: あ２０ | B23: 坪井 | C23: 徳寿 | D23: アビックBB | F23: =A23 -> あ２０ | G23: =B23&C23 -> 坪井徳寿 | H23: =D23 -> アビックBB | I23: 男 | J23: 1979 | K23: =IF(J23="","",(2026-J23)) -> 47 | L23: =IF(G23="","",IF(COUNTIF($G$4:$G$109,G23)>1,"2重登録","OK")) -> OK | M23: 草津市
A24: あ２１ | B24: 辻村 | C24: 惣一 | D24: アビックBB | E24: ｓｅ | F24: =A24 -> あ２１ | G24: =B24&C24 -> 辻村惣一 | H24: =D24 -> アビックBB | I24: 男 | J24: 1953 | K24: =IF(J24="","",(2026-J24)) -> 73 | L24: =IF(G24="","",IF(COUNTIF($G$4:$G$109,G24)>1,"2重登録","OK")) -> OK | M24: 長浜市
A25: あ２２ | B25: 槇田 | C25: 学 | D25: アビックBB | F25: =A25 -> あ２２ | G25: =B25&C25 -> 槇田学 | H25: =D25 -> アビックBB | I25: 男 | J25: 1965 | K25: =IF(J25="","",(2026-J25)) -> 61 | L25: =IF(G25="","",IF(COUNTIF($G$4:$G$109,G25)>1,"2重登録","OK")) -> OK | M25: 彦根市
A26: あ２３ | B26: 武久 | C26: 真也 | D26: アビックBB | F26: =A26 -> あ２３ | G26: =B26&C26 -> 武久真也 | H26: =D26 -> アビックBB | I26: 男 | J26: 1982 | K26: =IF(J26="","",(2026-J26)) -> 44 | L26: =IF(G26="","",IF(COUNTIF($G$4:$G$109,G26)>1,"2重登録","OK")) -> OK | M26: 近江八幡市
A27: あ２４ | B27: 大脇 | C27: 和世 | D27: アビックBB | F27: =A27 -> あ２４ | G27: =B27&C27 -> 大脇和世 | H27: =D27 -> アビックBB | I27: 女 | J27: 1970 | K27: =IF(J27="","",(2026-J27)) -> 56 | L27: =IF(G27="","",IF(COUNTIF($G$4:$G$109,G27)>1,"2重登録","OK")) -> OK | M27: 愛荘町
A28: あ２５ | B28: 西山 | C28: 抄千代 | D28: アビックBB | F28: =A28 -> あ２５ | G28: =B28&C28 -> 西山抄千代 | H28: =D28 -> アビックBB | I28: 女 | J28: 1972 | K28: =IF(J28="","",(2026-J28)) -> 54 | L28: =IF(G28="","",IF(COUNTIF($G$4:$G$109,G28)>1,"2重登録","OK")) -> OK | M28: 米原市
A29: あ２６ | B29: 齋田 | C29: 優子 | D29: アビックBB | F29: =A29 -> あ２６ | G29: =B29&C29 -> 齋田優子 | H29: =D29 -> アビックBB | I29: 女 | J29: 1983 | K29: =IF(J29="","",(2026-J29)) -> 43 | L29: =IF(G29="","",IF(COUNTIF($G$4:$G$109,G29)>1,"2重登録","OK")) -> OK | M29: 長浜市
A30: あ２７ | B30: 中村 | C30: 紗映子 | D30: アビックBB | F30: =A30 -> あ２７ | G30: =B30&C30 -> 中村紗映子 | H30: =D30 -> アビックBB | I30: 女 | J30: 1983 | K30: =IF(J30="","",(2026-J30)) -> 43 | L30: =IF(G30="","",IF(COUNTIF($G$4:$G$109,G30)>1,"2重登録","OK")) -> OK | M30: 長浜市
A31: あ２８ | B31: 松本 | C31: 光美 | D31: アビックBB | F31: =A31 -> あ２８ | G31: =B31&C31 -> 松本光美 | H31: =D31 -> アビックBB | I31: 女 | J31: 1971 | K31: =IF(J31="","",(2026-J31)) -> 55 | L31: =IF(G31="","",IF(COUNTIF($G$4:$G$109,G31)>1,"2重登録","OK")) -> OK | M31: 草津市
A32: あ２９ | B32: 堅田 | C32: 瑞木 | D32: アビックBB | F32: =A32 -> あ２９ | G32: =B32&C32 -> 堅田瑞木 | H32: =D32 -> アビックBB | I32: 女 | J32: 1996 | K32: =IF(J32="","",(2026-J32)) -> 30 | L32: =IF(G32="","",IF(COUNTIF($G$4:$G$109,G32)>1,"2重登録","OK")) -> OK | M32: 京都府
A33: あ３０ | B33: 堀田 | C33: 明子 | D33: アビックBB | F33: =A33 -> あ３０ | G33: =B33&C33 -> 堀田明子 | H33: =D33 -> アビックBB | I33: 女 | J33: 1970 | K33: =IF(J33="","",(2026-J33)) -> 56 | L33: =IF(G33="","",IF(COUNTIF($G$4:$G$109,G33)>1,"2重登録","OK")) -> OK | M33: 東近江市
A34: あ３１ | B34: 佐野 | C34: 直美 | D34: アビックBB | F34: =A34 -> あ３１ | G34: =B34&C34 -> 佐野直美 | H34: =D34 -> アビックBB | I34: 女 | J34: 1975 | K34: =IF(J34="","",(2026-J34)) -> 51 | L34: =IF(G34="","",IF(COUNTIF($G$4:$G$109,G34)>1,"2重登録","OK")) -> OK | M34: 京都府
A35: あ３２ | B35: 千代 | C35: 美由紀 | D35: アビックBB | F35: =A35 -> あ３２ | G35: =B35&C35 -> 千代美由紀 | H35: =D35 -> アビックBB | I35: 女 | J35: 1972 | K35: =IF(J35="","",(2026-J35)) -> 54 | L35: =IF(G35="","",IF(COUNTIF($G$4:$G$109,G35)>1,"2重登録","OK")) -> OK | M35: 京都府
A36: あ３３ | B36: 小西 | C36: 由美子 | D36: アビックBB | F36: =A36 -> あ３３ | G36: =B36&C36 -> 小西由美子 | H36: =D36 -> アビックBB | I36: 女 | J36: 1968 | K36: =IF(J36="","",(2026-J36)) -> 58 | L36: =IF(G36="","",IF(COUNTIF($G$4:$G$109,G36)>1,"2重登録","OK")) -> OK | M36: 近江八幡市
... A47: あ４４ | B47: 長瀬 | C47: 圭音 | D47: アビックBB | F47: =A47 -> あ４４ | G47: =B47&C47 -> 長瀬圭音 | H47: =D47 -> アビックBB | I47: 女 | J47: 2007 | K47: =IF(J47="","",(2026-J47)) -> 19 | L47: =IF(G47="","",IF(COUNTIF($G$4:$G$109,G47)>1,"2重登録","OK")) -> OK | M47: 東近江市
B48: 2 | D48: ３３人 | K48: =IF(J48="","",(2026-J48))
A49: あぷ０１ | B49: 杉山 | C49: 邦夫 | D49: アプストTC | E49: ｓｅ | F49: =A49 -> あぷ０１ | G49: =B49&C49 -> 杉山邦夫 | H49: =D49 -> アプストTC | I49: 男 | J49: 1950 | K49: =IF(J49="","",(2026-J49)) -> 76 | L49: =IF(G49="","",IF(COUNTIF($G$4:$G$117,G49)>1,"2重登録","OK")) -> OK | M49: 多賀町
A50: あぷ０２ | B50: 川上 | C50: 英二 | D50: アプストTC | F50: =A50 -> あぷ０２ | G50: =B50&C50 -> 川上英二 | H50: =D50 -> アプストTC | I50: 男 | J50: 1963 | K50: =IF(J50="","",(2026-J50)) -> 63 | L50: =IF(G50="","",IF(COUNTIF($G$4:$G$117,G50)>1,"2重登録","OK")) -> OK | M50: 東近江市
A51: あぷ０３ | B51: 浅田 | C51: 隆昭 | D51: アプストTC | F51: =A51 -> あぷ０３ | G51: =B51&C51 -> 浅田隆昭 | H51: =D51 -> アプストTC | I51: 男 | J51: 1964 | K51: =IF(J51="","",(2026-J51)) -> 62 | L51: =IF(G51="","",IF(COUNTIF($G$4:$G$117,G51)>1,"2重登録","OK")) -> OK | M51: 守山市
A52: あぷ０４ | B52: 森永 | C52: 洋介 | D52: アプストTC | F52: =A52 -> あぷ０４ | G52: =B52&C52 -> 森永洋介 | H52: =D52 -> アプストTC | I52: 男 | J52: 1986 | K52: =IF(J52="","",(2026-J52)) -> 40 | L52: =IF(G52="","",IF(COUNTIF($G$4:$G$117,G52)>1,"2重登録","OK")) -> OK | M52: 近江八幡市
A53: あぷ０５ | B53: 辰巳 | C53: 悟朗 | D53: アプストTC | F53: =A53 -> あぷ０５ | G53: =B53&C53 -> 辰巳悟朗 | H53: =D53 -> アプストTC | I53: 男 | J53: 1974 | K53: =IF(J53="","",(2026-J53)) -> 52 | L53: =IF(G53="","",IF(COUNTIF($G$4:$G$117,G53)>1,"2重登録","OK")) -> OK | M53: 彦根市
A54: あぷ０６ | B54: 川上 | C54: 美弥子 | D54: アプストTC | F54: =A54 -> あぷ０６ | G54: =B54&C54 -> 川上美弥子 | H54: =D54 -> アプストTC | I54: 女 | J54: 1971 | K54: =IF(J54="","",(2026-J54)) -> 55 | L54: =IF(G54="","",IF(COUNTIF($G$4:$G$117,G54)>1,"2重登録","OK")) -> OK | M54: 東近江市
A55: あぷ０７ | B55: 山内 | C55: 雄平 | D55: アプストTC | F55: =A55 -> あぷ０７ | G55: =B55&C55 -> 山内雄平 | H55: =D55 -> アプストTC | I55: 男 | J55: 1989 | K55: =IF(J55="","",(2026-J55)) -> 37 | L55: =IF(G55="","",IF(COUNTIF($G$4:$G$117,G55)>1,"2重登録","OK")) -> OK | M55: 東近江市
A56: あぷ０８ | B56: 木村 | C56: 美香 | D56: アプストTC | F56: =A56 -> あぷ０８ | G56: =B56&C56 -> 木村美香 | H56: =D56 -> アプストTC | I56: 女 | J56: 1962 | K56: =IF(J56="","",(2026-J56)) -> 64 | L56: =IF(G56="","",IF(COUNTIF($G$4:$G$117,G56)>1,"2重登録","OK")) -> OK | M56: 米原市
A57: あぷ０９ | B57: 日高 | C57: 眞規子 | D57: アプストTC | F57: =A57 -> あぷ０９ | G57: =B57&C57 -> 日高眞規子 | H57: =D57 -> アプストTC | I57: 女 | J57: 1963 | K57: =IF(J57="","",(2026-J57)) -> 63 | L57: =IF(G57="","",IF(COUNTIF($G$4:$G$117,G57)>1,"2重登録","OK")) -> OK | M57: 長浜市
A58: あぷ１０ | B58: 長谷出 | C58: 浩 | D58: アプストTC | F58: =A58 -> あぷ１０ | G58: =B58&C58 -> 長谷出浩 | H58: =D58 -> アプストTC | I58: 男 | J58: 1960 | K58: =IF(J58="","",(2026-J58)) -> 66 | L58: =IF(G58="","",IF(COUNTIF($G$4:$G$117,G58)>1,"2重登録","OK")) -> OK | M58: 東近江市
...
