Workbook
Name ExternalData_1: 歴代入賞チーム!$A$1:$F$28

Sheet メンバー表
D1: 第22回 東近江市王座戦メンバー表
D3: 部門 | I3: 部門
D4: 男子一般 A級 | I4: 女子OV45
B5: 登録No | C5: 登録No | D5: グリフィン | G5: 登録No | H5: 登録No | I5: フレンズ
B6: ぐ０１ | C6: ぐ３１ | D6: =IF(B6="","",VLOOKUP(B6,登録ナンバー!$A$4:$I$583,7,0)) -> 鍵谷浩太 | E6: =IF(C6="","",VLOOKUP(C6,登録ナンバー!$A$4:$I$583,7,0)) -> 門根維吹 | G6: ふ１４ | H6: ふ２０ | I6: =IF(G6="","",VLOOKUP(G6,登録ナンバー!$A$4:$I$583,7,0)) -> 三代梨絵 | J6: =IF(H6="","",VLOOKUP(H6,登録ナンバー!$A$4:$I$583,7,0)) -> 吉岡京子
B7: ぐ０６ | C7: ぐ１４ | D7: =IF(B7="","",VLOOKUP(B7,登録ナンバー!$A$4:$I$583,7,0)) -> 土田哲也 | E7: =IF(C7="","",VLOOKUP(C7,登録ナンバー!$A$4:$I$583,7,0)) -> 小林由汰 | G7: ふ１５ | H7: ふ２２ | I7: =IF(G7="","",VLOOKUP(G7,登録ナンバー!$A$4:$I$583,7,0)) -> 福元さち | J7: =IF(H7="","",VLOOKUP(H7,登録ナンバー!$A$4:$I$583,7,0)) -> 山﨑暢代
B8: ぐ１３ | D8: =IF(B8="","",VLOOKUP(B8,登録ナンバー!$A$4:$I$583,7,0)) -> 平野優也 | E8: =IF(C8="","",VLOOKUP(C8,登録ナンバー!$A$4:$I$583,7,0)) | G8: ふ１６ | I8: =IF(G8="","",VLOOKUP(G8,登録ナンバー!$A$4:$I$583,7,0)) -> 筒井珠世 | J8: =IF(H8="","",VLOOKUP(H8,登録ナンバー!$A$4:$I$583,7,0))
D9: =IF(B9="","",VLOOKUP(B9,登録ナンバー!$A$4:$I$583,7,0)) | E9: =IF(C9="","",VLOOKUP(C9,登録ナンバー!$A$4:$I$583,7,0)) | G9: 登録No | H9: 登録No | I9: アビックWA
B10: 登録No | C10: 登録No | D10: 京セラTC-A | G10: あ２４ | H10: あ３２ | I10: =IF(G10="","",VLOOKUP(G10,登録ナンバー!$A$4:$I$583,7,0)) -> 大脇和世 | J10: =IF(H10="","",VLOOKUP(H10,登録ナンバー!$A$4:$I$583,7,0)) -> 千代美由紀
B11: き０３ | C11: き２８ | D11: =IF(B11="","",VLOOKUP(B11,登録ナンバー!$A$4:$I$583,7,0)) -> 石井耶真斗 | E11: =IF(C11="","",VLOOKUP(C11,登録ナンバー!$A$4:$I$583,7,0)) -> 山田修平 | G11: あ２５ | H11: あ３８ | I11: =IF(G11="","",VLOOKUP(G11,登録ナンバー!$A$4:$I$583,7,0)) -> 西山抄千代 | J11: =IF(H11="","",VLOOKUP(H11,登録ナンバー!$A$4:$I$583,7,0)) -> 山中博子
B12: き２６ | C12: き３２ | D12: =IF(B12="","",VLOOKUP(B12,登録ナンバー!$A$4:$I$583,7,0)) -> 村西徹 | E12: 荒浪順次 | I12: =IF(G12="","",VLOOKUP(G12,登録ナンバー!$A$4:$I$583,7,0)) | J12: =IF(H12="","",VLOOKUP(H12,登録ナンバー!$A$4:$I$583,7,0))
B13: き２７ | C13: き３４ | D13: =IF(B13="","",VLOOKUP(B13,登録ナンバー!$A$4:$I$583,7,0)) -> 安武義剛 | E13: =IF(C13="","",VLOOKUP(C13,登録ナンバー!$A$4:$I$583,7,0)) -> 和田洸 | G13: 登録No | H13: 登録No | I13: アビックWB
D14: =IF(B14="","",VLOOKUP(B14,登録ナンバー!$A$4:$I$583,7,0)) | E14: =IF(C14="","",VLOOKUP(C14,登録ナンバー!$A$4:$I$583,7,0)) | G14: あ４０ | H14: あ４２ | I14: 新崎浩子 | J14: 長瀬清香
G15: あ４１ | H15: あ４３ | I15: 篠崎泉 | J15: 氏原典子
D16: 部門 | I16: =IF(G16="","",VLOOKUP(G16,登録ナンバー!$A$4:$I$583,7,0)) | J16: =IF(H16="","",VLOOKUP(H16,登録ナンバー!$A$4:$I$583,7,0))
D17: 男子一般 B級 | G17: 登録No | H17: 登録No | I17: アプストTC
B18: 登録No | C18: 登録No | D18: うさかめ | G18: あぷ０８ | H18: あぷ２７ | I18: =IF(G18="","",VLOOKUP(G18,登録ナンバー!$A$4:$I$583,7,0)) -> 木村美香 | J18: =IF(H18="","",VLOOKUP(H18,登録ナンバー!$A$4:$I$583,7,0)) -> 宮村朋子
B19: う１７ | C19: う２７ | D19: =IF(B19="","",VLOOKUP(B19,登録ナンバー!$A$4:$I$583,7,0)) -> 中嶋徹 | E19: =IF(C19="","",VLOOKUP(C19,登録ナンバー!$A$4:$I$583,7,0)) -> 中島章大 | G19: あぷ０９ | H19: あぷ３１ | I19: =IF(G19="","",VLOOKUP(G19,登録ナンバー!$A$4:$I$583,7,0)) -> 日高眞規子 | J19: =IF(H19="","",VLOOKUP(H19,登録ナンバー!$A$4:$I$583,7,0)) -> 山田昌枝
B20: う２５ | C20: う２９ | D20: =IF(B20="","",VLOOKUP(B20,登録ナンバー!$A$4:$I$583,7,0)) -> 渡邊直洋 | E20: =IF(C20="","",VLOOKUP(C20,登録ナンバー!$A$4:$I$583,7,0)) -> 元生光亮 | I20: =IF(G20="","",VLOOKUP(G20,登録ナンバー!$A$4:$I$583,7,0)) | J20: =IF(H20="","",VLOOKUP(H20,登録ナンバー!$A$4:$I$583,7,0))
B21: う２６ | D21: =IF(B21="","",VLOOKUP(B21,登録ナンバー!$A$4:$I$583,7,0)) -> 猪師崇人 | E21: =IF(C21="","",VLOOKUP(C21,登録ナンバー!$A$4:$I$583,7,0)) | G21: 登録No | H21: 登録No | I21: うさかめキャンディーズ
D22: =IF(B22="","",VLOOKUP(B22,登録ナンバー!$A$4:$I$583,7,0)) | E22: =IF(C22="","",VLOOKUP(C22,登録ナンバー!$A$4:$I$583,7,0)) | G22: う３６ | H22: う４２ | I22: =IF(G22="","",VLOOKUP(G22,登録ナンバー!$A$4:$I$583,7,0)) -> 今井順子 | J22: =IF(H22="","",VLOOKUP(H22,登録ナンバー!$A$4:$I$583,7,0)) -> 辻佳子
B23: 登録No | C23: 登録No | D23: 京セラTC-B | G23: う４０ | H23: う４５ | I23: =IF(G23="","",VLOOKUP(G23,登録ナンバー!$A$4:$I$583,7,0)) -> 梅田陽子 | J23: =IF(H23="","",VLOOKUP(H23,登録ナンバー!$A$4:$I$583,7,0)) -> 竹下光代
B24: き０１ | C24: き０８ | D24: 石川和洋 | E24: =IF(C24="","",VLOOKUP(C24,登録ナンバー!$A$4:$I$583,7,0)) -> 太田圭亮 | I24: =IF(G24="","",VLOOKUP(G24,登録ナンバー!$A$4:$I$583,7,0)) | J24: =IF(H24="","",VLOOKUP(H24,登録ナンバー!$A$4:$I$583,7,0))
B25: き０４ | C25: き２４ | D25: 一色翼 | E25: =IF(C25="","",VLOOKUP(C25,登録ナンバー!$A$4:$I$583,7,0)) -> 宮道祐介 | G25: 登録No | H25: 登録No | I25: 建部TC
B26: き０６ | C26: き３３ | D26: 牛尾紳之介 | E26: =IF(C26="","",VLOOKUP(C26,登録ナンバー!$A$4:$I$583,7,0)) -> 西岡庸介 | G26: た０１ | H26: た１２ | I26: =IF(G26="","",VLOOKUP(G26,登録ナンバー!$A$4:$I$583,7,0)) -> 川瀬清子 | J26: 苗村裕子
B27: き０７ | E27: =IF(C27="","",VLOOKUP(C27,登録ナンバー!$A$4:$I$583,7,0)) | G27: た０７ | H27: た１３ | I27: =IF(G27="","",VLOOKUP(G27,登録ナンバー!$A$4:$I$583,7,0)) -> 川尻実千代 | J27: 西川利恵
B28: 登録No | C28: 登録No | D28: Kテニス | I28: =IF(G28="","",VLOOKUP(G28,登録ナンバー!$A$4:$I$583,7,0)) | J28: =IF(H28="","",VLOOKUP(H28,登録ナンバー!$A$4:$I$583,7,0))
B29: け０１ | C29: け１８ | D29: =IF(B29="","",VLOOKUP(B29,登録ナンバー!$A$4:$I$583,7,0)) -> 稲岡和紀 | E29: =IF(C29="","",VLOOKUP(C29,登録ナンバー!$A$4:$I$583,7,0)) -> 入江和彦
B30: け０９ | C30: け１９ | D30: =IF(B30="","",VLOOKUP(B30,登録ナンバー!$A$4:$I$583,7,0)) -> 朝日尚紀 | E30: =IF(C30="","",VLOOKUP(C30,登録ナンバー!$A$4:$I$583,7,0)) -> 中島平喜
D31: =IF(B31="","",VLOOKUP(B31,登録ナンバー!$A$4:$I$583,7,0)) | E31: =IF(C31="","",VLOOKUP(C31,登録ナンバー!$A$4:$I$583,7,0))
D32: =IF(B32="","",VLOOKUP(B32,登録ナンバー!$A$4:$I$583,7,0)) | E32: =IF(C32="","",VLOOKUP(C32,登録ナンバー!$A$4:$I$583,7,0))
D34: 部門
D35: 男子OV45
B36: 登録No | C36: 登録No | D36: うさかめA
B37: う０８ | C37: う１４ | D37: =IF(B37="","",VLOOKUP(B37,登録ナンバー!$A$4:$I$583,7,0)) -> 亀井雅嗣 | E37: =IF(C37="","",VLOOKUP(C37,登録ナンバー!$A$4:$I$583,7,0)) -> 山本浩之
B38: う１３ | C38: う１６ | D38: =IF(B38="","",VLOOKUP(B38,登録ナンバー!$A$4:$I$583,7,0)) -> 山本昌紀 | E38: =IF(C38="","",VLOOKUP(C38,登録ナンバー!$A$4:$I$583,7,0)) -> 脇野佳邦
D39: =IF(B39="","",VLOOKUP(B39,登録ナンバー!$A$4:$I$583,7,0)) | E39: =IF(C39="","",VLOOKUP(C39,登録ナンバー!$A$4:$I$583,7,0))
B40: 登録No | C40: 登録No | D40: うさかめB
B41: う０１ | C41: う３２ | D41: =IF(B41="","",VLOOKUP(B41,登録ナンバー!$A$4:$I$583,7,0)) -> 岩花功 | E41: =IF(C41="","",VLOOKUP(C41,登録ナンバー!$A$4:$I$583,7,0)) -> 谷本健人
B42: う０６ | C42: う５６ | D42: =IF(B42="","",VLOOKUP(B42,登録ナンバー!$A$4:$I$583,7,0)) -> 片岡一寿 | E42: =IF(C42="","",VLOOKUP(C42,登録ナンバー!$A$4:$I$583,7,0)) -> 袖岡毅志
D43: =IF(B43="","",VLOOKUP(B43,登録ナンバー!$A$4:$I$583,7,0)) | E43: =IF(C43="","",VLOOKUP(C43,登録ナンバー!$A$4:$I$583,7,0))
B44: 登録No | C44: 登録No | D44: アプストTC
B45: あぷ０３ | C45: あぷ２６ | D45: =IF(B45="","",VLOOKUP(B45,登録ナンバー!$A$4:$I$583,7,0)) -> 浅田隆昭 | E45: =IF(C45="","",VLOOKUP(C45,登録ナンバー!$A$4:$I$583,7,0)) -> 宮村知宏
B46: あぷ１３ | D46: =IF(B46="","",VLOOKUP(B46,登録ナンバー!$A$4:$I$583,7,0)) -> 東正隆 | E46: =IF(C46="","",VLOOKUP(C46,登録ナンバー!$A$4:$I$583,7,0))
D47: =IF(B47="","",VLOOKUP(B47,登録ナンバー!$A$4:$I$583,7,0)) | E47: =IF(C47="","",VLOOKUP(C47,登録ナンバー!$A$4:$I$583,7,0))
B48: 登録No | C48: 登録No | D48: アビックMA
B49: あ０２ | C49: あ２１ | D49: =IF(B49="","",VLOOKUP(B49,登録ナンバー!$A$4:$I$583,7,0)) -> 西川昌一 | E49: =IF(C49="","",VLOOKUP(C49,登録ナンバー!$A$4:$I$583,7,0)) -> 辻村惣一
B50: あ０９ | C50: あ２２ | D50: =IF(B50="","",VLOOKUP(B50,登録ナンバー!$A$4:$I$583,7,0)) -> 落合良弘 | E50: =IF(C50="","",VLOOKUP(C50,登録ナンバー!$A$4:$I$583,7,0)) -> 槇田学
D51: =IF(B51="","",VLOOKUP(B51,登録ナンバー!$A$4:$I$583,7,0)) | E51: =IF(C51="","",VLOOKUP(C51,登録ナンバー!$A$4:$I$583,7,0))

Sheet 写真集
A1: 男子A級 優勝 グリフィンズ | B1: 男子B級優勝 Kテニスカレッジ | C1: 男子OV45 優勝 うさかめA | D1: 男子OV45 準優勝 うさかめB
A4: 女子OV45 優勝 フレンズ | B4: 女子OV45 準優勝 うさかめキャンディーズ | C4: 女子OV45 3位 アプストTC

Sheet 男子A級
B2: 第22回 東近江王座戦 2026.10.11
B3: 男子一般 A級
B4: 1セットマッチ、ノーアドバンテージ方式、6-6タイブレーク
B5: ×3対戦（オーダーを組み替えて）
B6: ひばり公園 外AB 8:45までに、本部に出席を届ける
B8: 一般リーグA
B9: グリフィンズ | E9: =IF(F11="","",IF(F9>G9,1,0)+IF(F10>G10,1,0)+IF(F11>G11,1,0)+IF(F12>G12,1,0)+IF(F13>G13,1,0)) -> 4 | F9: 6 | G9: 1 | H9: =IF(F13="","",5-E9) -> 1 | I9: 京セラTC-A | L9: 勝ち試合率 | N9: =SUM(E9,I9)/SUM(E9,H9,I9,K9) -> 0.8
F10: 6 | G10: 0
F11: 5 | G11: 7
F12: 6 | G12: 0 | L12: ゲーム取得率 | N12: =SUM(F9:F13,J9:J13)/SUM(F9:G13,J9:J13) -> 0.74358974
F13: 6 | G13: 2
E14: =IF(F9="","",IF(E9>H9,"○","●")) -> ○
B15: グリフィンズ | E15: =IF(F17="","",IF(F15>G15,1,0)+IF(F16>G16,1,0)+IF(F17>G17,1,0)+IF(F18>G18,1,0)+IF(F19>G19,1,0)) -> 3 | F15: 6 | G15: 0 | H15: =IF(F19="","",5-E15) -> 2 | I15: 京セラTC-A | L15: 勝ち試合率 | N15: =SUM(E15,I15)/SUM(E15,H15,I15,K15) -> 0.6
F16: 6 | G16: 2
F17: 6 | G17: 3
F18: 5 | G18: 7 | L18: ゲーム取得率 | N18: =SUM(F15:F19,J15:J19)/SUM(F15:G19,J15:J19) -> 0.59574468
F19: 5 | G19: 7
E20: =IF(F15="","",IF(E15>H15,"○","●")) -> ○
B21: グリフィンズ | E21: =IF(F23="","",IF(F21>G21,1,0)+IF(F22>G22,1,0)+IF(F23>G23,1,0)+IF(F24>G24,1,0)+IF(F25>G25,1,0)) -> 4 | F21: 6 | G21: 3 | H21: =IF(F25="","",5-E21) -> 1 | I21: 京セラTC-A | L21: 勝ち試合率 | N21: =SUM(E21,I21)/SUM(E21,H21,I21,K21) -> 0.8
F22: 6 | G22: 7
F23: 7 | G23: 6
F24: 6 | G24: 0 | L24: ゲーム取得率 | N24: =SUM(F21:F25,J21:J25)/SUM(F21:G25,J21:J25) -> 0.63265306
F25: 6 | G25: 2
E26: =IF(E21="","",IF(E21>H21,"○","●")) -> ○

Sheet 男子B級
B2: 第22回 東近江王座戦 2026.10.11
B3: 男子一般 B級
B4: 1セットマッチ、セミアドバンテージ方式、6-6タイブレーク
B5: ひばり公園 外CD 8:45までに、本部に出席を届ける
B7: B級リーグ | E7: =B8 -> うさかめ | I7: =B14 -> Kテニス | M7: =B20 -> 京セラTC-B | Q7: 結果
B8: うさかめ | I8: =IF(J10="","",IF(J8>K8,1,0)+IF(J9>K9,1,0)+IF(J10>K10,1,0)+IF(J11>K11,1,0)+IF(J12>K12,1,0)) -> 0 | J8: 6 | K8: 7 | L8: =IF(J8="","",5-I8) -> 5 | M8: =IF(N10="","",IF(N8>O8,1,0)+IF(N9>O9,1,0)+IF(N10>O10,1,0)+IF(N11>O11,1,0)+IF(N12>O12,1,0)) -> 2 | N8: 0 | O8: 6 | P8: =IF(N8="","",5-M8) -> 3 | Q8: =COUNTIF(E13:P13,"○") -> 0 | S8: =COUNTIF(E13:P13,"●") -> 2
J9: 1 | K9: 6 | N9: 6 | O9: 2
J10: 4 | K10: 6 | N10: 2 | O10: 6 | Q10: 勝ち試合率 | S10: =SUM(I8,M8)/SUM(I8,L8,M8,P8) -> 0.2
J11: 5 | K11: 7 | N11: 6 | O11: 4 | Q11: ゲーム取得率 | S11: =SUM(J8:J12,N8:N12)/SUM(J8:K12,N8:O12) -> 0.35632184
J12: 0 | K12: 6 | N12: 1 | O12: 6 | Q12: 順位 | S12: ３位
I13: =IF(J8="","",IF(I8>L8,"○","●")) -> ● | M13: =IF(N8="","",IF(M8>P8,"○","●")) -> ●
B14: Kテニス | E14: =L8 -> 5 | F14: =K8 -> 7 | G14: =J8 -> 6 | H14: =I8 -> 0 | M14: =IF(N16="","",IF(N14>O14,1,0)+IF(N15>O15,1,0)+IF(N16>O16,1,0)+IF(N17>O17,1,0)+IF(N18>O18,1,0)) -> 4 | N14: 2 | O14: 6 | P14: =IF(N14="","",5-M14) -> 1 | Q14: =COUNTIF(E19:P19,"○") -> 2 | S14: =COUNTIF(E19:P19,"●") -> 0
F15: =K9 -> 6 | G15: =J9 -> 1 | N15: 6 | O15: 1
F16: =K10 -> 6 | G16: =J10 -> 4 | N16: 6 | O16: 0 | Q16: 勝ち試合率 | S16: =SUM(E14,M14)/SUM(E14,H14,M14,P14) -> 0.9
F17: =K11 -> 7 | G17: =J11 -> 5 | N17: 6 | O17: 2 | Q17: ゲーム取得率 | S17: =SUM(F14:F18,N14:N18)/SUM(F14:G18,N14:O18) -> 0.69047619
F18: =K12 -> 6 | G18: =J12 -> 0 | N18: 6 | O18: 1 | Q18: 順位 | S18: １位
E19: =IF(E14="","",IF(E14>H14,"○","●")) -> ○ | M19: =IF(N14="","",IF(M14>P14,"○","●")) -> ○
B20: 京セラTC-B | E20: =P8 -> 3 | F20: =O8 -> 6 | G20: =N8 -> 0 | H20: =M8 -> 2 | I20: =P14 -> 1 | J20: =O14 -> 6 | K20: =N14 -> 2 | L20: =M14 -> 4 | Q20: =COUNTIF(E25:P25,"○") -> 1 | S20: =COUNTIF(E25:P25,"●") -> 1
F21: =O9 -> 2 | G21: =N9 -> 6 | J21: =O15 -> 1 | K21: =N15 -> 6
F22: =O10 -> 6 | G22: =N10 -> 2 | J22: =O16 -> 0 | K22: =N16 -> 6 | Q22: 勝ち試合率 | S22: =SUM(E20,I20)/SUM(E20,H20,I20,L20) -> 0.4
F23: =O11 -> 4 | G23: =N11 -> 6 | J23: =O17 -> 2 | K23: =N17 -> 6 | Q23: ゲーム取得率 | S23: =SUM(F20:F24,J20:J24)/SUM(F20:G24,J20:K24) -> 0.45333333
F24: =O12 -> 6 | G24: =N12 -> 1 | J24: =O18 -> 1 | K24: =N18 -> 6 | Q24: 順位 | S24: ２位
E25: =IF(E20="","",IF(E20>H20,"○","●")) -> ○ | I25: =IF(I20="","",IF(I20>L20,"○","●")) -> ●
B27: 順位決定方法 ①完了試合数 ②勝数 ③直接対決 ④取得試合率（取得試合数/全試合数）

Sheet 男子OV
B2: 第22回 東近江王座戦 2026.10.11
B3: 男子OV45
B4: 1セットマッチ、ノーアドバンテージ方式、6-6タイブレーク
B5: すこやかの杜 8:45までに、すこやかの杜の本部に出席を届ける
B7: 男子OV | E7: =B8 -> うさかめA | I7: =B12 -> うさかめB | M7: アプストTC | Q7: =B20 -> アビックMA | U7: 結果
B8: うさかめA | I8: =IF(J8>0,(IF(J8>K8,1,0)+IF(J9>K9,1,0)+IF(J10>K10,1,0)),"") -> 3 | J8: 7 | K8: 6 | L8: =IF(J8>0,(3-I8),"") -> 0 | M8: =IF(N8>0,(IF(N8>O8,1,0)+IF(N9>O9,1,0)+IF(N10>O10,1,0)),"") -> 3 | N8: 6 | O8: 4 | P8: =IF(N8>0,(3-M8),"") -> 0 | Q8: =IF(R8>0,(IF(R8>S8,1,0)+IF(R9>S9,1,0)+IF(R10>S10,1,0)),"") -> 3 | R8: 6 | S8: 0 | T8: =IF(R8>0,(3-Q8),"") -> 0 | U8: =COUNTIF(E11:T11,"○") -> 3 | W8: =COUNTIF(E11:T11,"●") -> 0
J9: 7 | K9: 6 | N9: 6 | O9: 3 | R9: 6 | S9: 0 | U9: 勝ち試合率 | W9: =SUM(I8,Q8,M8)/SUM(I8,L8,Q8,T8,M8,P8) -> 1
J10: 6 | K10: 4 | N10: 6 | O10: 2 | R10: 6 | S10: 3 | U10: ゲーム取得率 | W10: =SUM(J8:J10,R8:R10,N8:N10)/SUM(J8:K10,R8:S10,N8:O10) -> 0.66666667
I11: =IF(J8="","",IF(I8>L8,"○","●")) -> ○ | M11: =IF(N8="","",IF(M8>P8,"○","●")) -> ○ | Q11: =IF(R8="","",IF(Q8>T8,"○","●")) -> ○ | U11: 順位 | W11: １位
B12: うさかめB | E12: =L8 -> 0 | F12: =K8 -> 6 | G12: =J8 -> 7 | H12: =I8 -> 3 | M12: =IF(N12>0,(IF(N12>O12,1,0)+IF(N13>O13,1,0)+IF(N14>O14,1,0)),"") -> 2 | N12: 5 | O12: 7 | P12: =IF(N12>0,(3-M12),"") -> 1 | Q12: =IF(R12>0,(IF(R12>S12,1,0)+IF(R13>S13,1,0)+IF(R14>S14,1,0)),"") -> 2 | R12: 6 | S12: 0 | T12: =IF(R12>0,(3-Q12),"") -> 1 | U12: =COUNTIF(E15:T15,"○") -> 2 | W12: =COUNTIF(E15:T15,"●") -> 1
F13: =K9 -> 6 | G13: =J9 -> 7 | N13: 6 | O13: 3 | R13: 1 | S13: 6 | U13: 勝ち試合率 | W13: =SUM(E12,Q12,M12)/SUM(E12,H12,Q12,T12,M12,P12) -> 0.44444444
F14: =K10 -> 4 | G14: =J10 -> 6 | N14: 6 | O14: 2 | R14: 6 | S14: 0 | U14: ゲーム取得率 | W14: =SUM(F12:F14,R12:R14,N12:N14)/SUM(F12:G14,R12:S14,N12:O14) -> 0.54761905
E15: =IF(E12="","",IF(E12>H12,"○","●")) -> ● | M15: =IF(N12="","",IF(M12>P12,"○","●")) -> ○ | Q15: =IF(R12="","",IF(Q12>T12,"○","●")) -> ○ | U15: 順位 | W15: ２位
B16: アプストTC | E16: =P8 -> 0 | F16: =O8 -> 4 | G16: =N8 -> 6 | H16: =M8 -> 3 | I16: =P12 -> 1 | J16: =S8 -> 0 | K16: =R8 -> 6 | L16: =M12 -> 2 | Q16: =IF(R16>0,(IF(R16>S16,1,0)+IF(R17>S17,1,0)+IF(R18>S18,1,0)),"") -> 3 | R16: 6 | S16: 2 | T16: =IF(R16>0,(3-Q16),"") -> 0 | U16: =COUNTIF(E19:T19,"○") -> 1 | W16: =COUNTIF(E19:T19,"●") -> 2
F17: =O9 -> 3 | G17: =N9 -> 6 | J17: =S9 -> 0 | K17: =R9 -> 6 | R17: 6 | S17: 2 | U17: 勝ち試合率 | W17: =SUM(E16,Q16,I16)/SUM(E16,H16,Q16,T16,I16,L16) -> 0.44444444
F18: =O10 -> 2 | G18: =N10 -> 6 | J18: =S10 -> 3 | K18: =R10 -> 6 | R18: 6 | S18: 2 | U18: ゲーム取得率 | W18: =SUM(F16:F18,R16:R18,J16:J18)/SUM(F16:G18,R16:S18,J16:K18) -> 0.41666667
E19: =IF(E16="","",IF(E16>H16,"○","●")) -> ● | I19: =IF(I16="","",IF(I16>L16,"○","●")) -> ● | Q19: =IF(R16="","",IF(Q16>T16,"○","●")) -> ○ | U19: 順位 | W19: ３位
B20: アビックMA | E20: =T8 -> 0 | F20: =S8 -> 0 | G20: =R8 -> 6 | H20: =Q8 -> 3 | I20: =T12 -> 1 | J20: =S12 -> 0 | K20: =R12 -> 6 | L20: =Q12 -> 2 | M20: =T16 -> 0 | N20: =S16 -> 2 | O20: =R16 -> 6 | P20: =Q16 -> 3 | U20: =COUNTIF(E23:T23,"○") -> 0 | W20: =COUNTIF(E23:T23,"●") -> 3
F21: =S9 -> 0 | G21: =R9 -> 6 | J21: =S13 -> 6 | K21: =R13 -> 1 | N21: =S17 -> 2 | O21: =R17 -> 6 | U21: 勝ち試合率 | W21: =SUM(E20,I20,M20)/SUM(E20,H20,I20,L20,M20,P20) -> 0.11111111
F22: =S10 -> 3 | G22: =R10 -> 6 | J22: =S14 -> 0 | K22: =R14 -> 6 | N22: =S18 -> 2 | O22: =R18 -> 6 | U22: ゲーム取得率 | W22: =SUM(F20:F22,J20:J22,N20:N22)/SUM(F20:G22,J20:K22,N20:O22) -> 0.234375
E23: =IF(E20="","",IF(E20>H20,"○","●")) -> ● | I23: =IF(I20="","",IF(I20>L20,"○","●")) -> ● | M23: =IF(M20="","",IF(M20>P20,"○","●")) -> ● | U23: 順位 | W23: ４位
B25: 順位決定方法 ①完了試合数 ②勝数 ③直接対決 ④取得試合率（取得試合数/全試合数）

Sheet 女子
B1: 第22回 東近江王座戦 2026.10.11
B2: 女子OV45
B3: 1セットマッチ、ノーアドバンテージ方式、6-6タイブレーク 形式：ダブルス3試合
B4: ひばりドームA,B 8:45までに本部に出席を届ける
B5: リーグ1 | C5: =B6 -> フレンズ | G5: =B10 -> アビックWB | K5: =B14 -> アプストTC | O5: 結果
B6: フレンズ | G6: =IF(H6>0,(IF(H6>I6,1,0)+IF(H7>I7,1,0)+IF(H8>I8,1,0)),"") -> 3 | H6: 6 | I6: 0 | J6: =IF(H6>0,(3-G6),"") -> 0 | K6: =IF(L6>0,(IF(L6>M6,1,0)+IF(L7>M7,1,0)+IF(L8>M8,1,0)),"") -> 2 | L6: 6 | M6: 2 | N6: =IF(L6>0,(3-K6),"") -> 1 | O6: =COUNTIF(G9:N9,"○") -> 2 | P6: =COUNTIF(G9:N9,"●") -> 0
H7: 6 | I7: 0 | L7: 6 | M7: 2 | O7: 勝ち試合率 | P7: =SUM(G6,K6)/SUM(G6,J6,K6,N6) -> 0.83333333
H8: 6 | I8: 0 | L8: 4 | M8: 6 | O8: ゲーム取得率 | P8: =SUM(H6:H8,L6:L8)/SUM(H6:I8,L6:M8) -> 0.77272727
G9: =IF(H6="","",IF(G6>J6,"○","●")) -> ○ | K9: =IF(L6="","",IF(K6>N6,"○","●")) -> ○ | O9: 順位 | P9: １位
B10: アビックWB | C10: =J6 -> 0 | D10: =I6 -> 0 | E10: =H6 -> 6 | F10: =G6 -> 3 | K10: =IF(L10>0,(IF(L10>M10,1,0)+IF(L11>M11,1,0)+IF(L12>M12,1,0)),"") -> 0 | L10: 4 | M10: 6 | N10: =IF(L10>0,(3-K10),"") -> 3 | O10: =COUNTIF(C13:N13,"○") -> 0 | P10: =COUNTIF(C13:N13,"●") -> 2
D11: =I7 -> 0 | E11: =H7 -> 6 | L11: 2 | M11: 6 | O11: 勝ち試合率 | P11: =SUM(C10,K10)/SUM(C10,F10,K10,N10) -> 0
D12: =I8 -> 0 | E12: =H8 -> 6 | L12: 3 | M12: 6 | O12: ゲーム取得率 | P12: =SUM(D10:D12,L10:L12)/SUM(D10:E12,L10:M12) -> 0.2
C13: =IF(C10="","",IF(C10>F10,"○","●")) -> ● | K13: =IF(L10="","",IF(K10>N10,"○","●")) -> ● | O13: 順位 | P13: ３位
B14: アプストTC | C14: =N6 -> 1 | D14: =M6 -> 2 | E14: =L6 -> 6 | F14: =K6 -> 2 | G14: =N10 -> 3 | H14: =M10 -> 6 | I14: =L10 -> 4 | J14: =K10 -> 0 | O14: =COUNTIF(C17:N17,"○") -> 1 | P14: =COUNTIF(C17:N17,"●") -> 1
D15: =M7 -> 2 | E15: =L7 -> 6 | H15: =M11 -> 6 | I15: =L11 -> 2 | O15: 勝ち試合率 | P15: =SUM(G14,C14)/SUM(G14,J14,C14,F14) -> 0.66666667
D16: =M8 -> 6 | E16: =L8 -> 4 | H16: =M12 -> 6 | I16: =L12 -> 3 | O16: ゲーム取得率 | P16: =SUM(H14:H16,D14:D16)/SUM(H14:I16,D14:E16) -> 0.52830189
C17: =IF(C14="","",IF(C14>F14,"○","●")) -> ● | G17: =IF(G14="","",IF(G14>J14,"○","●")) -> ○ | O17: 順位 | P17: ２位
B19: リーグ2 | C19: =B20 -> アビックWA | G19: =B24 -> うさかめ キャンディーズ | K19: =B28 -> 建部TC | O19: 結果
B20: アビックWA | G20: =IF(H20>0,(IF(H20>I20,1,0)+IF(H21>I21,1,0)+IF(H22>I22,1,0)),"") -> 0 | H20: 4 | I20: 6 | J20: =IF(H20>0,(3-G20),"") -> 3 | K20: =IF(L20>0,(IF(L20>M20,1,0)+IF(L21>M21,1,0)+IF(L22>M22,1,0)),"") -> 3 | L20: 6 | M20: 1 | N20: =IF(L20>0,(3-K20),"") -> 0 | O20: =COUNTIF(G23:N23,"○") -> 1 | P20: =COUNTIF(G23:N23,"●") -> 1
H21: 2 | I21: 6 | L21: 6 | M21: 1 | O21: 勝ち試合率 | P21: =SUM(G20,K20)/SUM(G20,J20,K20,N20) -> 0.5
H22: 0 | I22: 6 | L22: 6 | M22: 1 | O22: ゲーム取得率 | P22: =SUM(H20:H22,L20:L22)/SUM(H20:I22,L20:M22) -> 0.53333333
G23: =IF(H20="","",IF(G20>J20,"○","●")) -> ● | K23: =IF(L20="","",IF(K20>N20,"○","●")) -> ○ | O23: 順位 | P23: ２位
B24: うさかめ キャンディーズ | C24: =J20 -> 3 | D24: 6 | E24: 4 | F24: =G20 -> 0 | K24: =IF(L24>0,(IF(L24>M24,1,0)+IF(L25>M25,1,0)+IF(L26>M26,1,0)),"") -> 3 | L24: 6 | M24: 0 | N24: =IF(L24>0,(3-K24),"") -> 0 | O24: =COUNTIF(C27:N27,"○") -> 1 | P24: =COUNTIF(C27:N27,"●") -> 0
D25: 6 | E25: 2 | L25: 6 | M25: 1 | O25: 勝ち試合率 | P25: =SUM(C24,K24)/SUM(C24,F24,K24,N24) -> 1
D26: 6 | E26: =H22 -> 0 | L26: 6 | M26: 0 | O26: ゲーム取得率 | P26: =SUM(D24:D26,L24:L26)/SUM(D24:E26,L24:M26) -> 0.8372093
C27: =IF(C24="","",IF(C24>F24,"○","●")) -> ○ | O27: 順位 | P27: １位
B28: 建部TC | C28: =N20 -> 0 | D28: =M20 -> 1 | E28: =L20 -> 6 | F28: =K20 -> 3 | G28: =N24 -> 0 | H28: =M24 -> 0 | I28: =L24 -> 6 | J28: =K24 -> 3 | O28: =COUNTIF(C31:N31,"○") -> 0 | P28: =COUNTIF(C31:N31,"●") -> 2
D29: =M21 -> 1 | E29: =L21 -> 6 | H29: =M25 -> 1 | I29: =L25 -> 6 | O29: 勝ち試合率 | P29: =SUM(G28,C28)/SUM(G28,J28,C28,F28) -> 0
D30: =M22 -> 1 | E30: =L22 -> 6 | H30: =M26 -> 0 | I30: =L26 -> 6 | O30: ゲーム取得率 | P30: =SUM(H28:H30,D28:D30)/SUM(H28:I30,D28:E30) -> 0.1
C31: =IF(C28="","",IF(C28>F28,"○","●")) -> ● | G31: =IF(G28="","",IF(G28>J28,"○","●")) -> ● | O31: 順位 | P31: ３位
B33: 順位決定方法 ①完了試合数 ②勝数 ③直接対決 ④取得試合率（取得試合数/全試合数）
B35: 決勝
B36: フレンズ | C36: =IF(D36>0,(IF(D36>E36,1,0)+IF(D37>E37,1,0)+IF(D38>E38,1,0)),"") -> 2 | D36: 6 | E36: 4 | F36: 0 | G36: うさかめ キャンディーズ
D37: 6 | E37: 0
C39: =IF(D36="","",IF(C36>F36,"○","●")) -> ○
B41: リーグ2位対決
B42: アプストTC | C42: =IF(D42>0,(IF(D42>E42,1,0)+IF(D43>E43,1,0)+IF(D44>E44,1,0)),"") -> 2 | D42: 6 | E42: 4 | F42: 0 | G42: アビック WA
D43: 6 | E43: 4
C45: =IF(D42="","",IF(C42>F42,"○","●")) -> ○
B47: リーグ3位対決
B48: アビック WB | C48: =IF(D48>0,(IF(D48>E48,1,0)+IF(D49>E49,1,0)+IF(D50>E50,1,0)),"") -> 2 | D48: 6 | E48: 1 | F48: 0 | G48: 建部TC
D49: 6 | E49: 3
C51: =IF(D48="","",IF(C48>F48,"○","●")) -> ○
B53: ※順位対決は勝敗が決定した段階で打ち切り

Sheet 歴代入賞チーム
B1: 王座戦 歴代入賞チーム
B2: 大会年度 | C2: 男子優勝 | D2: 男子準優勝 | E2: 女子優勝 | F2: 女子準優勝
A3: 八 | B3: 第 1回 1986 | C3: 京セラ Ａ | D3: ＪＡＣＫ | E3: ＪＡＣＫ Ａ | F3: ミモザ Ａ
A4: 日 | B4: 第 2回 1987 | C4: 村田 Ｂ | D4: ＪＡＣＫ | E4: ＪＡＣＫ Ｂ | F4: ＪＡＣＫ Ａ
A5: 市 | B5: 第 3回 1988 | C5: ＪＡＣＫ | D5: 京セラ八日市 | E5: ミモザ | F5: コスモス Ｂ
A6: 市 | B6: 第 4回 1989 | C6: ＪＡＣＫ Ａ | D6: ＪＡＣＫ Ｂ | E6: 彦根ＴＣ | F6: ＪＡＣＫ Ｂ
B7: 第 5回 1990 | C7: ＪＡＣＫ | D7: 村田野洲 | E7: 村田 | F7: ミモザ
B8: 第 ６回 1991 | C8: ＪＡＣＫ Ａ | D8: 村田野洲 Ａ | E8: スクリーン | F8: 松下電器
B9: 第 ７回 1992 | C9: ＪＡＣＫ Ａ | D9: 京セラ Ａ | E9: 村田八日市 | F9: 松下電器
B10: 第 ８回 1993 | C10: ＪＡＣＫ Ａ | D10: ＪＡＣＫ Ｂ | E10: 松下電器 | F10: ミモザ
B11: 第 ９回 1994 | C11: ＪＡＣＫ Ａ | D11: 村田野洲 Ａ | E11: ＪＡＣＫ | F11: 村田野洲
B12: 第１０回 1995 | C12: ＪＡＣＫ Ａ | D12: 村田野洲 Ａ | E12: スクリーン | F12: ＪＡＣＫ
B13: 第１１回 1996 | C13: 彦根グリーン | D13: ＪＡＣＫ Ａ | E13: Kﾃﾆｽｶﾚｯｼﾞ水 | F13: 村田野洲
B14: 第１２回 1997 | C14: ＪＡＣＫ Ａ | D14: 彦根グリーン | E14: Kﾃﾆｽｶﾚｯｼﾞ水 | F14: ＪＡＣＫ
B15: 第１３回 1998 | C15: ＪＡＣＫ Ａ | D15: 村田八日市 Ａ | E15: Kﾃﾆｽｶﾚｯｼﾞ火 | F15: Kﾃﾆｽｶﾚｯｼﾞ Ｂ
B16: 第１４回 1999 | C16: 村田八日市 Ａ | D16: ＪＡＣＫ Ｊｒ | E16: Kﾃﾆｽｶﾚｯｼﾞ月 | F16: Kﾃﾆｽｶﾚｯｼﾞ Ａ
B17: 第１５回 2000 | C17: 村田八日市 Ａ | D17: Kﾃﾆｽｶﾚｯｼﾞ Ａ | E17: Kﾃﾆｽ & H.S | F17: Kﾃﾆｽ & T.U
B18: 第１6回 2001 | C18: Ｋﾃﾆｽｶﾚｯｼﾞ Ａ | D18: 村田八日市 Ａ | E18: Kﾃﾆｽｶﾚｯｼﾞ Ａ | F18: ＪＡＣＫ ＯＧ
... B21: 第１９回 2004 | C21: Ｋﾃﾆｽｶﾚｯｼﾞ Ａ | D21: 村田八日市 Ａ | E21: More ＆ More | F21: ﾃﾆｽｼﾞｬﾗﾝJr
C22: 男子優勝 | D22: 男子準優勝 | E22: 女子優勝 | F22: 女子準優勝
A23: 東 | B23: 第１回 2005 | C23: アジア庭球倶楽部 | D23: Ｋﾃﾆｽｶﾚｯｼﾞ Ａ | E23: アドバンス | F23: Ｋﾃﾆｽｶﾚｯｼﾞ Ａ
A24: 近 | B24: 第2回 2006 | C24: Kﾃﾆｽｶﾚｯｼﾞ | D24: Pin. TC | E24: コスモンB | F24: Ｋﾃﾆｽｶﾚｯｼﾞ B
A25: 江 | B25: 第3回 2007 | C25: KﾃﾆｽｶﾚｯｼﾞA | D25: 村田八日市 Ａ | E25: TTテニス | F25: Ｋﾃﾆｽｶﾚｯｼﾞ Ａ
A26: 市 | B26: 第4回 2008 | C26: KﾃﾆｽｶﾚｯｼﾞA | D26: 村田八日市 Ａ | E26: TTテニス | F26: Ｋﾃﾆｽｶﾚｯｼﾞ Ａ
B27: 第5回 2009 | C27: KﾃﾆｽｶﾚｯｼﾞA | D27: 村田八日市 Ａ | E27: 彦根グリーンTC | F27: フレンズ
B28: 第6回 2010 | C28: KﾃﾆｽｶﾚｯｼﾞA | D28: ＪＡＣＫ Ａ | E28: Kﾃﾆｽｶﾚｯｼﾞ Ａ | F28: Kﾃﾆｽｶﾚｯｼﾞ B
B29: 第7回 2011 | C29: KﾃﾆｽｶﾚｯｼﾞA | D29: グリふぃんA | E29: KﾃﾆｽｶﾚｯｼﾞA | F29: Kﾃﾆｽｶﾚｯｼﾞ B
B30: 第8回2012.10.7 | C30: KﾃﾆｽｶﾚｯｼﾞA | D30: グリふぃんA | E30: KﾃﾆｽｶﾚｯｼﾞA | F30: ぼんズ
B31: 第9回2013.10.8
B32: 第10回2014.10.14 | C32: KﾃﾆｽｶﾚｯｼﾞA | D32: グリふぃんA | E32: ぼんズ | F32: Kﾃﾆｽｶﾚｯｼﾞ
B33: 第11回2015.10.15 | C33: グリふぃんA | D33: KﾃﾆｽｶﾚｯｼﾞA | E33: フレンズY | F33: うさかめ
B34: 第12回2016.10.16 | C34: KﾃﾆｽｶﾚｯｼﾞA | D34: グリふぃんA | E34: グリフィンズ | F34: フレンズ
B35: 第13回2017.10.17 | C35: KﾃﾆｽｶﾚｯｼﾞA | D35: グリふぃんA | E35: グリフィンズ | F35: フレンズ
B36: 第14回2018.10.07 | C36: ぼんズ | D36: グリふぃんA | E36: グリフィンズ | F36: フレンズ
B37: 第15回2019.10.6 | C37: 東近江グリフィンズ | D37: KﾃﾆｽｶﾚｯｼﾞＡ | E37: フレンズA | F37: フレンズB
B38: 第16回2020.10.4 | C38: Kﾃﾆｽｶﾚｯｼﾞ | D38: うさぎとかめの集いB | E38: うさぎとかめの集い | F38: アンヴァーズ
B39: 大会年度 | C39: 男子優勝 | D39: 男子準優勝 | E39: 男子OV50優勝 | F39: 女子優勝
B40: 第17回2021.10.3 | C40: Kﾃﾆｽｶﾚｯｼﾞ | D40: うさぎとかめの集いB | E40: フレンズ | F40: フレンズ
B41: 第18回2022.10.2 | C41: うさぎとかめの集いA | D41: グリフィンズS | E41: 村田TC | F41: うさぎとかめの集いB
B42: 第19回2023.10.1 | C42: グリフィンズ | D42: うさぎとかめの集い | E42: アビックBB | F42: フレンズ
B43: 第20回2024.10.6 | C43: Kﾃﾆｽｶﾚｯｼﾞ | D43: アンヴァース | E43: うさぎとかめの集い | F43: フレンズ
... B45: 第21回2025.10.12 | C45: グリフィンズ | D45: アンヴァース | E45: うさぎとかめの集い | F45: フレンズ

Sheet 4チーム
B2: 第21回 東近江王座戦 2025.10.12
B3: 男子OV45
B4: 1セットマッチ、ノーアドバンテージ方式、6-6タイブレーク
B5: すこやかの杜 8:45までに、すこやかの杜の本部に出席を届ける
B6: OV50 | C6: =B7 -> 0 | G6: =B13 -> 0 | K6: =B19 -> 0 | O6: =B25 -> 0 | S6: 結果
G7: =IF(H7="","",COUNTIF(H7:H10,4)) | J7: =IF(H7="","",COUNTIF(I7:I10,4)) | K7: =IF(L7="","",COUNTIF(L7:L12,4)) | N7: =IF(M7="","",COUNTIF(M7:M10,4)) | O7: =IF(P7="","",COUNTIF(P7:P12,4)) | R7: =IF(Q7="","",COUNTIF(Q7:Q10,4)) | S7: =COUNTIF(G12:R12,"○") -> 0 | T7: =COUNTIF(G12:R12,"●") -> 0
S9: 勝ち試合率 | T9: =SUM(G7,K7,O7)/SUM(G7,J7,K7,N7,O7,R7) -> #DIV/0!
S10: ゲーム取得率 | T10: =SUM(H7:H10,L7:L10,P7:P10)/SUM(H7:I10,L7:M10,P7:Q10) -> #DIV/0!
S11: 順位
G12: =IF(H7="","",IF(G7>J7,"○","●")) | K12: =IF(L7="","",IF(K7>N7,"○","●")) | O12: =IF(P7="","",IF(O7>R7,"○","●"))
C13: =J7 | D13: =I7 -> 0 | E13: =H7 -> 0 | F13: =G7 | K13: =IF(L13="","",COUNTIF(L13:L18,4)) | N13: =IF(M13="","",COUNTIF(M13:M18,4)) | O13: =IF(P13="","",COUNTIF(P13:P18,4)) | R13: =IF(Q13="","",COUNTIF(Q13:Q18,4)) | S13: =COUNTIF(C18:R18,"○") -> 0 | T13: =COUNTIF(C18:R18,"●") -> 0
D14: =I8 -> 0 | E14: =H8 -> 0
D15: =I9 -> 0 | E15: =H9 -> 0 | S15: 勝ち試合率 | T15: =SUM(C13,K13,O13)/SUM(C13,F13,K13,N13,O13,R13) -> #DIV/0!
D16: =I10 -> 0 | E16: =H10 -> 0 | S16: ゲーム取得率 | T16: =SUM(D13:D16,L13:L16,P13:P16)/SUM(D13:E16,L13:M16,P13:Q16) -> #DIV/0!
D17: =I11 -> 0 | E17: =H11 -> 0 | S17: 順位
C18: =IF(C13="","",IF(C13>F13,"○","●")) | K18: =IF(L13="","",IF(K13>N13,"○","●")) | O18: =IF(P13="","",IF(O13>R13,"○","●"))
C19: =N7 | D19: =M7 -> 0 | E19: =L7 -> 0 | F19: =K7 | G19: =N13 | H19: =M13 -> 0 | I19: =L13 -> 0 | J19: =K13 | O19: =IF(P19="","",COUNTIF(P19:P24,4)) | R19: =IF(Q19="","",COUNTIF(Q19:Q24,4)) | S19: =COUNTIF(C24:R24,"○") -> 0 | T19: =COUNTIF(C24:N24,"●") -> 0
D20: =M8 -> 0 | E20: =L8 -> 0 | H20: =M14 -> 0 | I20: =L14 -> 0
D21: =M9 -> 0 | E21: =L9 -> 0 | H21: =M15 -> 0 | I21: =L15 -> 0 | S21: 勝ち試合率 | T21: =SUM(C19,G19,O19)/SUM(C19,F19,J19,G19,O19,R19) -> #DIV/0!
D22: =M10 -> 0 | E22: =L10 -> 0 | H22: =M16 -> 0 | I22: =L16 -> 0 | S22: ゲーム取得率 | T22: =SUM(D19:D22,H19:H22,P19:P22)/SUM(D19:E22,H19:I22,P19:Q22) -> #DIV/0!
D23: =M11 -> 0 | E23: =L11 -> 0 | H23: =M17 -> 0 | I23: =L17 -> 0 | S23: 順位
C24: =IF(C19="","",IF(C19>F19,"○","●")) | G24: =IF(G19="","",IF(G19>J19,"○","●")) | O24: =IF(P19="","",IF(O19>R19,"○","●"))
C25: =R7 | D25: =Q7 -> 0 | E25: =P7 -> 0 | F25: =O7 | G25: =R13 | H25: =Q13 -> 0 | I25: =P13 -> 0 | J25: =O13 | K25: =R19 | L25: =Q19 -> 0 | M25: =P19 -> 0 | N25: =O19 | S25: =COUNTIF(C30:R30,"○") -> 0 | T25: =COUNTIF(C30:N30,"●") -> 0
D26: =Q8 -> 0 | E26: =P8 -> 0 | H26: =Q14 -> 0 | I26: =P14 -> 0 | L26: =Q20 -> 0 | M26: =P20 -> 0
D27: =Q9 -> 0 | E27: =P9 -> 0 | H27: =Q15 -> 0 | I27: =P15 -> 0 | L27: =Q21 -> 0 | M27: =P21 -> 0 | S27: 勝ち試合率 | T27: =SUM(C25,G25,K25)/SUM(C25,F25,G25,J25,K25,N25) -> #DIV/0!
D28: =Q10 -> 0 | E28: =P10 -> 0 | H28: =Q16 -> 0 | I28: =P16 -> 0 | L28: =Q22 -> 0 | M28: =P22 -> 0 | S28: ゲーム取得率 | T28: =SUM(D25:D28,L25:L28,P25:P28)/SUM(D25:E28,L25:M28,P25:Q28) -> #DIV/0!
D29: =Q11 -> 0 | E29: =P11 -> 0 | H29: =Q17 -> 0 | I29: =P17 -> 0 | L29: =Q23 -> 0 | M29: =P23 -> 0 | S29: 順位
C30: =IF(C25="","",IF(C25>F25,"○","●")) | G30: =IF(G25="","",IF(G25>J25,"○","●")) | K30: =IF(K25="","",IF(K25>N25,"○","●"))
B32: 順位決定方法 ①完了試合数 ②勝数 ③直接対決 ④取得試合率（取得試合数/全試合数）

Sheet 4チーム (2)
B2: 第21回 東近江王座戦 2025.10.12
B3: 男子OV45
B4: 1セットマッチ、ノーアドバンテージ方式、6-6タイブレーク
B5: すこやかの杜 8:45までに、すこやかの杜の本部に出席を届ける
B6: OV50 | C6: =B7 -> 0 | G6: =B11 -> 0 | K6: =B15 -> 0 | O6: =B19 -> 0 | S6: 結果
G7: =IF(H7="","",COUNTIF(H7:H9,4)) | J7: =IF(H7="","",COUNTIF(I7:I9,4)) | K7: =IF(L7="","",COUNTIF(L7:L10,4)) | N7: =IF(M7="","",COUNTIF(M7:M9,4)) | O7: =IF(P7="","",COUNTIF(P7:P10,4)) | R7: =IF(Q7="","",COUNTIF(Q7:Q9,4)) | S7: =COUNTIF(G10:R10,"○") -> 0 | T7: =COUNTIF(G10:R10,"●") -> 0
S8: 勝ち試合率 | T8: =SUM(G7,K7,O7)/SUM(G7,J7,K7,N7,O7,R7) -> #DIV/0!
S9: ゲーム取得率 | T9: =SUM(H7:H9,L7:L9,P7:P9)/SUM(H7:I9,L7:M9,P7:Q9) -> #DIV/0!
G10: =IF(H7="","",IF(G7>J7,"○","●")) | K10: =IF(L7="","",IF(K7>N7,"○","●")) | O10: =IF(P7="","",IF(O7>R7,"○","●")) | S10: 順位
C11: =J7 | D11: =I7 -> 0 | E11: =H7 -> 0 | F11: =G7 | K11: =IF(L11="","",COUNTIF(L11:L14,4)) | N11: =IF(M11="","",COUNTIF(M11:M14,4)) | O11: =IF(P11="","",COUNTIF(P11:P14,4)) | R11: =IF(Q11="","",COUNTIF(Q11:Q14,4)) | S11: =COUNTIF(C14:R14,"○") -> 0 | T11: =COUNTIF(C14:R14,"●") -> 0
D12: =I8 -> 0 | E12: =H8 -> 0 | S12: 勝ち試合率 | T12: =SUM(C11,K11,O11)/SUM(C11,F11,K11,N11,O11,R11) -> #DIV/0!
D13: =I9 -> 0 | E13: =H9 -> 0 | S13: ゲーム取得率 | T13: =SUM(D11:D13,L11:L13,P11:P13)/SUM(D11:E13,L11:M13,P11:Q13) -> #DIV/0!
C14: =IF(C11="","",IF(C11>F11,"○","●")) | K14: =IF(L11="","",IF(K11>N11,"○","●")) | O14: =IF(P11="","",IF(O11>R11,"○","●")) | S14: 順位
C15: =N7 | D15: =M7 -> 0 | E15: =L7 -> 0 | F15: =K7 | G15: =N11 | H15: =M11 -> 0 | I15: =L11 -> 0 | J15: =K11 | O15: =IF(P15="","",COUNTIF(P15:P18,4)) | R15: =IF(Q15="","",COUNTIF(Q15:Q18,4)) | S15: =COUNTIF(C18:R18,"○") -> 0 | T15: =COUNTIF(C18:N18,"●") -> 0
D16: =M8 -> 0 | E16: =L8 -> 0 | H16: =M12 -> 0 | I16: =L12 -> 0 | S16: 勝ち試合率 | T16: =SUM(C15,G15,O15)/SUM(C15,F15,J15,G15,O15,R15) -> #DIV/0!
D17: =M9 -> 0 | E17: =L9 -> 0 | H17: =M13 -> 0 | I17: =L13 -> 0 | S17: ゲーム取得率 | T17: =SUM(D15:D17,H15:H17,P15:P17)/SUM(D15:E17,H15:I17,P15:Q17) -> #DIV/0!
C18: =IF(C15="","",IF(C15>F15,"○","●")) | G18: =IF(G15="","",IF(G15>J15,"○","●")) | O18: =IF(P15="","",IF(O15>R15,"○","●")) | S18: 順位
C19: =R7 | D19: =Q7 -> 0 | E19: =P7 -> 0 | F19: =O7 | G19: =R11 | H19: =Q11 -> 0 | I19: =P11 -> 0 | J19: =O11 | K19: =R15 | L19: =Q15 -> 0 | M19: =P15 -> 0 | N19: =O15 | S19: =COUNTIF(C22:R22,"○") -> 0 | T19: =COUNTIF(C22:N22,"●") -> 0
D20: =Q8 -> 0 | E20: =P8 -> 0 | H20: =Q12 -> 0 | I20: =P12 -> 0 | L20: =Q16 -> 0 | M20: =P16 -> 0 | S20: 勝ち試合率 | T20: =SUM(C19,G19,K19)/SUM(C19,F19,G19,J19,K19,N19) -> #DIV/0!
D21: =Q9 -> 0 | E21: =P9 -> 0 | H21: =Q13 -> 0 | I21: =P13 -> 0 | L21: =Q17 -> 0 | M21: =P17 -> 0 | S21: ゲーム取得率 | T21: =SUM(D19:D21,L19:L21,P19:P21)/SUM(D19:E21,L19:M21,P19:Q21) -> #DIV/0!
C22: =IF(C19="","",IF(C19>F19,"○","●")) | G22: =IF(G19="","",IF(G19>J19,"○","●")) | K22: =IF(K19="","",IF(K19>N19,"○","●")) | S22: 順位
B24: 順位決定方法 ①完了試合数 ②勝数 ③直接対決 ④取得試合率（取得試合数/全試合数）

Sheet 登録ナンバー
B1: ２０２６年度東近江市テニス協会登録ナンバー | I1: 46288
B3: 1 | D3: ３８人
A4: あ０１ | B4: 青木 | C4: 重之 | D4: アビックBB | F4: =A4 -> あ０１ | G4: =B4&C4 -> 青木重之 | H4: =D4 -> アビックBB | I4: 男 | J4: 1971 | K4: =IF(J4="","",(2026-J4)) -> 55 | L4: =IF(G4="","",IF(COUNTIF($G$4:$G$108,G4)>1,"2重登録","OK")) -> OK | M4: 草津市
A5: あ０２ | B5: 西川 | C5: 昌一 | D5: アビックBB | F5: =A5 -> あ０２ | G5: =B5&C5 -> 西川昌一 | H5: =D5 -> アビックBB | I5: 男 | J5: 1970 | K5: =IF(J5="","",(2026-J5)) -> 56 | L5: =IF(G5="","",IF(COUNTIF($G$4:$G$108,G5)>1,"2重登録","OK")) -> OK | M5: 彦根市
A6: あ０３ | B6: 安達 | C6: 隆一 | D6: アビックBB | F6: =A6 -> あ０３ | G6: =B6&C6 -> 安達隆一 | H6: =D6 -> アビックBB | I6: 男 | J6: 1970 | K6: =IF(J6="","",(2026-J6)) -> 56 | L6: =IF(G6="","",IF(COUNTIF($G$4:$G$108,G6)>1,"2重登録","OK")) -> OK | M6: 甲賀市
A7: あ０４ | B7: 上原 | C7: 義弘 | D7: アビックBB | F7: =A7 -> あ０４ | G7: =B7&C7 -> 上原義弘 | H7: =D7 -> アビックBB | I7: 男 | J7: 1974 | K7: =IF(J7="","",(2026-J7)) -> 52 | L7: =IF(G7="","",IF(COUNTIF($G$4:$G$108,G7)>1,"2重登録","OK")) -> OK | M7: 彦根市
A8: あ０５ | B8: 寺村 | C8: 浩一 | D8: アビックBB | F8: =A8 -> あ０５ | G8: =B8&C8 -> 寺村浩一 | H8: =D8 -> アビックBB | I8: 男 | J8: 1968 | K8: =IF(J8="","",(2026-J8)) -> 58 | L8: =IF(G8="","",IF(COUNTIF($G$4:$G$108,G8)>1,"2重登録","OK")) -> OK | M8: 愛荘町
A9: あ０６ | B9: 平居 | C9: 崇 | D9: アビックBB | F9: =A9 -> あ０６ | G9: =B9&C9 -> 平居崇 | H9: =D9 -> アビックBB | I9: 男 | J9: 1972 | K9: =IF(J9="","",(2026-J9)) -> 54 | L9: =IF(G9="","",IF(COUNTIF($G$4:$G$108,G9)>1,"2重登録","OK")) -> OK | M9: 多賀町
A10: あ０７ | B10: 大林 | C10: 弘典 | D10: アビックBB | F10: =A10 -> あ０７ | G10: =B10&C10 -> 大林弘典 | H10: =D10 -> アビックBB | I10: 男 | J10: 1989 | K10: =IF(J10="","",(2026-J10)) -> 37 | L10: =IF(G10="","",IF(COUNTIF($G$4:$G$108,G10)>1,"2重登録","OK")) -> OK | M10: 長浜市
A11: あ０８ | B11: 福嶋 | C11: 亮 | D11: アビックBB | F11: =A11 -> あ０８ | G11: =B11&C11 -> 福嶋亮 | H11: =D11 -> アビックBB | I11: 男 | J11: 1961 | K11: =IF(J11="","",(2026-J11)) -> 65 | L11: =IF(G11="","",IF(COUNTIF($G$4:$G$108,G11)>1,"2重登録","OK")) -> OK | M11: 岐阜県
A12: あ０９ | B12: 落合 | C12: 良弘 | D12: アビックBB | F12: =A12 -> あ０９ | G12: =B12&C12 -> 落合良弘 | H12: =D12 -> アビックBB | I12: 男 | J12: 1968 | K12: =IF(J12="","",(2026-J12)) -> 58 | L12: =IF(G12="","",IF(COUNTIF($G$4:$G$108,G12)>1,"2重登録","OK")) -> OK | M12: 長浜市
A13: あ１０ | B13: 松井 | C13: 傳樹 | D13: アビックBB | F13: =A13 -> あ１０ | G13: =B13&C13 -> 松井傳樹 | H13: =D13 -> アビックBB | I13: 男 | J13: 1987 | K13: =IF(J13="","",(2026-J13)) -> 39 | L13: =IF(G13="","",IF(COUNTIF($G$4:$G$108,G13)>1,"2重登録","OK")) -> OK | M13: 彦根市
A14: あ１１ | B14: 長谷川 | C14: 優 | D14: アビックBB | F14: =A14 -> あ１１ | G14: =B14&C14 -> 長谷川優 | H14: =D14 -> アビックBB | I14: 男 | J14: 1973 | K14: =IF(J14="","",(2026-J14)) -> 53 | L14: =IF(G14="","",IF(COUNTIF($G$4:$G$108,G14)>1,"2重登録","OK")) -> OK | M14: 甲賀市
A15: あ１２ | B15: 草野 | C15: 活地 | D15: アビックBB | F15: =A15 -> あ１２ | G15: =B15&C15 -> 草野活地 | H15: =D15 -> アビックBB | I15: 男 | J15: 1974 | K15: =IF(J15="","",(2026-J15)) -> 52 | L15: =IF(G15="","",IF(COUNTIF($G$4:$G$108,G15)>1,"2重登録","OK")) -> OK | M15: 草津市
... A23: あ２０ | B23: 坪井 | C23: 徳寿 | D23: アビックBB | F23: =A23 -> あ２０ | G23: =B23&C23 -> 坪井徳寿 | H23: =D23 -> アビックBB | I23: 男 | J23: 1979 | K23: =IF(J23="","",(2026-J23)) -> 47 | L23: =IF(G23="","",IF(COUNTIF($G$4:$G$108,G23)>1,"2重登録","OK")) -> OK | M23: 草津市
A24: あ２１ | B24: 辻村 | C24: 惣一 | D24: アビックBB | E24: ｓｅ | F24: =A24 -> あ２１ | G24: =B24&C24 -> 辻村惣一 | H24: =D24 -> アビックBB | I24: 男 | J24: 1953 | K24: =IF(J24="","",(2026-J24)) -> 73 | L24: =IF(G24="","",IF(COUNTIF($G$4:$G$108,G24)>1,"2重登録","OK")) -> OK | M24: 長浜市
A25: あ２２ | B25: 槇田 | C25: 学 | D25: アビックBB | F25: =A25 -> あ２２ | G25: =B25&C25 -> 槇田学 | H25: =D25 -> アビックBB | I25: 男 | J25: 1965 | K25: =IF(J25="","",(2026-J25)) -> 61 | L25: =IF(G25="","",IF(COUNTIF($G$4:$G$108,G25)>1,"2重登録","OK")) -> OK | M25: 彦根市
A26: あ２３ | B26: 武久 | C26: 真也 | D26: アビックBB | F26: =A26 -> あ２３ | G26: =B26&C26 -> 武久真也 | H26: =D26 -> アビックBB | I26: 男 | J26: 1982 | K26: =IF(J26="","",(2026-J26)) -> 44 | L26: =IF(G26="","",IF(COUNTIF($G$4:$G$108,G26)>1,"2重登録","OK")) -> OK | M26: 近江八幡市
A27: あ２４ | B27: 大脇 | C27: 和世 | D27: アビックBB | F27: =A27 -> あ２４ | G27: =B27&C27 -> 大脇和世 | H27: =D27 -> アビックBB | I27: 女 | J27: 1970 | K27: =IF(J27="","",(2026-J27)) -> 56 | L27: =IF(G27="","",IF(COUNTIF($G$4:$G$108,G27)>1,"2重登録","OK")) -> OK | M27: 愛荘町
A28: あ２５ | B28: 西山 | C28: 抄千代 | D28: アビックBB | F28: =A28 -> あ２５ | G28: =B28&C28 -> 西山抄千代 | H28: =D28 -> アビックBB | I28: 女 | J28: 1972 | K28: =IF(J28="","",(2026-J28)) -> 54 | L28: =IF(G28="","",IF(COUNTIF($G$4:$G$108,G28)>1,"2重登録","OK")) -> OK | M28: 米原市
A29: あ２６ | B29: 齋田 | C29: 優子 | D29: アビックBB | F29: =A29 -> あ２６ | G29: =B29&C29 -> 齋田優子 | H29: =D29 -> アビックBB | I29: 女 | J29: 1983 | K29: =IF(J29="","",(2026-J29)) -> 43 | L29: =IF(G29="","",IF(COUNTIF($G$4:$G$108,G29)>1,"2重登録","OK")) -> OK | M29: 長浜市
A30: あ２７ | B30: 中村 | C30: 紗映子 | D30: アビックBB | F30: =A30 -> あ２７ | G30: =B30&C30 -> 中村紗映子 | H30: =D30 -> アビックBB | I30: 女 | J30: 1983 | K30: =IF(J30="","",(2026-J30)) -> 43 | L30: =IF(G30="","",IF(COUNTIF($G$4:$G$108,G30)>1,"2重登録","OK")) -> OK | M30: 長浜市
A31: あ２８ | B31: 松本 | C31: 光美 | D31: アビックBB | F31: =A31 -> あ２８ | G31: =B31&C31 -> 松本光美 | H31: =D31 -> アビックBB | I31: 女 | J31: 1971 | K31: =IF(J31="","",(2026-J31)) -> 55 | L31: =IF(G31="","",IF(COUNTIF($G$4:$G$108,G31)>1,"2重登録","OK")) -> OK | M31: 草津市
A32: あ２９ | B32: 堅田 | C32: 瑞木 | D32: アビックBB | F32: =A32 -> あ２９ | G32: =B32&C32 -> 堅田瑞木 | H32: =D32 -> アビックBB | I32: 女 | J32: 1996 | K32: =IF(J32="","",(2026-J32)) -> 30 | L32: =IF(G32="","",IF(COUNTIF($G$4:$G$108,G32)>1,"2重登録","OK")) -> OK | M32: 京都府
A33: あ３０ | B33: 堀田 | C33: 明子 | D33: アビックBB | F33: =A33 -> あ３０ | G33: =B33&C33 -> 堀田明子 | H33: =D33 -> アビックBB | I33: 女 | J33: 1970 | K33: =IF(J33="","",(2026-J33)) -> 56 | L33: =IF(G33="","",IF(COUNTIF($G$4:$G$108,G33)>1,"2重登録","OK")) -> OK | M33: 東近江市
A34: あ３１ | B34: 佐野 | C34: 直美 | D34: アビックBB | F34: =A34 -> あ３１ | G34: =B34&C34 -> 佐野直美 | H34: =D34 -> アビックBB | I34: 女 | J34: 1975 | K34: =IF(J34="","",(2026-J34)) -> 51 | L34: =IF(G34="","",IF(COUNTIF($G$4:$G$108,G34)>1,"2重登録","OK")) -> OK | M34: 京都府
A35: あ３２ | B35: 千代 | C35: 美由紀 | D35: アビックBB | F35: =A35 -> あ３２ | G35: =B35&C35 -> 千代美由紀 | H35: =D35 -> アビックBB | I35: 女 | J35: 1972 | K35: =IF(J35="","",(2026-J35)) -> 54 | L35: =IF(G35="","",IF(COUNTIF($G$4:$G$108,G35)>1,"2重登録","OK")) -> OK | M35: 京都府
A36: あ３３ | B36: 小西 | C36: 由美子 | D36: アビックBB | F36: =A36 -> あ３３ | G36: =B36&C36 -> 小西由美子 | H36: =D36 -> アビックBB | I36: 女 | J36: 1968 | K36: =IF(J36="","",(2026-J36)) -> 58 | L36: =IF(G36="","",IF(COUNTIF($G$4:$G$108,G36)>1,"2重登録","OK")) -> OK | M36: 近江八幡市
... A42: あ３９ | B42: 谷崎 | C42: 真也 | D42: アビックBB | F42: =A42 -> あ３９ | G42: =B42&C42 -> 谷崎真也 | H42: =D42 -> アビックBB | I42: 男 | J42: 1972 | K42: =IF(J42="","",(2026-J42)) -> 54 | L42: =IF(G42="","",IF(COUNTIF($G$4:$G$108,G42)>1,"2重登録","OK")) -> OK | M42: 甲賀市
A43: あ４０
A44: あ４１
A45: あ４２
A46: あ４３
B47: 2 | D47: ３２人 | K47: =IF(J47="","",(2026-J47))
A48: あぷ０１ | B48: 杉山 | C48: 邦夫 | D48: アプストTC | E48: ｓｅ | F48: =A48 -> あぷ０１ | G48: =B48&C48 -> 杉山邦夫 | H48: =D48 -> アプストTC | I48: 男 | J48: 1950 | K48: =IF(J48="","",(2026-J48)) -> 76 | L48: =IF(G48="","",IF(COUNTIF($G$4:$G$116,G48)>1,"2重登録","OK")) -> OK | M48: 多賀町
A49: あぷ０２ | B49: 川上 | C49: 英二 | D49: アプストTC | F49: =A49 -> あぷ０２ | G49: =B49&C49 -> 川上英二 | H49: =D49 -> アプストTC | I49: 男 | J49: 1963 | K49: =IF(J49="","",(2026-J49)) -> 63 | L49: =IF(G49="","",IF(COUNTIF($G$4:$G$116,G49)>1,"2重登録","OK")) -> OK | M49: 東近江市
A50: あぷ０３ | B50: 浅田 | C50: 隆昭 | D50: アプストTC | F50: =A50 -> あぷ０３ | G50: =B50&C50 -> 浅田隆昭 | H50: =D50 -> アプストTC | I50: 男 | J50: 1964 | K50: =IF(J50="","",(2026-J50)) -> 62 | L50: =IF(G50="","",IF(COUNTIF($G$4:$G$116,G50)>1,"2重登録","OK")) -> OK | M50: 守山市
A51: あぷ０４ | B51: 森永 | C51: 洋介 | D51: アプストTC | F51: =A51 -> あぷ０４ | G51: =B51&C51 -> 森永洋介 | H51: =D51 -> アプストTC | I51: 男 | J51: 1986 | K51: =IF(J51="","",(2026-J51)) -> 40 | L51: =IF(G51="","",IF(COUNTIF($G$4:$G$116,G51)>1,"2重登録","OK")) -> OK | M51: 近江八幡市 | N51: 1
A52: あぷ０５ | B52: 辰巳 | C52: 悟朗 | D52: アプストTC | F52: =A52 -> あぷ０５ | G52: =B52&C52 -> 辰巳悟朗 | H52: =D52 -> アプストTC | I52: 男 | J52: 1974 | K52: =IF(J52="","",(2026-J52)) -> 52 | L52: =IF(G52="","",IF(COUNTIF($G$4:$G$116,G52)>1,"2重登録","OK")) -> OK | M52: 彦根市 | N52: 2
A53: あぷ０６ | B53: 川上 | C53: 美弥子 | D53: アプストTC | F53: =A53 -> あぷ０６ | G53: =B53&C53 -> 川上美弥子 | H53: =D53 -> アプストTC | I53: 女 | J53: 1971 | K53: =IF(J53="","",(2026-J53)) -> 55 | L53: =IF(G53="","",IF(COUNTIF($G$4:$G$116,G53)>1,"2重登録","OK")) -> OK | M53: 東近江市 | N53: 3
A54: あぷ０７ | B54: 山内 | C54: 雄平 | D54: アプストTC | F54: =A54 -> あぷ０７ | G54: =B54&C54 -> 山内雄平 | H54: =D54 -> アプストTC | I54: 男 | J54: 1989 | K54: =IF(J54="","",(2026-J54)) -> 37 | L54: =IF(G54="","",IF(COUNTIF($G$4:$G$116,G54)>1,"2重登録","OK")) -> OK | M54: 東近江市 | N54: 4
A55: あぷ０８ | B55: 木村 | C55: 美香 | D55: アプストTC | F55: =A55 -> あぷ０８ | G55: =B55&C55 -> 木村美香 | H55: =D55 -> アプストTC | I55: 女 | J55: 1962 | K55: =IF(J55="","",(2026-J55)) -> 64 | L55: =IF(G55="","",IF(COUNTIF($G$4:$G$116,G55)>1,"2重登録","OK")) -> OK | M55: 米原市 | N55: 5
A56: あぷ０９ | B56: 日高 | C56: 眞規子 | D56: アプストTC | F56: =A56 -> あぷ０９ | G56: =B56&C56 -> 日高眞規子 | H56: =D56 -> アプストTC | I56: 女 | J56: 1963 | K56: =IF(J56="","",(2026-J56)) -> 63 | L56: =IF(G56="","",IF(COUNTIF($G$4:$G$116,G56)>1,"2重登録","OK")) -> OK | M56: 長浜市 | N56: 6
A57: あぷ１０ | B57: 長谷出 | C57: 浩 | D57: アプストTC | F57: =A57 -> あぷ１０ | G57: =B57&C57 -> 長谷出浩 | H57: =D57 -> アプストTC | I57: 男 | J57: 1960 | K57: =IF(J57="","",(2026-J57)) -> 66 | L57: =IF(G57="","",IF(COUNTIF($G$4:$G$116,G57)>1,"2重登録","OK")) -> OK | M57: 東近江市 | N57: 7
A58: あぷ１１ | B58: 奥田 | C58: 純也 | D58: アプストTC | F58: =A58 -> あぷ１１ | G58: =B58&C58 -> 奥田純也 | H58: =D58 -> アプストTC | I58: 男 | J58: 1963 | K58: =IF(J58="","",(2026-J58)) -> 63 | L58: =IF(G58="","",IF(COUNTIF($G$4:$G$116,G58)>1,"2重登録","OK")) -> OK | M58: 東近江市 | N58: 8
A59: あぷ１２ | B59: 村田 | C59: 理恵子 | D59: アプストTC | F59: =A59 -> あぷ１２ | G59: =B59&C59 -> 村田理恵子 | H59: =D59 -> アプストTC | I59: 女 | J59: 1979 | K59: =IF(J59="","",(2026-J59)) -> 47 | L59: =IF(G59="","",IF(COUNTIF($G$4:$G$116,G59)>1,"2重登録","OK")) -> OK | M59: 東近江市 | N59: 9
A60: あぷ１３ | B60: 東 | C60: 正隆 | D60: アプストTC | F60: =A60 -> あぷ１３ | G60: =B60&C60 -> 東正隆 | H60: =D60 -> アプストTC | I60: 男 | J60: 1965 | K60: =IF(J60="","",(2026-J60)) -> 61 | L60: =IF(G60="","",IF(COUNTIF($G$4:$G$116,G60)>1,"2重登録","OK")) -> OK | M60: 彦根市 | N60: 10
A61: あぷ１４ | B61: 二ツ井 | C61: 裕也 | D61: アプストTC | F61: =A61 -> あぷ１４ | G61: =B61&C61 -> 二ツ井裕也 | H61: =D61 -> アプストTC | I61: 男 | J61: 1990 | K61: =IF(J61="","",(2026-J61)) -> 36 | L61: =IF(G61="","",IF(COUNTIF($G$4:$G$116,G61)>1,"2重登録","OK")) -> OK | M61: 京都府 | N61: 11
A62: あぷ１５ | B62: 田中 | C62: 有紀 | D62: アプストTC | F62: =A62 -> あぷ１５ | G62: =B62&C62 -> 田中 有紀 | H62: =D62 -> アプストTC | I62: 女 | J62: 1969 | K62: =IF(J62="","",(2026-J62)) -> 57 | L62: =IF(G62="","",IF(COUNTIF($G$4:$G$116,G62)>1,"2重登録","OK")) -> OK | M62: 竜王町 | N62: 12
... A80: あぷ３３ | B80: 赤木 | C80: 拓 | D80: アプストTC | F80: =A80 -> あぷ３３ | G80: =B80&C80 -> 赤木拓 | H80: =D80 -> アプストTC | I80: 男 | J80: 1979 | K80: =IF(J80="","",(2026-J80)) -> 47 | L80: =IF(G80="","",IF(COUNTIF($G$4:$G$116,G80)>1,"2重登録","OK")) -> OK | M80: 近江八幡市 | N80: 30
B81: 3 | D81: ２７人 | H81: =D81 -> ２７人 | K81: =IF(J81="","",(2026-J81)) | N81: 30
A82: あん０１ | B82: 上津 | C82: 慶和 | D82: アンヴァース | F82: =A82 -> あん０１ | G82: =B82&C82 -> 上津慶和 | H82: =D82 -> アンヴァース | I82: 男 | J82: 1993 | K82: =IF(J82="","",(2026-J82)) -> 33 | L82: =IF(G82="","",IF(COUNTIF($G$5:$G$610,G82)>1,"2重登録","OK")) -> OK | M82: 大津市 | N82: 31
A83: あん０２ | B83: 脇坂 | C83: 和樹 | D83: アンヴァース | F83: =A83 -> あん０２ | G83: =B83&C83 -> 脇坂和樹 | H83: =D83 -> アンヴァース | I83: 男 | J83: 1992 | K83: =IF(J83="","",(2026-J83)) -> 34 | L83: =IF(G83="","",IF(COUNTIF($G$5:$G$610,G83)>1,"2重登録","OK")) -> OK | M83: 彦根市
A84: あん０３ | B84: 小田 | C84: 紀彦 | D84: アンヴァース | F84: =A84 -> あん０３ | G84: =B84&C84 -> 小田紀彦 | H84: =D84 -> アンヴァース | I84: 男 | J84: 1984 | K84: =IF(J84="","",(2026-J84)) -> 42 | L84: =IF(G84="","",IF(COUNTIF($G$5:$G$610,G84)>1,"2重登録","OK")) -> OK | M84: 野洲市
A85: あん０４ | B85: 越智 | C85: 友基 | D85: アンヴァース | F85: =A85 -> あん０４ | G85: =B85&C85 -> 越智友基 | H85: =D85 -> アンヴァース | I85: 男 | J85: 1987 | K85: =IF(J85="","",(2026-J85)) -> 39 | L85: =IF(G85="","",IF(COUNTIF($G$5:$G$610,G85)>1,"2重登録","OK")) -> OK | M85: 野洲市
A86: あん０５ | B86: 辻本 | C86: 将士 | D86: アンヴァース | F86: =A86 -> あん０５ | G86: =B86&C86 -> 辻本将士 | H86: =D86 -> アンヴァース | I86: 男 | J86: 1986 | K86: =IF(J86="","",(2026-J86)) -> 40 | L86: =IF(G86="","",IF(COUNTIF($G$5:$G$610,G86)>1,"2重登録","OK")) -> OK | M86: 東近江市
A87: あん０６ | B87: 津曲 | C87: 崇志 | D87: アンヴァース | F87: =A87 -> あん０６ | G87: =B87&C87 -> 津曲崇志 | H87: =D87 -> アンヴァース | I87: 男 | J87: 1989 | K87: =IF(J87="","",(2026-J87)) -> 37 | L87: =IF(G87="","",IF(COUNTIF($G$5:$G$610,G87)>1,"2重登録","OK")) -> OK | M87: 湖南市
A88: あん０７ | B88: 鍋内 | C88: 雄樹 | D88: アンヴァース | F88: =A88 -> あん０７ | G88: =B88&C88 -> 鍋内雄樹 | H88: =D88 -> アンヴァース | I88: 男 | J88: 1990 | K88: =IF(J88="","",(2026-J88)) -> 36 | L88: =IF(G88="","",IF(COUNTIF($G$5:$G$610,G88)>1,"2重登録","OK")) -> OK | M88: 湖南市
A89: あん０８ | B89: 桐原 | C89: 昇汰 | D89: アンヴァース | F89: =A89 -> あん０８ | G89: =B89&C89 -> 桐原昇汰 | H89: =D89 -> アンヴァース | I89: 男 | J89: 1994 | K89: =IF(J89="","",(2026-J89)) -> 32 | L89: =IF(G89="","",IF(COUNTIF($G$5:$G$610,G89)>1,"2重登録","OK")) -> OK | M89: 守山市
A90: あん０９ | B90: 松村 | C90: 友喜 | D90: アンヴァース | F90: =A90 -> あん０９ | G90: =B90&C90 -> 松村友喜 | H90: =D90 -> アンヴァース | I90: 男 | J90: 1988 | K90: =IF(J90="","",(2026-J90)) -> 38 | L90: =IF(G90="","",IF(COUNTIF($G$5:$G$610,G90)>1,"2重登録","OK")) -> OK | M90: 彦根市
A91: あん１０ | B91: 薮内 | C91: 豪 | D91: アンヴァース | F91: =A91 -> あん１０ | G91: =B91&C91 -> 薮内豪 | H91: =D91 -> アンヴァース | I91: 男 | J91: 1986 | K91: =IF(J91="","",(2026-J91)) -> 40 | L91: =IF(G91="","",IF(COUNTIF($G$5:$G$610,G91)>1,"2重登録","OK")) -> OK | M91: 長浜市
A92: あん１１ | B92: 山田 | C92: 佳明 | D92: アンヴァース | F92: =A92 -> あん１１ | G92: =B92&C92 -> 山田佳明 | H92: =D92 -> アンヴァース | I92: 男 | J92: 1986 | K92: =IF(J92="","",(2026-J92)) -> 40 | L92: =IF(G92="","",IF(COUNTIF($G$5:$G$610,G92)>1,"2重登録","OK")) -> OK | M92: 京都府
A93: あん１２ | B93: 政田 | C93: 秀栄 | D93: アンヴァース | F93: =A93 -> あん１２ | G93: =B93&C93 -> 政田秀栄 | H93: =D93 -> アンヴァース | I93: 男 | J93: 1982 | K93: =IF(J93="","",(2026-J93)) -> 44 | L93: =IF(G93="","",IF(COUNTIF($G$5:$G$610,G93)>1,"2重登録","OK")) -> OK | M93: 栗東市
A94: あん１３ | B94: 水島 | C94: 康夫 | D94: アンヴァース | F94: =A94 -> あん１３ | G94: =B94&C94 -> 水島康夫 | H94: =D94 -> アンヴァース | I94: 男 | J94: 1983 | K94: =IF(J94="","",(2026-J94)) -> 43 | L94: =IF(G94="","",IF(COUNTIF($G$5:$G$610,G94)>1,"2重登録","OK")) -> OK | M94: 草津市
... A108: あん２７ | B108: 青木 | C108: 奈菜 | D108: アンヴァース | F108: =A108 -> あん２７ | G108: =B108&C108 -> 青木奈菜 | H108: =D108 -> アンヴァース | I108: 女 | J108: 2006 | K108: =IF(J108="","",(2026-J108)) -> 20 | L108: =IF(G108="","",IF(COUNTIF($G$5:$G$610,G108)>1,"2重登録","OK")) -> OK | M108: 岐阜県
B109: 4 | D109: ２４人 | H109: =D109 -> ２４人 | K109: =IF(J109="","",(2026-J109))
A110: け０１ | B110: 稲岡 | C110: 和紀 | D110: Kテニス | F110: =A110 -> け０１ | G110: =B110&C110 -> 稲岡和紀 | H110: Ｋテニスカレッジ | I110: 男 | J110: 1978 | K110: =IF(J110="","",(2026-J110)) -> 48 | L110: =IF(G110="","",IF(COUNTIF($G$4:$G$108,G110)>1,"2重登録","OK")) -> OK | M110: 東近江市
A111: け０２ | B111: 上村 | C111: 武 | D111: Kテニス | F111: =A111 -> け０２ | G111: =B111&C111 -> 上村 武 | H111: Ｋテニスカレッジ | I111: 男 | J111: 1978 | K111: =IF(J111="","",(2026-J111)) -> 48 | L111: =IF(G111="","",IF(COUNTIF($G$4:$G$108,G111)>1,"2重登録","OK")) -> OK | M111: 彦根市
A112: け０３ | B112: 川上 | C112: 悠作 | D112: Kテニス | F112: =A112 -> け０３ | G112: =B112&C112 -> 川上悠作 | H112: Ｋテニスカレッジ | I112: 男 | J112: 2000 | K112: =IF(J112="","",(2026-J112)) -> 26 | L112: =IF(G112="","",IF(COUNTIF($G$4:$G$108,G112)>1,"2重登録","OK")) -> OK | M112: 東近江市
A113: け０４ | B113: 坪田 | C113: 真嘉 | D113: Kテニス | F113: =A113 -> け０４ | G113: =B113&C113 -> 坪田真嘉 | H113: Ｋテニスカレッジ | I113: 男 | J113: 1976 | K113: =IF(J113="","",(2026-J113)) -> 50 | L113: =IF(G113="","",IF(COUNTIF($G$4:$G$108,G113)>1,"2重登録","OK")) -> OK | M113: 東近江市
A114: け０５ | B114: 山口 | C114: 直彦 | D114: Kテニス | F114: =A114 -> け０５ | G114: =B114&C114 -> 山口直彦 | H114: Ｋテニスカレッジ | I114: 男 | J114: 1986 | K114: =IF(J114="","",(2026-J114)) -> 40 | L114: =IF(G114="","",IF(COUNTIF($G$4:$G$108,G114)>1,"2重登録","OK")) -> OK | M114: 東近江市
A115: け０６ | B115: 福永 | C115: 裕美 | D115: Kテニス | F115: =A115 -> け０６ | G115: =B115&C115 -> 福永裕美 | H115: Ｋテニスカレッジ | I115: 女 | J115: 1963 | K115: =IF(J115="","",(2026-J115)) -> 63 | L115: =IF(G115="","",IF(COUNTIF($G$4:$G$108,G115)>1,"2重登録","OK")) -> OK | M115: 東近江市
A116: け０７ | B116: 福永 | C116: 一典 | D116: Kテニス | F116: =A116 -> け０７ | G116: =B116&C116 -> 福永一典 | H116: Ｋテニスカレッジ | I116: 男 | J116: 1967 | K116: =IF(J116="","",(2026-J116)) -> 59 | L116: =IF(G116="","",IF(COUNTIF($G$4:$G$108,G116)>1,"2重登録","OK")) -> OK | M116: 近江八幡市
A117: け０８ | B117: 小澤 | C117: 藤信 | D117: Kテニス | F117: =A117 -> け０８ | G117: =B117&C117 -> 小澤藤信 | H117: Ｋテニスカレッジ | I117: 男 | J117: 1964 | K117: =IF(J117="","",(2026-J117)) -> 62 | L117: =IF(G117="","",IF(COUNTIF($G$4:$G$108,G117)>1,"2重登録","OK")) -> OK | M117: 彦根市
A118: け０９ | B118: 朝日 | C118: 尚紀 | D118: Kテニス | F118: =A118 -> け０９ | G118: =B118&C118 -> 朝日尚紀 | H118: Ｋテニスカレッジ | I118: 男 | J118: 1983 | K118: =IF(J118="","",(2026-J118)) -> 43 | L118: =IF(G118="","",IF(COUNTIF($G$4:$G$108,G118)>1,"2重登録","OK")) -> OK | M118: 三重県
A119: け１０ | B119: 朝日 | C119: 智美 | D119: Kテニス | F119: =A119 -> け１０ | G119: =B119&C119 -> 朝日智美 | H119: Ｋテニスカレッジ | I119: 女 | J119: 1983 | K119: =IF(J119="","",(2026-J119)) -> 43 | L119: =IF(G119="","",IF(COUNTIF($G$4:$G$108,G119)>1,"2重登録","OK")) -> OK | M119: 三重県
A120: け１１ | B120: 本多 | C120: 勇輝 | D120: Kテニス | F120: =A120 -> け１１ | G120: =B120&C120 -> 本多勇輝 | H120: Ｋテニスカレッジ | I120: 男 | J120: 1989 | K120: =IF(J120="","",(2026-J120)) -> 37 | L120: =IF(G120="","",IF(COUNTIF($G$4:$G$108,G120)>1,"2重登録","OK")) -> OK | M120: 守山市
A121: け１２ | B121: 堤 | C121: 泰彦 | D121: Kテニス | F121: =A121 -> け１２ | G121: =B121&C121 -> 堤泰彦 | H121: Ｋテニスカレッジ | I121: 男 | J121: 1987 | K121: =IF(J121="","",(2026-J121)) -> 39 | L121: =IF(G121="","",IF(COUNTIF($G$4:$G$108,G121)>1,"2重登録","OK")) -> OK | M121: 東近江市
... A136: け２７ | B136: 稲岡 | C136: 沙良 | D136: Kテニス | F136: =A136 -> け２７ | G136: =B136&C136 -> 稲岡沙良 | H136: Ｋテニスカレッジ | I136: 女 | J136: 2012 | K136: =IF(J136="","",(2026-J136)) -> 14 | L136: =IF(G136="","",IF(COUNTIF($G$4:$G$108,G136)>1,"2重登録","OK")) -> OK | M136: 東近江市
B137: 5 | D137: ３０人 | K137: =IF(J137="","",(2026-J137))
A138: き０１ | B138: 荒浪 | C138: 順次 | D138: 京セラTC | F138: =A138 -> き０１ | G138: =B138&C138 -> 荒浪順次 | H138: =D138 -> 京セラTC | I138: 男 | J138: 1977 | K138: =IF(J138="","",(2026-J138)) -> 49 | L138: =IF(G138="","",IF(COUNTIF($G$4:$G$108,G138)>1,"2重登録","OK")) -> OK | M138: 大津市
A139: き０２ | B139: 井澤 | C139: 匡志 | D139: 京セラTC | F139: =A139 -> き０２ | G139: =B139&C139 -> 井澤 匡志 | H139: =D139 -> 京セラTC | I139: 男 | J139: 1967 | K139: =IF(J139="","",(2026-J139)) -> 59 | L139: =IF(G139="","",IF(COUNTIF($G$4:$G$108,G139)>1,"2重登録","OK")) -> OK | M139: 東近江市
A140: き０３ | B140: 石井 | C140: 耶真斗 | D140: 京セラTC | F140: =A140 -> き０３ | G140: =B140&C140 -> 石井耶真斗 | H140: =D140 -> 京セラTC | I140: 男 | J140: 1995 | K140: =IF(J140="","",(2026-J140)) -> 31 | L140: =IF(G140="","",IF(COUNTIF($G$4:$G$108,G140)>1,"2重登録","OK")) -> OK | M140: 東近江市
A141: き０４ | B141: 石川 | C141: 和洋 | D141: 京セラTC | F141: =A141 -> き０４ | G141: =B141&C141 -> 石川和洋 | H141: =D141 -> 京セラTC | I141: 男 | J141: 1978 | K141: =IF(J141="","",(2026-J141)) -> 48 | L141: =IF(G141="","",IF(COUNTIF($G$4:$G$108,G141)>1,"2重登録","OK")) -> OK | M141: 竜王町
A142: き０５ | B142: 石田 | C142: 文彦 | D142: 京セラTC | F142: =A142 -> き０５ | G142: =B142&C142 -> 石田文彦 | H142: =D142 -> 京セラTC | I142: 男 | J142: 1993 | K142: =IF(J142="","",(2026-J142)) -> 33 | L142: =IF(G142="","",IF(COUNTIF($G$4:$G$108,G142)>1,"2重登録","OK")) -> OK | M142: 近江八幡市
A143: き０６ | B143: 一色 | C143: 翼 | D143: 京セラTC | F143: =A143 -> き０６ | G143: =B143&C143 -> 一色翼 | H143: =D143 -> 京セラTC | I143: 男 | J143: 1984 | K143: =IF(J143="","",(2026-J143)) -> 42 | L143: =IF(G143="","",IF(COUNTIF($G$4:$G$108,G143)>1,"2重登録","OK")) -> OK | M143: 東近江市
A144: き０７ | B144: 牛尾 | C144: 紳之介 | D144: 京セラTC | F144: =A144 -> き０７ | G144: =B144&C144 -> 牛尾紳之介 | H144: =D144 -> 京セラTC | I144: 男 | J144: 1984 | K144: =IF(J144="","",(2026-J144)) -> 42 | L144: =IF(G144="","",IF(COUNTIF($G$4:$G$108,G144)>1,"2重登録","OK")) -> OK | M144: 東近江市
A145: き０８ | B145: 太田 | C145: 圭亮 | D145: 京セラTC | F145: =A145 -> き０８ | G145: =B145&C145 -> 太田圭亮 | H145: =D145 -> 京セラTC | I145: 男 | J145: 1981 | K145: =IF(J145="","",(2026-J145)) -> 45 | L145: =IF(G145="","",IF(COUNTIF($G$4:$G$108,G145)>1,"2重登録","OK")) -> OK | M145: 近江八幡市
A146: き０９ | B146: 奥田 | C146: 司 | D146: 京セラTC | F146: =A146 -> き０９ | G146: =B146&C146 -> 奥田司 | H146: =D146 -> 京セラTC | I146: 男 | J146: 1997 | K146: =IF(J146="","",(2026-J146)) -> 29 | L146: =IF(G146="","",IF(COUNTIF($G$4:$G$108,G146)>1,"2重登録","OK")) -> OK | M146: 東近江市
A147: き１０ | B147: 木村 | C147: 圭 | D147: 京セラTC | F147: =A147 -> き１０ | G147: =B147&C147 -> 木村圭 | H147: =D147 -> 京セラTC | I147: 男 | J147: 1968 | K147: =IF(J147="","",(2026-J147)) -> 58 | L147: =IF(G147="","",IF(COUNTIF($G$4:$G$108,G147)>1,"2重登録","OK")) -> OK | M147: 大津市
A148: き１１ | B148: 栗山 | C148: 飛鳥 | D148: 京セラTC | F148: =A148 -> き１１ | G148: =B148&C148 -> 栗山飛鳥 | H148: =D148 -> 京セラTC | I148: 男 | J148: 1997 | K148: =IF(J148="","",(2026-J148)) -> 29 | L148: =IF(G148="","",IF(COUNTIF($G$4:$G$108,G148)>1,"2重登録","OK")) -> OK | M148: 東近江市
A149: き１２ | B149: 清水 | C149: 陽介 | D149: 京セラTC | F149: =A149 -> き１２ | G149: =B149&C149 -> 清水陽介 | H149: =D149 -> 京セラTC | I149: 男 | J149: 1991 | K149: =IF(J149="","",(2026-J149)) -> 35 | L149: =IF(G149="","",IF(COUNTIF($G$4:$G$108,G149)>1,"2重登録","OK")) -> OK | M149: 守山市
... A171: き３４ | B171: 和田 | C171: 洸 | D171: 京セラTC | F171: =A171 -> き３４ | G171: =B171&C171 -> 和田洸 | H171: =D171 -> 京セラTC | I171: 男 | J171: 2001 | K171: =IF(J171="","",(2026-J171)) -> 25 | L171: =IF(G171="","",IF(COUNTIF($G$4:$G$108,G171)>1,"2重登録","OK")) -> OK | M171: 野洲市
B172: 6 | D172: ２７人 | H172: =D172 -> ２７人 | K172: =IF(J172="","",(2026-J172)) | L172: =IF(G172="","",IF(COUNTIF($G$5:$G$685,G172)>1,"2重登録","OK"))
A173: ぐ０１ | B173: 鍵谷 | C173: 浩太 | D173: グリフィンズ | F173: =A173 -> ぐ０１ | G173: =B173&C173 -> 鍵谷浩太 | H173: 東近江グリフィンズ | I173: 男 | J173: 1991 | K173: =IF(J173="","",(2026-J173)) -> 35 | L173: =IF(G173="","",IF(COUNTIF($G$5:$G$685,G173)>1,"2重登録","OK")) -> OK | M173: 彦根市
A174: ぐ０２ | B174: 中西 | C174: 泰輝 | D174: グリフィンズ | F174: =A174 -> ぐ０２ | G174: =B174&C174 -> 中西泰輝 | H174: 東近江グリフィンズ | I174: 男 | J174: 1992 | K174: =IF(J174="","",(2026-J174)) -> 34 | L174: =IF(G174="","",IF(COUNTIF($G$5:$G$685,G174)>1,"2重登録","OK")) -> OK | M174: 守山市
A175: ぐ０３ | B175: 井ノ口 | C175: 幹也 | D175: グリフィンズ | F175: =A175 -> ぐ０３ | G175: =B175&C175 -> 井ノ口幹也 | H175: 東近江グリフィンズ | I175: 男 | J175: 1990 | K175: =IF(J175="","",(2026-J175)) -> 36 | L175: =IF(G175="","",IF(COUNTIF($G$5:$G$685,G175)>1,"2重登録","OK")) -> OK | M175: 東近江市
A176: ぐ０４ | B176: 久保村 | C176: 悠史 | D176: グリフィンズ | F176: =A176 -> ぐ０４ | G176: =B176&C176 -> 久保村悠史 | H176: 東近江グリフィンズ | I176: 男 | J176: 1990 | K176: =IF(J176="","",(2026-J176)) -> 36 | L176: =IF(G176="","",IF(COUNTIF($G$5:$G$685,G176)>1,"2重登録","OK")) -> OK | M176: 京都府
A177: ぐ０５ | B177: 漆原 | C177: 大介 | D177: グリフィンズ | F177: =A177 -> ぐ０５ | G177: =B177&C177 -> 漆原大介 | H177: 東近江グリフィンズ | I177: 男 | J177: 1988 | K177: =IF(J177="","",(2026-J177)) -> 38 | L177: =IF(G177="","",IF(COUNTIF($G$5:$G$685,G177)>1,"2重登録","OK")) -> OK | M177: 彦根市
A178: ぐ０６ | B178: 土田 | C178: 哲也 | D178: グリフィンズ | F178: =A178 -> ぐ０６ | G178: =B178&C178 -> 土田哲也 | H178: 東近江グリフィンズ | I178: 男 | J178: 1990 | K178: =IF(J178="","",(2026-J178)) -> 36 | L178: =IF(G178="","",IF(COUNTIF($G$5:$G$685,G178)>1,"2重登録","OK")) -> OK | M178: 長浜市
...
