Workbook

Sheet OOP
A1: オーダーオブプレイ
B2: ひばり公園 | H2: すこやかの杜
B3: 外A | C3: 外B | D3: 外C | E3: 外D | F3: ドームA | G3: ドームB | H3: 駐車場側 | I3: 奥側
A4: 0.375 | B4: 男A_1 | C4: 男A_2 | D4: 男B_リーグ1-1 | E4: 男B_リーグ2-1 | F4: 女A_リーグ-1 | G4: 女BC_リーグ1-1 | H4: 男OV_リーグ1-1 | I4: 男OV_リーグ2-1
A5: 0.39583333 | B5: 男A_3 | C5: 男A_4 | D5: 男C_リーグ-1 | E5: 男B_リーグ2-2 | F5: 女A_リーグ-2 | G5: 女BC_リーグ2-1 | H5: 男OV_リーグ1-2 | I5: 男OV_リーグ2-2
A6: 0.41666667 | B6: 男A_5 | C6: 男A_6 | D6: 男B_リーグ1-2 | E6: 男B_リーグ2-3 | F6: 女A_リーグ-3 | G6: 女BC_リーグ1-2 | H6: 男OV_リーグ1-3 | I6: 男OV_リーグ2-3
A7: 0.4375 | B7: 男A_7 | C7: 男A_8 | D7: 男C_リーグ-2 | E7: 男B_リーグ2-4 | F7: 女A_リーグ-4 | G7: 女BC_リーグ2-2 | H7: 男OV決勝T-1 | I7: 男OV決勝T-2
A8: 0.45833333 | B8: 男A_9 | C8: 男A_10 | D8: 男B_リーグ1-3 | E8: 男B_リーグ2-5 | F8: 女A_リーグ-5 | G8: 女BC_リーグ1-3 | H8: 男OV決勝 | I8: 男子コンソレ
A9: 0.47916667 | B9: 男A_11 | C9: 男A_12 | D9: 男C_リーグ-3 | E9: 男B_リーグ2-6 | F9: 女A_リーグ-6 | G9: 女BC_リーグ2-3 | H9: 男OV３決
A10: 0.5 | B10: 男A_13 | C10: 男A_14 | D10: 男B決勝T-1 | E10: 男B決勝T-2 | F10: 女BC決勝T-1 | G10: 女BC決勝T-2
A11: 0.52083333 | B11: 男A_15 | D11: 男B決勝 | E11: 男子Bコンソレ1 | F11: 女BC決勝 | G11: 女BCコンソレ
A12: 0.54166667 | D12: 男B３決 | E12: 男子Bコンソレ2 | G12: 女BC３決
A13: 0.5625 | E13: 男子Bコンソレ3
A14: 0.58333333
A15: 0.60416667
A16: 0.625
A17: 0.64583333
A18: 0.66666667
A19: 0.6875
A20: 0.70833333
A21: 0.72916667
A22: 0.75

Sheet 男子A
C1: 第22回 東近江市秋季ダブルス大会
A2: 男子A級 | J2: 試合形式（1セットマッチ（６－６タイブレーク）ノーアド方式）
C4: ↓コート・集合時間（ひばり公園 外AB 8：45までに本部に出席を届ける）
A5: 6人リーグ | C5: リーグ | G5: =C6 -> 山口 | H5: ・ | I5: =E6 -> 新谷 | J5: =C8 -> 齊田 | K5: ・ | L5: =E8 -> 生田 | M5: =C10 -> 岡 | N5: ・ | O5: =E10 -> 三箇 | P5: =C12 -> 牛道 | Q5: ・ | R5: =E12 -> 竹田 | S5: =C14 -> 澁谷 | T5: ・ | U5: =E14 -> 門根 | V5: =C14 -> 澁谷 | W5: ・ | X5: =E14 -> 門根 | Y5: 成績／順位
A6: け０５ | C6: =IF(A6="","",VLOOKUP(A6,登録No.!$A$3:$N$508,2,FALSE)) -> 山口 | E6: =IF(A7="","",VLOOKUP(A7,登録No.!$A$3:$N$508,2,FALSE)) -> 新谷 | J6: =IF(K6="","①",IF(K6>L6,"〇","×")) -> ① | M6: ④ | P6: ⑦ | S6: ⑩ | V6: ⑮ | Y6: =IF(K6="","勝",COUNTIF(J6:U6,"〇")) -> 勝 | AA6: =IF(K6="","敗",COUNTIF(J6:U6,"×")) -> 敗
A7: け１３ | C7: =IF(A6="","",VLOOKUP(A6,登録No.!$A$3:$N$508,4,FALSE)) -> Kテニス | E7: =IF(A7="","",VLOOKUP(A7,登録No.!$A$3:$N$508,4,FALSE)) -> Kテニス | Y7: =IF(N6="","ゲーム取得率",SUM(K6,N6,Q6,T6)/SUM(J6:U6)) -> ゲーム取得率 | AA7: 順位
C8: 齊田 | E8: 生田 | G8: =IF(K6="","",IF(J6="〇","×","〇")) | H8: =IF(L6="","",L6) | I8: =IF(K6="","",K6) | M8: ⑪ | P8: ⑭ | S8: ⑧ | V8: ⑥ | Y8: =IF(G8="","勝",COUNTIF(G8:U8,"〇")) -> 勝 | AA8: =IF(H8="","敗",COUNTIF(G8:U8,"×")) -> 敗
C9: 一般 | E9: 一般 | Y9: =IF(N8="","ゲーム取得率",SUM(H8,N8,Q8,T8)/SUM(G8:U8)) -> ゲーム取得率 | AA9: 順位
A10: あん１６ | C10: =IF(A10="","",VLOOKUP(A10,登録No.!$A$3:$N$508,2,FALSE)) -> 岡 | E10: =IF(A11="","",VLOOKUP(A11,登録No.!$A$3:$N$508,2,FALSE)) -> 三箇 | G10: =IF(N6="","",IF(M6="〇","×","〇")) | H10: =IF(O6="","",O6) | I10: =IF(N6="","",N6) | J10: =IF(N8="","",IF(M8="〇","×","〇")) | K10: =IF(O8="","",O8) | L10: =IF(N8="","",N8) | P10: =IF(Q10="","②",IF(Q10>R10,"〇","×")) -> ② | S10: ⑬ | V10: ⑨ | Y10: =IF(H10="","勝",COUNTIF(G10:U10,"〇")) -> 勝 | AA10: =IF(H10="","敗",COUNTIF(G10:U10,"×")) -> 敗
A11: あん１８ | C11: =IF(A10="","",VLOOKUP(A10,登録No.!$A$3:$N$508,4,FALSE)) -> アンヴァース | E11: =IF(A11="","",VLOOKUP(A11,登録No.!$A$3:$N$508,4,FALSE)) -> アンヴァース | Y11: =IF(H10="","ゲーム取得率",SUM(H10,K10,Q10,T10)/SUM(G10:U10)) -> ゲーム取得率 | AA11: 順位
A12: う０２ | C12: =IF(A12="","",VLOOKUP(A12,登録No.!$A$3:$N$508,2,FALSE)) -> 牛道 | E12: =IF(A13="","",VLOOKUP(A13,登録No.!$A$3:$N$508,2,FALSE)) -> 竹田 | G12: =IF(Q6="","",IF(P6="〇","×","〇")) | H12: =IF(R6="","",R6) | I12: =IF(Q6="","",Q6) | J12: =IF(Q8="","",IF(P8="〇","×","〇")) | K12: =IF(R8="","",R8) | L12: =IF(Q8="","",Q8) | M12: =IF(Q10="","",IF(P10="〇","×","〇")) | N12: =IF(R10="","",R10) | O12: =IF(Q10="","",Q10) | S12: ⑤ | V12: ⑫ | Y12: =IF(H12="","勝",COUNTIF(G12:U12,"〇")) -> 勝 | AA12: =IF(H12="","敗",COUNTIF(G12:U12,"×")) -> 敗
A13: う２３ | C13: =IF(A12="","",VLOOKUP(A12,登録No.!$A$3:$N$508,4,FALSE)) -> うさかめ | E13: =IF(A13="","",VLOOKUP(A13,登録No.!$A$3:$N$508,4,FALSE)) -> うさかめ | Y13: =IF(H12="","ゲーム取得率",SUM(H12,K12,N12,T12)/SUM(G12:U12)) -> ゲーム取得率 | AA13: 順位
A14: ぐ１１ | C14: =IF(A14="","",VLOOKUP(A14,登録No.!$A$3:$N$508,2,FALSE)) -> 澁谷 | E14: =IF(A15="","",VLOOKUP(A15,登録No.!$A$3:$N$508,2,FALSE)) -> 門根 | G14: =IF(T6="","",IF(S6="〇","×","〇")) | H14: =IF(U6="","",U6) | I14: =IF(T6="","",T6) | J14: =IF(T8="","",IF(S8="〇","×","〇")) | K14: =IF(U8="","",U8) | L14: =IF(T8="","",T8) | M14: =IF(T10="","",IF(S10="〇","×","〇")) | N14: =IF(U10="","",U10) | O14: =IF(T10="","",T10) | P14: =IF(T12="","",IF(S12="〇","×","〇")) | Q14: =IF(U12="","",U12) | R14: =IF(T12="","",T12) | V14: ③ | Y14: =IF(H14="","勝",COUNTIF(G14:U14,"〇")) -> 勝 | AA14: =IF(H14="","敗",COUNTIF(G14:U14,"×")) -> 敗
A15: ぐ３１ | C15: =IF(A14="","",VLOOKUP(A14,登録No.!$A$3:$N$508,4,FALSE)) -> グリフィンズ | E15: =IF(A15="","",VLOOKUP(A15,登録No.!$A$3:$N$508,4,FALSE)) -> グリフィンズ | Y15: =IF(H14="","ゲーム取得率",SUM(H14,K14,N14,Q14)/SUM(G14:U14)) -> ゲーム取得率 | AA15: 順位
A16: し０５ | C16: =IF(A16="","",VLOOKUP(A16,登録No.!$A$3:$N$508,2,FALSE)) -> 服部 | E16: 辻 | G16: =IF(W6="","",IF(V6="〇","×","〇")) | H16: =IF(X8="","",X8) | I16: =IF(W8="","",W8) | J16: =IF(W8="","",IF(V8="〇","×","〇")) | K16: =IF(X8="","",X8) | L16: =IF(W8="","",W8) | M16: =IF(W10="","",IF(V10="〇","×","〇")) | N16: =IF(X10="","",X10) | O16: =IF(W10="","",W10) | P16: =IF(W12="","",IF(V12="〇","×","〇")) | Q16: =IF(X12="","",X12) | R16: =IF(W12="","",W12) | S16: =IF(W14="","",IF(V14="〇","×","〇")) | T16: =IF(X14="","",X14) | U16: =IF(W14="","",W14) | Y16: =IF(H16="","勝",COUNTIF(G16:U16,"〇")) -> 勝 | AA16: =IF(H16="","敗",COUNTIF(G16:U16,"×")) -> 敗
C17: =IF(A16="","",VLOOKUP(A16,登録No.!$A$3:$N$508,4,FALSE)) -> 県立大 | E17: 一般 | Y17: =IF(H16="","ゲーム取得率",SUM(H16,K16,N16,Q16)/SUM(G16:U16)) -> ゲーム取得率 | AA17: 順位
D19: 順位決定方法 ①完了試合数 ②勝数 ③直接対決 ④取得ゲーム率（取得ゲーム数/全ゲーム数）

Sheet 男子B
C1: 第22回 東近江市秋季ダブルス大会 | AU1: https://tenniskei.com/2021-nitto-atp-finals-result
A2: 男子B級 | J2: 試合形式（1セットマッチ（６－６タイブレーク）ノーアド方式） | AS2: ← | AU2: 順位決定方法 ①完了試合数 ②勝数 ③直接対決 ④ゲーム取得率
AS3: 印
C4: ↓コート・集合時間（ひばり公園 外C 8：45までに本部に出席を届ける） | AS4: 刷 | AW4: ↓コート・集合時間（ひばり公園 外A 8：45までに本部に出席を届ける） | BW4: ↓コート・集合時間（ひばり公園 外A 8：45までに本部に出席を届ける）
A5: 3人リーグ | C5: リーグ | G5: =C6 -> 朝日 | H5: ・ | I5: =E6 -> 中島 | J5: =C8 -> 宮村 | K5: ・ | L5: =E8 -> 原田 | M5: =C10 -> 荒浪 | N5: ・ | O5: =E10 -> 廣瀬 | P5: 成績／順位 | AS5: 範 | AU5: 3人リーグ | AW5: リーグ | BA5: =AW6 | BB5: ・ | BC5: =AY6 | BD5: =AW8 | BE5: ・ | BF5: =AY8 | BG5: =AW10 | BH5: ・ | BI5: =AY10 | BJ5: 成績／順位 | BU5: 6人リーグ | BW5: リーグ | CA5: =BW6 | CB5: ・ | CC5: =BY6 | CD5: =BW8 | CE5: ・ | CF5: =BY8 | CG5: =BW10 | CH5: ・ | CI5: =BY10 | CJ5: =BW12 | CK5: ・ | CL5: =BY12 | CM5: =BW14 | CN5: ・ | CO5: =BY14 | CP5: =BZ14 -> 0 | CQ5: ・ | CR5: =CB14 | CS5: 成績／順位
A6: け０９ | C6: =IF(A6="","",VLOOKUP(A6,登録No.!$A$3:$N$508,2,FALSE)) -> 朝日 | E6: =IF(A7="","",VLOOKUP(A7,登録No.!$A$3:$N$508,2,FALSE)) -> 中島 | J6: =IF(K6="","③",IF(K6>L6,"〇","×")) -> ③ | M6: =IF(N6="","②",IF(N6>O6,"〇","×")) -> ② | P6: =IF(K6="","勝",COUNTIF(G6:O6,"〇")) -> 勝 | R6: =IF(K6="","敗",COUNTIF(G6:O6,"×")) -> 敗 | AS6: 囲 | AW6: =IF(AU6="","",VLOOKUP(AU6,登録No.!$A$3:$N$508,2,FALSE)) | AY6: =IF(AU7="","",VLOOKUP(AU7,登録No.!$A$3:$N$508,2,FALSE)) | BD6: =IF(BE6="","③",IF(BE6>BF6,"〇","×")) -> ③ | BG6: =IF(BH6="","②",IF(BH6>BI6,"〇","×")) -> ② | BJ6: =IF(BE6="","勝",COUNTIF(BA6:BI6,"〇")) -> 勝 | BL6: =IF(BE6="","敗",COUNTIF(BA6:BI6,"×")) -> 敗 | BW6: =IF(BU6="","",VLOOKUP(BU6,登録No.!$A$3:$N$508,2,FALSE)) | BY6: =IF(BU7="","",VLOOKUP(BU7,登録No.!$A$3:$N$508,2,FALSE)) | CD6: =IF(CE6="","①",IF(CE6>CF6,"〇","×")) -> ① | CG6: ④ | CJ6: ⑦ | CM6: ⑩ | CP6: ⑮ | CS6: =IF(CE6="","勝",COUNTIF(CD6:CO6,"〇")) -> 勝 | CU6: =IF(CE6="","敗",COUNTIF(CD6:CO6,"×")) -> 敗
A7: け１９ | C7: =IF(A6="","",VLOOKUP(A6,登録No.!$A$3:$N$508,4,FALSE)) -> Kテニス | E7: =IF(A7="","",VLOOKUP(A7,登録No.!$A$3:$N$508,4,FALSE)) -> Kテニス | P7: =IF(K6="","ゲーム取得率",SUM(K6,N6)/SUM(G6:O6)) -> ゲーム取得率 | R7: 順位 | AW7: =IF(AU6="","",VLOOKUP(AU6,登録No.!$A$3:$N$508,4,FALSE)) | AY7: =IF(AU7="","",VLOOKUP(AU7,登録No.!$A$3:$N$508,4,FALSE)) | BJ7: =IF(BE6="","ゲーム取得率",SUM(BE6,BH6)/SUM(BA6:BI6)) -> ゲーム取得率 | BL7: 順位 | BW7: =IF(BU6="","",VLOOKUP(BU6,登録No.!$A$3:$N$508,4,FALSE)) | BY7: =IF(BU7="","",VLOOKUP(BU7,登録No.!$A$3:$N$508,4,FALSE)) | CS7: =IF(CH6="","ゲーム取得率",SUM(CE6,CH6,CK6,CN6)/SUM(CD6:CO6)) -> ゲーム取得率 | CU7: 順位
A8: あぷ２６ | C8: =IF(A8="","",VLOOKUP(A8,登録No.!$A$3:$N$508,2,FALSE)) -> 宮村 | E8: =IF(A9="","",VLOOKUP(A9,登録No.!$A$3:$N$508,2,FALSE)) -> 原田 | G8: =IF(J6="③","",IF(J6="〇","×","〇")) | H8: =IF(L6="","",L6) | I8: =IF(K6="","",K6) | M8: =IF(N8="","①",IF(N8>O8,"〇","×")) -> ① | P8: =IF(G8="","勝",COUNTIF(G8:O8,"〇")) -> 勝 | R8: =IF(G8="","敗",COUNTIF(G8:O8,"×")) -> 敗 | AW8: =IF(AU8="","",VLOOKUP(AU8,登録No.!$A$3:$N$508,2,FALSE)) | AY8: =IF(AU9="","",VLOOKUP(AU9,登録No.!$A$3:$N$508,2,FALSE)) | BA8: =IF(BE6="","",IF(BD6="〇","×","〇")) | BB8: =IF(BF6="","",BF6) | BC8: =IF(BE6="","",BE6) | BG8: =IF(BH8="","①",IF(BH8>BI8,"〇","×")) -> ① | BJ8: =IF(BA8="","勝",COUNTIF(BA8:BI8,"〇")) -> 勝 | BL8: =IF(BA8="","敗",COUNTIF(BA8:BI8,"×")) -> 敗 | BW8: =IF(BU8="","",VLOOKUP(BU8,登録No.!$A$3:$N$508,2,FALSE)) | BY8: =IF(BU9="","",VLOOKUP(BU9,登録No.!$A$3:$N$508,2,FALSE)) | CA8: =IF(CE6="","",IF(CD6="〇","×","〇")) | CB8: =IF(CF6="","",CF6) | CC8: =IF(CE6="","",CE6) | CG8: ⑪ | CJ8: ⑭ | CM8: ⑧ | CP8: ⑥ | CS8: =IF(CA8="","勝",COUNTIF(CA8:CO8,"〇")) -> 勝 | CU8: =IF(CB8="","敗",COUNTIF(CA8:CO8,"×")) -> 敗
A9: う３１ | C9: =IF(A8="","",VLOOKUP(A8,登録No.!$A$3:$N$508,4,FALSE)) -> アプストTC | E9: =IF(A9="","",VLOOKUP(A9,登録No.!$A$3:$N$508,4,FALSE)) -> うさかめ | P9: =IF(H8="","ゲーム取得率",SUM(H8,N8)/SUM(G8:O8)) -> ゲーム取得率 | R9: 順位 | AW9: =IF(AU8="","",VLOOKUP(AU8,登録No.!$A$3:$N$508,4,FALSE)) | AY9: =IF(AU9="","",VLOOKUP(AU9,登録No.!$A$3:$N$508,4,FALSE)) | BJ9: =IF(BB8="","ゲーム取得率",SUM(BB8,BH8)/SUM(BA8:BI8)) -> ゲーム取得率 | BL9: 順位 | BW9: =IF(BU8="","",VLOOKUP(BU8,登録No.!$A$3:$N$508,4,FALSE)) | BY9: =IF(BU9="","",VLOOKUP(BU9,登録No.!$A$3:$N$508,4,FALSE)) | CS9: =IF(CH8="","ゲーム取得率",SUM(CB8,CH8,CK8,CN8)/SUM(CA8:CO8)) -> ゲーム取得率 | CU9: 順位
A10: き０１ | C10: =IF(A10="","",VLOOKUP(A10,登録No.!$A$3:$N$508,2,FALSE)) -> 荒浪 | E10: =IF(A11="","",VLOOKUP(A11,登録No.!$A$3:$N$508,2,FALSE)) -> 廣瀬 | G10: =IF(N6="","",IF(M6="〇","×","〇")) | H10: =IF(O6="","",O6) | I10: =IF(N6="","",N6) | J10: =IF(N8="","",IF(M8="〇","×","〇")) | K10: =IF(O8="","",O8) | L10: =IF(N8="","",N8) | P10: =IF(G10="","勝",COUNTIF(G10:O10,"〇")) -> 勝 | R10: =IF(G10="","敗",COUNTIF(G10:O10,"×")) -> 敗 | AW10: =IF(AU10="","",VLOOKUP(AU10,登録No.!$A$3:$N$508,2,FALSE)) | AY10: =IF(AU11="","",VLOOKUP(AU11,登録No.!$A$3:$N$508,2,FALSE)) | BA10: =IF(BH6="","",IF(BG6="〇","×","〇")) | BB10: =IF(BI6="","",BI6) | BC10: =IF(BH6="","",BH6) | BD10: =IF(BH8="","",IF(BG8="〇","×","〇")) | BE10: =IF(BI8="","",BI8) | BF10: =IF(BH8="","",BH8) | BJ10: =IF(BA10="","勝",COUNTIF(BA10:BI10,"〇")) -> 勝 | BL10: =IF(BA10="","敗",COUNTIF(BA10:BI10,"×")) -> 敗 | BW10: =IF(BU10="","",VLOOKUP(BU10,登録No.!$A$3:$N$508,2,FALSE)) | BY10: =IF(BU11="","",VLOOKUP(BU11,登録No.!$A$3:$N$508,2,FALSE)) | CA10: =IF(CH6="","",IF(CG6="〇","×","〇")) | CB10: =IF(CI6="","",CI6) | CC10: =IF(CH6="","",CH6) | CD10: =IF(CH8="","",IF(CG8="〇","×","〇")) | CE10: =IF(CI8="","",CI8) | CF10: =IF(CH8="","",CH8) | CJ10: =IF(CK10="","②",IF(CK10>CL10,"〇","×")) -> ② | CM10: ⑬ | CP10: ⑨ | CS10: =IF(CB10="","勝",COUNTIF(CA10:CO10,"〇")) -> 勝 | CU10: =IF(CB10="","敗",COUNTIF(CA10:CO10,"×")) -> 敗
A11: き２０ | C11: =IF(A10="","",VLOOKUP(A10,登録No.!$A$3:$N$508,4,FALSE)) -> 京セラTC | E11: =IF(A11="","",VLOOKUP(A11,登録No.!$A$3:$N$508,4,FALSE)) -> 京セラTC | P11: =IF(G10="","ゲーム取得率",SUM(H10,K10)/SUM(G10:O10)) -> ゲーム取得率 | R11: 順位 | AW11: =IF(AU10="","",VLOOKUP(AU10,登録No.!$A$3:$N$508,4,FALSE)) | AY11: =IF(AU11="","",VLOOKUP(AU11,登録No.!$A$3:$N$508,4,FALSE)) | BJ11: =IF(BA10="","ゲーム取得率",SUM(BB10,BE10)/SUM(BA10:BI10)) -> ゲーム取得率 | BL11: 順位 | BW11: =IF(BU10="","",VLOOKUP(BU10,登録No.!$A$3:$N$508,4,FALSE)) | BY11: =IF(BU11="","",VLOOKUP(BU11,登録No.!$A$3:$N$508,4,FALSE)) | CS11: =IF(CB10="","ゲーム取得率",SUM(CB10,CE10,CK10,CN10)/SUM(CA10:CO10)) -> ゲーム取得率 | CU11: 順位
C12: 順位決定方法 ①完了試合数 ②勝数 ③直接対決 ④取得ゲーム率（取得ゲーム数/全ゲーム数） | BW12: =IF(BU12="","",VLOOKUP(BU12,登録No.!$A$3:$N$508,2,FALSE)) | BY12: =IF(BU13="","",VLOOKUP(BU13,登録No.!$A$3:$N$508,2,FALSE)) | CA12: =IF(CK6="","",IF(CJ6="〇","×","〇")) | CB12: =IF(CL6="","",CL6) | CC12: =IF(CK6="","",CK6) | CD12: =IF(CK8="","",IF(CJ8="〇","×","〇")) | CE12: =IF(CL8="","",CL8) | CF12: =IF(CK8="","",CK8) | CG12: =IF(CK10="","",IF(CJ10="〇","×","〇")) | CH12: =IF(CL10="","",CL10) | CI12: =IF(CK10="","",CK10) | CM12: ⑤ | CP12: ⑫ | CS12: =IF(CB12="","勝",COUNTIF(CA12:CO12,"〇")) -> 勝 | CU12: =IF(CB12="","敗",COUNTIF(CA12:CO12,"×")) -> 敗
AW13: ↓コート・集合時間（ひばり公園 外A 8：45までに本部に出席を届ける） | BW13: =IF(BU12="","",VLOOKUP(BU12,登録No.!$A$3:$N$508,4,FALSE)) | BY13: =IF(BU13="","",VLOOKUP(BU13,登録No.!$A$3:$N$508,4,FALSE)) | CS13: =IF(CB12="","ゲーム取得率",SUM(CB12,CE12,CH12,CN12)/SUM(CA12:CO12)) -> ゲーム取得率 | CU13: 順位
C14: ↓コート・集合時間（ひばり公園 外D 8：45までに本部に出席を届ける） | AU14: 4人リーグ | AW14: リーグ | BA14: =AW15 | BB14: ・ | BC14: =AY15 | BD14: =AW17 | BE14: ・ | BF14: =AY17 | BG14: =AW19 | BH14: ・ | BI14: =AY19 | BJ14: =AW21 | BK14: ・ | BL14: =AY21 | BM14: 成績／順位 | BW14: =IF(BU14="","",VLOOKUP(BU14,登録No.!$A$3:$N$508,2,FALSE)) | BY14: =IF(BU15="","",VLOOKUP(BU15,登録No.!$A$3:$N$508,2,FALSE)) | CA14: =IF(CN6="","",IF(CM6="〇","×","〇")) | CB14: =IF(CO6="","",CO6) | CC14: =IF(CN6="","",CN6) | CD14: =IF(CN8="","",IF(CM8="〇","×","〇")) | CE14: =IF(CO8="","",CO8) | CF14: =IF(CN8="","",CN8) | CG14: =IF(CN10="","",IF(CM10="〇","×","〇")) | CH14: =IF(CO10="","",CO10) | CI14: =IF(CN10="","",CN10) | CJ14: =IF(CN12="","",IF(CM12="〇","×","〇")) | CK14: =IF(CO12="","",CO12) | CL14: =IF(CN12="","",CN12) | CP14: ③ | CS14: =IF(CB14="","勝",COUNTIF(CA14:CO14,"〇")) -> 勝 | CU14: =IF(CB14="","敗",COUNTIF(CA14:CO14,"×")) -> 敗
A15: 4人リーグ | C15: リーグ | G15: =C16 -> 土肥 | H15: ・ | I15: =E16 -> 脇野 | J15: =C18 -> 村尾 | K15: ・ | L15: =E18 -> 岩本 | M15: =C20 -> 村地 | N15: ・ | O15: =E20 -> 野出 | P15: =C22 -> 一色 | Q15: ・ | R15: =E22 -> 牛尾 | S15: 成績／順位 | AW15: =IF(AU15="","",VLOOKUP(AU15,登録No.!$A$3:$N$508,2,FALSE)) | AY15: =IF(AU16="","",VLOOKUP(AU16,登録No.!$A$3:$N$508,2,FALSE)) | BD15: =IF(BE15="","⑥",IF(BE15>BF15,"〇","×")) -> ⑥ | BG15: =IF(BH15="","④",IF(BH15>BI15,"〇","×")) -> ④ | BJ15: =IF(BK15="","②",IF(BK15>BL15,"〇","×")) -> ② | BM15: =IF(BE15="","勝",COUNTIF(BA15:BL15,"〇")) -> 勝 | BO15: =IF(BE15="","敗",COUNTIF(BA15:BL15,"×")) -> 敗 | BW15: =IF(BU14="","",VLOOKUP(BU14,登録No.!$A$3:$N$508,4,FALSE)) | BY15: =IF(BU15="","",VLOOKUP(BU15,登録No.!$A$3:$N$508,4,FALSE)) | CS15: =IF(CB14="","ゲーム取得率",SUM(CB14,CE14,CH14,CK14)/SUM(CA14:CO14)) -> ゲーム取得率 | CU15: 順位
A16: う０９ | C16: =IF(A16="","",VLOOKUP(A16,登録No.!$A$3:$N$508,2,FALSE)) -> 土肥 | E16: =IF(A17="","",VLOOKUP(A17,登録No.!$A$3:$N$508,2,FALSE)) -> 脇野 | J16: =IF(K16="","⑥",IF(K16>L16,"〇","×")) -> ⑥ | M16: =IF(N16="","④",IF(N16>O16,"〇","×")) -> ④ | P16: =IF(Q16="","②",IF(Q16>R16,"〇","×")) -> ② | S16: =IF(K16="","勝",COUNTIF(G16:R16,"〇")) -> 勝 | U16: =IF(K16="","敗",COUNTIF(G16:R16,"×")) -> 敗 | AW16: =IF(AU15="","",VLOOKUP(AU15,登録No.!$A$3:$N$508,4,FALSE)) | AY16: =IF(AU16="","",VLOOKUP(AU16,登録No.!$A$3:$N$508,4,FALSE)) | BM16: =IF(BE15="","ゲーム取得率",SUM(BE15,BH15,BK15)/SUM(BD15:BL15)) -> ゲーム取得率 | BO16: 順位 | BW16: =IF(BU16="","",VLOOKUP(BU16,登録No.!$A$3:$N$508,2,FALSE)) | BY16: =IF(BU17="","",VLOOKUP(BU17,登録No.!$A$3:$N$508,2,FALSE)) | CA16: =IF(CQ6="","",IF(CP6="〇","×","〇")) | CB16: =IF(CR8="","",CR8) | CC16: =IF(CQ8="","",CQ8) | CD16: =IF(CQ8="","",IF(CP8="〇","×","〇")) | CE16: =IF(CR8="","",CR8) | CF16: =IF(CQ8="","",CQ8) | CG16: =IF(CQ10="","",IF(CP10="〇","×","〇")) | CH16: =IF(CR10="","",CR10) | CI16: =IF(CQ10="","",CQ10) | CJ16: =IF(CQ12="","",IF(CP12="〇","×","〇")) | CK16: =IF(CR12="","",CR12) | CL16: =IF(CQ12="","",CQ12) | CM16: =IF(CQ14="","",IF(CP14="〇","×","〇")) | CN16: =IF(CR14="","",CR14) | CO16: =IF(CQ14="","",CQ14) | CS16: =IF(CB16="","勝",COUNTIF(CA16:CO16,"〇")) -> 勝 | CU16: =IF(CB16="","敗",COUNTIF(CA16:CO16,"×")) -> 敗
A17: う１６ | C17: =IF(A16="","",VLOOKUP(A16,登録No.!$A$3:$N$508,4,FALSE)) -> うさかめ | E17: =IF(A17="","",VLOOKUP(A17,登録No.!$A$3:$N$508,4,FALSE)) -> うさかめ | S17: =IF(K16="","ゲーム取得率",SUM(K16,N16,Q16)/SUM(J16:R16)) -> ゲーム取得率 | U17: 順位 | AW17: =IF(AU17="","",VLOOKUP(AU17,登録No.!$A$3:$N$508,2,FALSE)) | AY17: =IF(AU18="","",VLOOKUP(AU18,登録No.!$A$3:$N$508,2,FALSE)) | BA17: =IF(BE15="","",IF(BD15="〇","×","〇")) | BB17: =IF(BF15="","",BF15) | BC17: =IF(BE15="","",BE15) | BG17: =IF(BH17="","①",IF(BH17>BI17,"〇","×")) -> ① | BJ17: =IF(BK17="","③",IF(BK17>BL17,"〇","×")) -> ③ | BM17: =IF(BA17="","勝",COUNTIF(BA17:BL17,"〇")) -> 勝 | BO17: =IF(BA17="","敗",COUNTIF(BA17:BL17,"×")) -> 敗 | BW17: =IF(BU16="","",VLOOKUP(BU16,登録No.!$A$3:$N$508,4,FALSE)) | BY17: =IF(BU17="","",VLOOKUP(BU17,登録No.!$A$3:$N$508,4,FALSE)) | CS17: =IF(CB16="","ゲーム取得率",SUM(CB16,CE16,CH16,CK16)/SUM(CA16:CO16)) -> ゲーム取得率 | CU17: 順位
A18: き２５ | C18: =IF(A18="","",VLOOKUP(A18,登録No.!$A$3:$N$508,2,FALSE)) -> 村尾 | E18: =IF(A19="","",VLOOKUP(A19,登録No.!$A$3:$N$508,2,FALSE)) -> 岩本 | G18: =IF(J16="⑥","",IF(J16="〇","×","〇")) | H18: =IF(L16="","",L16) | I18: =IF(K16="","",K16) | M18: =IF(N18="","①",IF(N18>O18,"〇","×")) -> ① | P18: =IF(Q18="","③",IF(Q18>R18,"〇","×")) -> ③ | S18: =IF(G18="","勝",COUNTIF(G18:R18,"〇")) -> 勝 | U18: =IF(G18="","敗",COUNTIF(G18:R18,"×")) -> 敗 | AW18: =IF(AU17="","",VLOOKUP(AU17,登録No.!$A$3:$N$508,4,FALSE)) | AY18: =IF(AU18="","",VLOOKUP(AU18,登録No.!$A$3:$N$508,4,FALSE)) | BM18: =IF(BA17="","ゲーム取得率",SUM(BB17,BH17,BK17)/SUM(BA17:BL17)) -> ゲーム取得率 | BO18: 順位
A19: き３５ | C19: =IF(A18="","",VLOOKUP(A18,登録No.!$A$3:$N$508,4,FALSE)) -> 京セラTC | E19: =IF(A19="","",VLOOKUP(A19,登録No.!$A$3:$N$508,4,FALSE)) -> 京セラTC | S19: =IF(G18="","ゲーム取得率",SUM(H18,N18,Q18)/SUM(G18:R18)) -> ゲーム取得率 | U19: 順位 | AW19: =IF(AU19="","",VLOOKUP(AU19,登録No.!$A$3:$N$508,2,FALSE)) | AY19: =IF(AU20="","",VLOOKUP(AU20,登録No.!$A$3:$N$508,2,FALSE)) | BA19: =IF(BH15="","",IF(BG15="〇","×","〇")) | BB19: =IF(BI15="","",BI15) | BC19: =IF(BH15="","",BH15) | BD19: =IF(BH17="","",IF(BG17="〇","×","〇")) | BE19: =IF(BI17="","",BI17) | BF19: =IF(BH17="","",BH17) | BJ19: =IF(BK19="","⑤",IF(BK19>BL19,"〇","×")) -> ⑤ | BM19: =IF(BE19="","勝",COUNTIF(BA19:BL19,"〇")) -> 勝 | BO19: =IF(BD19="","敗",COUNTIF(BA19:BL19,"×")) -> 敗
A20: た０３ | C20: =IF(A20="","",VLOOKUP(A20,登録No.!$A$3:$N$508,2,FALSE)) -> 村地 | E20: 野出 | G20: =IF(M16="④","",IF(M16="〇","×","〇")) | H20: =IF(O16="","",O16) | I20: =IF(N16="","",N16) | J20: =IF(M18="①","",IF(M18="〇","×","〇")) | K20: =IF(O18="","",O18) | L20: =IF(N18="","",N18) | P20: =IF(Q20="","⑤",IF(Q20>R20,"〇","×")) -> ⑤ | S20: =IF(K20="","勝",COUNTIF(G20:R20,"〇")) -> 勝 | U20: =IF(J20="","敗",COUNTIF(G20:R20,"×")) -> 敗 | AW20: =IF(AU19="","",VLOOKUP(AU19,登録No.!$A$3:$N$508,4,FALSE)) | AY20: =IF(AU20="","",VLOOKUP(AU20,登録No.!$A$3:$N$508,4,FALSE)) | BM20: =IF(BA19="","ゲーム取得率",SUM(BB19,BE19,BK19)/SUM(BA19:BL19)) -> ゲーム取得率 | BO20: 順位
A21: た１４ | C21: =IF(A20="","",VLOOKUP(A20,登録No.!$A$3:$N$508,4,FALSE)) -> 建部TC | E21: 建部TC | S21: =IF(G20="","ゲーム取得率",SUM(H20,K20,Q20)/SUM(G20:R20)) -> ゲーム取得率 | U21: 順位 | AW21: =IF(AU21="","",VLOOKUP(AU21,登録No.!$A$3:$N$508,2,FALSE)) | AY21: =IF(AU22="","",VLOOKUP(AU22,登録No.!$A$3:$N$508,2,FALSE)) | BA21: =IF(BK15="","",IF(BJ15="〇","×","〇")) | BB21: =IF(BL15="","",BL15) | BC21: =IF(BK15="","",BK15) | BD21: =IF(BK17="","",IF(BJ17="〇","×","〇")) | BE21: =IF(BL17="","",BL17) | BF21: =IF(BK17="","",BK17) | BG21: =IF(BK19="","",IF(BJ19="〇","×","〇")) | BH21: =IF(BL19="","",BL19) | BI21: =IF(BK19="","",BK19) | BM21: =IF(BD21="","勝",COUNTIF(BA21:BL21,"〇")) -> 勝 | BO21: =IF(BD21="","敗",COUNTIF(BA21:BL21,"×")) -> 敗
A22: き０６ | C22: =IF(A22="","",VLOOKUP(A22,登録No.!$A$3:$N$508,2,FALSE)) -> 一色 | E22: =IF(A23="","",VLOOKUP(A23,登録No.!$A$3:$N$508,2,FALSE)) -> 牛尾 | G22: =IF(P16="②","",IF(P16="〇","×","〇")) | H22: =IF(R16="","",R16) | I22: =IF(Q16="","",Q16) | J22: =IF(P18="③","",IF(P18="〇","×","〇")) | K22: =IF(R18="","",R18) | L22: =IF(Q18="","",Q18) | M22: =IF(P20="⑤","",IF(P20="〇","×","〇")) | N22: =IF(R20="","",R20) | O22: =IF(Q20="","",Q20) | S22: =IF(J22="","勝",COUNTIF(G22:R22,"〇")) -> 勝 | U22: =IF(J22="","敗",COUNTIF(G22:R22,"×")) -> 敗 | AW22: =IF(AU21="","",VLOOKUP(AU21,登録No.!$A$3:$N$508,4,FALSE)) | AY22: =IF(AU22="","",VLOOKUP(AU22,登録No.!$A$3:$N$508,4,FALSE)) | BM22: =IF(BA21="","ゲーム取得率",SUM(BB21,BE21,BH21)/SUM(BA21:BI21)) -> ゲーム取得率 | BO22: 順位
A23: き０７ | C23: =IF(A22="","",VLOOKUP(A22,登録No.!$A$3:$N$508,4,FALSE)) -> 京セラTC | E23: =IF(A23="","",VLOOKUP(A23,登録No.!$A$3:$N$508,4,FALSE)) -> 京セラTC | S23: =IF(G22="","ゲーム取得率",SUM(H22,K22,N22)/SUM(G22:O22)) -> ゲーム取得率 | U23: 順位
C24: 順位決定方法 ①完了試合数 ②勝数 ③直接対決 ④取得ゲーム率（取得ゲーム数/全ゲーム数） | BW24: =IF(BU24="","",VLOOKUP(BU24,登録No.!$A$3:$N$508,2,FALSE)) | BY24: =IF(BU25="","",VLOOKUP(BU25,登録No.!$A$3:$N$508,2,FALSE)) | CS24: =IF(CB24="","勝",COUNTIF(CA24:CO24,"〇")) -> 勝 | CU24: =IF(CB24="","敗",COUNTIF(CA24:CO24,"×")) -> 敗
C27: 決勝トーナメント | AU27: 5人リーグ | AW27: リーグ | BA27: =AW28 | BB27: ・ | BC27: =AY28 | BD27: =AW30 | BE27: ・ | BF27: =AY30 | BG27: =AW32 | BH27: ・ | BI27: =AY32 | BJ27: =AW34 | BK27: ・ | BL27: =AY34 | BM27: =AW36 | BN27: ・ | BO27: =AY36 | BP27: 成績／順位
C28: リーグ1・1位 | F28: 勝者 | J28: 勝者 | N28: 勝者 | P28: リーグ2・1位 | AW28: =IF(AU28="","",VLOOKUP(AU28,登録No.!$A$3:$N$508,2,FALSE)) | AY28: =IF(AU29="","",VLOOKUP(AU29,登録No.!$A$3:$N$508,2,FALSE)) | BD28: =IF(BE28="","①",IF(BE28>BF28,"〇","×")) -> ① | BG28: =IF(BH28="","⑥",IF(BH28>BI28,"〇","×")) -> ⑥ | BJ28: =IF(BK28="","⑨",IF(BK28>BL28,"〇","×")) -> ⑨ | BM28: =IF(BN28="","③",IF(BN28>BO28,"〇","×")) -> ③ | BP28: =IF(BE28="","勝",COUNTIF(BD28:BO28,"〇")) -> 勝 | BR28: =IF(BE28="","敗",COUNTIF(BD28:BO28,"×")) -> 敗
F29: 結果 | J29: 結果 | N29: 結果 | AW29: =IF(AU28="","",VLOOKUP(AU28,登録No.!$A$3:$N$508,4,FALSE)) | AY29: =IF(AU29="","",VLOOKUP(AU29,登録No.!$A$3:$N$508,4,FALSE)) | BP29: =IF(BH28="","ゲーム取得率",SUM(BE28,BH28,BK28,BN28)/SUM(BD28:BO28)) -> ゲーム取得率 | BR29: 順位
AW30: =IF(AU30="","",VLOOKUP(AU30,登録No.!$A$3:$N$508,2,FALSE)) | AY30: =IF(AU31="","",VLOOKUP(AU31,登録No.!$A$3:$N$508,2,FALSE)) | BA30: =IF(BE28="","",IF(BD28="〇","×","〇")) | BB30: =IF(BF28="","",BF28) | BC30: =IF(BE28="","",BE28) | BG30: =IF(BH30="","④",IF(BH30>BI30,"〇","×")) -> ④ | BJ30: =IF(BK30="","⑦",IF(BK30>BL30,"〇","×")) -> ⑦ | BM30: =IF(BN30="","⑩",IF(BN30>BO30,"〇","×")) -> ⑩ | BP30: =IF(BA30="","勝",COUNTIF(BA30:BO30,"〇")) -> 勝 | BR30: =IF(BB30="","敗",COUNTIF(BA30:BO30,"×")) -> 敗
AW31: =IF(AU30="","",VLOOKUP(AU30,登録No.!$A$3:$N$508,4,FALSE)) | AY31: =IF(AU31="","",VLOOKUP(AU31,登録No.!$A$3:$N$508,4,FALSE)) | BP31: =IF(BH30="","ゲーム取得率",SUM(BB30,BH30,BK30,BN30)/SUM(BA30:BO30)) -> ゲーム取得率 | BR31: 順位
F32: 試合順 | H32: 勝者 | L32: 勝者 | N32: 試合順 | AW32: =IF(AU32="","",VLOOKUP(AU32,登録No.!$A$3:$N$508,2,FALSE)) | AY32: =IF(AU33="","",VLOOKUP(AU33,登録No.!$A$3:$N$508,2,FALSE)) | BA32: =IF(BH28="","",IF(BG28="〇","×","〇")) | BB32: =IF(BI28="","",BI28) | BC32: =IF(BH28="","",BH28) | BD32: =IF(BH30="","",IF(BG30="〇","×","〇")) | BE32: =IF(BI30="","",BI30) | BF32: =IF(BH30="","",BH30) | BJ32: =IF(BK32="","②",IF(BK32>BL32,"〇","×")) -> ② | BM32: =IF(BN32="","⑧",IF(BN32>BO32,"〇","×")) -> ⑧ | BP32: =IF(BB32="","勝",COUNTIF(BA32:BO32,"〇")) -> 勝 | BR32: =IF(BB32="","敗",COUNTIF(BA32:BO32,"×")) -> 敗
H33: 結果 | L33: 結果 | AW33: =IF(AU32="","",VLOOKUP(AU32,登録No.!$A$3:$N$508,4,FALSE)) | AY33: =IF(AU33="","",VLOOKUP(AU33,登録No.!$A$3:$N$508,4,FALSE)) | BP33: =IF(BB32="","ゲーム取得率",SUM(BB32,BE32,BK32,BN32)/SUM(BA32:BO32)) -> ゲーム取得率 | BR33: 順位
AW34: =IF(AU34="","",VLOOKUP(AU34,登録No.!$A$3:$N$508,2,FALSE)) | AY34: =IF(AU35="","",VLOOKUP(AU35,登録No.!$A$3:$N$508,2,FALSE)) | BA34: =IF(BK28="","",IF(BJ28="〇","×","〇")) | BB34: =IF(BL28="","",BL28) | BC34: =IF(BK28="","",BK28) | BD34: =IF(BK30="","",IF(BJ30="〇","×","〇")) | BE34: =IF(BL30="","",BL30) | BF34: =IF(BK30="","",BK30) | BG34: =IF(BK32="","",IF(BJ32="〇","×","〇")) | BH34: =IF(BL32="","",BL32) | BI34: =IF(BK32="","",BK32) | BM34: =IF(BN34="","⑤",IF(BN34>BO34,"〇","×")) -> ⑤ | BP34: =IF(BB34="","勝",COUNTIF(BA34:BO34,"〇")) -> 勝 | BR34: =IF(BB34="","敗",COUNTIF(BA34:BO34,"×")) -> 敗
AW35: =IF(AU34="","",VLOOKUP(AU34,登録No.!$A$3:$N$508,4,FALSE)) | AY35: =IF(AU35="","",VLOOKUP(AU35,登録No.!$A$3:$N$508,4,FALSE)) | BP35: =IF(BB34="","ゲーム取得率",SUM(BB34,BE34,BH34,BN34)/SUM(BA34:BO34)) -> ゲーム取得率 | BR35: 順位
C36: リーグ2・2位 | F36: 勝者 | N36: 勝者 | P36: リーグ1・2位 | AW36: =IF(AU36="","",VLOOKUP(AU36,登録No.!$A$3:$N$508,2,FALSE)) | AY36: =IF(AU37="","",VLOOKUP(AU37,登録No.!$A$3:$N$508,2,FALSE)) | BA36: =IF(BN28="","",IF(BM28="〇","×","〇")) | BB36: =IF(BO28="","",BO28) | BC36: =IF(BN28="","",BN28) | BD36: =IF(BM30="⑩","",IF(BM30="〇","×","〇")) | BE36: =IF(BO30="","",BO30) | BF36: =IF(BN30="","",BN30) | BG36: =IF(BN32="","",IF(BM32="〇","×","〇")) | BH36: =IF(BO32="","",BO32) | BI36: =IF(BN32="","",BN32) | BJ36: =IF(BN34="","",IF(BM34="〇","×","〇")) | BK36: =IF(BO34="","",BO34) | BL36: =IF(BN34="","",BN34) | BP36: =IF(BB36="","勝",COUNTIF(BA36:BO36,"〇")) -> 勝 | BR36: =IF(BB36="","敗",COUNTIF(BA36:BO36,"×")) -> 敗
F37: 結果 | N37: 結果 | AW37: =IF(AU36="","",VLOOKUP(AU36,登録No.!$A$3:$N$508,4,FALSE)) | AY37: =IF(AU37="","",VLOOKUP(AU37,登録No.!$A$3:$N$508,4,FALSE)) | BP37: =IF(BB36="","ゲーム取得率",SUM(BB36,BE36,BH36,BK36)/SUM(BA36:BO36)) -> ゲーム取得率 | BR37: 順位
C41: コンソレーション | G41: =C42 -> リーグ２ | I41: =E42 -> ３位 | J41: =C44 -> リーグ２ | L41: =E44 -> ４位 | M41: =C46 -> リーグ１ | O41: =E46 -> ３位 | P41: 成績／順位
C42: リーグ２ | E42: ３位 | J42: =IF(K42="","③",IF(K42>L42,"〇","×")) -> ③ | M42: =IF(N42="","②",IF(N42>O42,"〇","×")) -> ② | P42: =IF(K42="","勝",COUNTIF(G42:O42,"〇")) -> 勝 | R42: =IF(K42="","敗",COUNTIF(G42:O42,"×")) -> 敗
C43: =IF(A42="","",VLOOKUP(A42,登録No.!$A$3:$N$508,4,FALSE)) | E43: =IF(A43="","",VLOOKUP(A43,登録No.!$A$3:$N$508,4,FALSE)) | P43: =IF(K42="","ゲーム取得率",SUM(K42,N42)/SUM(G42:O42)) -> ゲーム取得率 | R43: 順位
C44: リーグ２ | E44: ４位 | G44: =IF(J42="③","",IF(J42="〇","×","〇")) | H44: =IF(L42="","",L42) | I44: =IF(K42="","",K42) | M44: =IF(N44="","①",IF(N44>O44,"〇","×")) -> ① | P44: =IF(G44="","勝",COUNTIF(G44:O44,"〇")) -> 勝 | R44: =IF(G44="","敗",COUNTIF(G44:O44,"×")) -> 敗
C45: =IF(A44="","",VLOOKUP(A44,登録No.!$A$3:$N$508,4,FALSE)) | E45: =IF(A45="","",VLOOKUP(A45,登録No.!$A$3:$N$508,4,FALSE)) | P45: =IF(H44="","ゲーム取得率",SUM(H44,N44)/SUM(G44:O44)) -> ゲーム取得率 | R45: 順位
C46: リーグ１ | E46: ３位 | G46: =IF(N42="","",IF(M42="〇","×","〇")) | H46: =IF(O42="","",O42) | I46: =IF(N42="","",N42) | J46: =IF(N44="","",IF(M44="〇","×","〇")) | K46: =IF(O44="","",O44) | L46: =IF(N44="","",N44) | P46: =IF(G46="","勝",COUNTIF(G46:O46,"〇")) -> 勝 | R46: =IF(G46="","敗",COUNTIF(G46:O46,"×")) -> 敗
C47: =IF(A46="","",VLOOKUP(A46,登録No.!$A$3:$N$508,4,FALSE)) | E47: =IF(A47="","",VLOOKUP(A47,登録No.!$A$3:$N$508,4,FALSE)) | P47: =IF(G46="","ゲーム取得率",SUM(H46,K46)/SUM(G46:O46)) -> ゲーム取得率 | R47: 順位
A63: ↑ 印刷範囲

Sheet 男子C
C1: 第22回 東近江市秋季ダブルス大会 | AU1: https://tenniskei.com/2021-nitto-atp-finals-result
A2: 男子C級 | J2: 試合形式（1セットマッチ（６－６タイブレーク）ノーアド方式） | AS2: ← | AU2: 順位決定方法 ①完了試合数 ②勝数 ③直接対決 ④ゲーム取得率
AS3: 印
C4: ↓コート・集合時間（ひばり公園 外C 8：45までに本部に出席を届ける） | AS4: 刷 | AW4: ↓コート・集合時間（ひばり公園 外A 8：45までに本部に出席を届ける） | BW4: ↓コート・集合時間（ひばり公園 外A 8：45までに本部に出席を届ける）
A5: 3人リーグ | C5: リーグ | G5: =C6 -> 大橋 | H5: ・ | I5: =E6 -> 岡本 | J5: =C8 -> 曽我 | K5: ・ | L5: =E8 -> 曽我 | M5: =C10 -> 富田 | N5: ・ | O5: =E10 -> 吉田 | P5: 成績／順位 | AS5: 範 | AU5: 3人リーグ | AW5: リーグ | BA5: =AW6 | BB5: ・ | BC5: =AY6 | BD5: =AW8 | BE5: ・ | BF5: =AY8 | BG5: =AW10 | BH5: ・ | BI5: =AY10 | BJ5: 成績／順位 | BU5: 6人リーグ | BW5: リーグ | CA5: =BW6 | CB5: ・ | CC5: =BY6 | CD5: =BW8 | CE5: ・ | CF5: =BY8 | CG5: =BW10 | CH5: ・ | CI5: =BY10 | CJ5: =BW12 | CK5: ・ | CL5: =BY12 | CM5: =BW14 | CN5: ・ | CO5: =BY14 | CP5: =BZ14 -> 0 | CQ5: ・ | CR5: =CB14 | CS5: 成績／順位
C6: 大橋 | E6: 岡本 | J6: =IF(K6="","③",IF(K6>L6,"〇","×")) -> ③ | M6: =IF(N6="","②",IF(N6>O6,"〇","×")) -> ② | P6: =IF(K6="","勝",COUNTIF(G6:O6,"〇")) -> 勝 | R6: =IF(K6="","敗",COUNTIF(G6:O6,"×")) -> 敗 | AS6: 囲 | AW6: =IF(AU6="","",VLOOKUP(AU6,登録No.!$A$3:$N$508,2,FALSE)) | AY6: =IF(AU7="","",VLOOKUP(AU7,登録No.!$A$3:$N$508,2,FALSE)) | BD6: =IF(BE6="","③",IF(BE6>BF6,"〇","×")) -> ③ | BG6: =IF(BH6="","②",IF(BH6>BI6,"〇","×")) -> ② | BJ6: =IF(BE6="","勝",COUNTIF(BA6:BI6,"〇")) -> 勝 | BL6: =IF(BE6="","敗",COUNTIF(BA6:BI6,"×")) -> 敗 | BW6: =IF(BU6="","",VLOOKUP(BU6,登録No.!$A$3:$N$508,2,FALSE)) | BY6: =IF(BU7="","",VLOOKUP(BU7,登録No.!$A$3:$N$508,2,FALSE)) | CD6: =IF(CE6="","①",IF(CE6>CF6,"〇","×")) -> ① | CG6: ④ | CJ6: ⑦ | CM6: ⑩ | CP6: ⑮ | CS6: =IF(CE6="","勝",COUNTIF(CD6:CO6,"〇")) -> 勝 | CU6: =IF(CE6="","敗",COUNTIF(CD6:CO6,"×")) -> 敗
C7: Ｋテニス | E7: Ｋテニス | P7: =IF(K6="","ゲーム取得率",SUM(K6,N6)/SUM(G6:O6)) -> ゲーム取得率 | R7: 順位 | AW7: =IF(AU6="","",VLOOKUP(AU6,登録No.!$A$3:$N$508,4,FALSE)) | AY7: =IF(AU7="","",VLOOKUP(AU7,登録No.!$A$3:$N$508,4,FALSE)) | BJ7: =IF(BE6="","ゲーム取得率",SUM(BE6,BH6)/SUM(BA6:BI6)) -> ゲーム取得率 | BL7: 順位 | BW7: =IF(BU6="","",VLOOKUP(BU6,登録No.!$A$3:$N$508,4,FALSE)) | BY7: =IF(BU7="","",VLOOKUP(BU7,登録No.!$A$3:$N$508,4,FALSE)) | CS7: =IF(CH6="","ゲーム取得率",SUM(CE6,CH6,CK6,CN6)/SUM(CD6:CO6)) -> ゲーム取得率 | CU7: 順位
A8: き１３ | C8: =IF(A8="","",VLOOKUP(A8,登録No.!$A$3:$N$508,2,FALSE)) -> 曽我 | E8: =IF(A9="","",VLOOKUP(A9,登録No.!$A$3:$N$508,2,FALSE)) -> 曽我 | G8: =IF(J6="③","",IF(J6="〇","×","〇")) | H8: =IF(L6="","",L6) | I8: =IF(K6="","",K6) | M8: =IF(N8="","①",IF(N8>O8,"〇","×")) -> ① | P8: =IF(G8="","勝",COUNTIF(G8:O8,"〇")) -> 勝 | R8: =IF(G8="","敗",COUNTIF(G8:O8,"×")) -> 敗 | AW8: =IF(AU8="","",VLOOKUP(AU8,登録No.!$A$3:$N$508,2,FALSE)) | AY8: =IF(AU9="","",VLOOKUP(AU9,登録No.!$A$3:$N$508,2,FALSE)) | BA8: =IF(BE6="","",IF(BD6="〇","×","〇")) | BB8: =IF(BF6="","",BF6) | BC8: =IF(BE6="","",BE6) | BG8: =IF(BH8="","①",IF(BH8>BI8,"〇","×")) -> ① | BJ8: =IF(BA8="","勝",COUNTIF(BA8:BI8,"〇")) -> 勝 | BL8: =IF(BA8="","敗",COUNTIF(BA8:BI8,"×")) -> 敗 | BW8: =IF(BU8="","",VLOOKUP(BU8,登録No.!$A$3:$N$508,2,FALSE)) | BY8: =IF(BU9="","",VLOOKUP(BU9,登録No.!$A$3:$N$508,2,FALSE)) | CA8: =IF(CE6="","",IF(CD6="〇","×","〇")) | CB8: =IF(CF6="","",CF6) | CC8: =IF(CE6="","",CE6) | CG8: ⑪ | CJ8: ⑭ | CM8: ⑧ | CP8: ⑥ | CS8: =IF(CA8="","勝",COUNTIF(CA8:CO8,"〇")) -> 勝 | CU8: =IF(CB8="","敗",COUNTIF(CA8:CO8,"×")) -> 敗
A9: き３６ | C9: =IF(A8="","",VLOOKUP(A8,登録No.!$A$3:$N$508,4,FALSE)) -> 京セラTC | E9: =IF(A9="","",VLOOKUP(A9,登録No.!$A$3:$N$508,4,FALSE)) -> 京セラTC | P9: =IF(H8="","ゲーム取得率",SUM(H8,N8)/SUM(G8:O8)) -> ゲーム取得率 | R9: 順位 | AW9: =IF(AU8="","",VLOOKUP(AU8,登録No.!$A$3:$N$508,4,FALSE)) | AY9: =IF(AU9="","",VLOOKUP(AU9,登録No.!$A$3:$N$508,4,FALSE)) | BJ9: =IF(BB8="","ゲーム取得率",SUM(BB8,BH8)/SUM(BA8:BI8)) -> ゲーム取得率 | BL9: 順位 | BW9: =IF(BU8="","",VLOOKUP(BU8,登録No.!$A$3:$N$508,4,FALSE)) | BY9: =IF(BU9="","",VLOOKUP(BU9,登録No.!$A$3:$N$508,4,FALSE)) | CS9: =IF(CH8="","ゲーム取得率",SUM(CB8,CH8,CK8,CN8)/SUM(CA8:CO8)) -> ゲーム取得率 | CU9: 順位
C10: 富田 | E10: 吉田 | G10: =IF(N6="","",IF(M6="〇","×","〇")) | H10: =IF(O6="","",O6) | I10: =IF(N6="","",N6) | J10: =IF(N8="","",IF(M8="〇","×","〇")) | K10: =IF(O8="","",O8) | L10: =IF(N8="","",N8) | P10: =IF(G10="","勝",COUNTIF(G10:O10,"〇")) -> 勝 | R10: =IF(G10="","敗",COUNTIF(G10:O10,"×")) -> 敗 | AW10: =IF(AU10="","",VLOOKUP(AU10,登録No.!$A$3:$N$508,2,FALSE)) | AY10: =IF(AU11="","",VLOOKUP(AU11,登録No.!$A$3:$N$508,2,FALSE)) | BA10: =IF(BH6="","",IF(BG6="〇","×","〇")) | BB10: =IF(BI6="","",BI6) | BC10: =IF(BH6="","",BH6) | BD10: =IF(BH8="","",IF(BG8="〇","×","〇")) | BE10: =IF(BI8="","",BI8) | BF10: =IF(BH8="","",BH8) | BJ10: =IF(BA10="","勝",COUNTIF(BA10:BI10,"〇")) -> 勝 | BL10: =IF(BA10="","敗",COUNTIF(BA10:BI10,"×")) -> 敗 | BW10: =IF(BU10="","",VLOOKUP(BU10,登録No.!$A$3:$N$508,2,FALSE)) | BY10: =IF(BU11="","",VLOOKUP(BU11,登録No.!$A$3:$N$508,2,FALSE)) | CA10: =IF(CH6="","",IF(CG6="〇","×","〇")) | CB10: =IF(CI6="","",CI6) | CC10: =IF(CH6="","",CH6) | CD10: =IF(CH8="","",IF(CG8="〇","×","〇")) | CE10: =IF(CI8="","",CI8) | CF10: =IF(CH8="","",CH8) | CJ10: =IF(CK10="","②",IF(CK10>CL10,"〇","×")) -> ② | CM10: ⑬ | CP10: ⑨ | CS10: =IF(CB10="","勝",COUNTIF(CA10:CO10,"〇")) -> 勝 | CU10: =IF(CB10="","敗",COUNTIF(CA10:CO10,"×")) -> 敗
C11: グリフィンズ | E11: グリフィンズ | P11: =IF(G10="","ゲーム取得率",SUM(H10,K10)/SUM(G10:O10)) -> ゲーム取得率 | R11: 順位 | AW11: =IF(AU10="","",VLOOKUP(AU10,登録No.!$A$3:$N$508,4,FALSE)) | AY11: =IF(AU11="","",VLOOKUP(AU11,登録No.!$A$3:$N$508,4,FALSE)) | BJ11: =IF(BA10="","ゲーム取得率",SUM(BB10,BE10)/SUM(BA10:BI10)) -> ゲーム取得率 | BL11: 順位 | BW11: =IF(BU10="","",VLOOKUP(BU10,登録No.!$A$3:$N$508,4,FALSE)) | BY11: =IF(BU11="","",VLOOKUP(BU11,登録No.!$A$3:$N$508,4,FALSE)) | CS11: =IF(CB10="","ゲーム取得率",SUM(CB10,CE10,CK10,CN10)/SUM(CA10:CO10)) -> ゲーム取得率 | CU11: 順位
BW12: =IF(BU12="","",VLOOKUP(BU12,登録No.!$A$3:$N$508,2,FALSE)) | BY12: =IF(BU13="","",VLOOKUP(BU13,登録No.!$A$3:$N$508,2,FALSE)) | CA12: =IF(CK6="","",IF(CJ6="〇","×","〇")) | CB12: =IF(CL6="","",CL6) | CC12: =IF(CK6="","",CK6) | CD12: =IF(CK8="","",IF(CJ8="〇","×","〇")) | CE12: =IF(CL8="","",CL8) | CF12: =IF(CK8="","",CK8) | CG12: =IF(CK10="","",IF(CJ10="〇","×","〇")) | CH12: =IF(CL10="","",CL10) | CI12: =IF(CK10="","",CK10) | CM12: ⑤ | CP12: ⑫ | CS12: =IF(CB12="","勝",COUNTIF(CA12:CO12,"〇")) -> 勝 | CU12: =IF(CB12="","敗",COUNTIF(CA12:CO12,"×")) -> 敗
C13: 順位決定方法 ①完了試合数 ②勝数 ③直接対決 ④取得ゲーム率（取得ゲーム数/全ゲーム数） | AW13: ↓コート・集合時間（ひばり公園 外A 8：45までに本部に出席を届ける） | BW13: =IF(BU12="","",VLOOKUP(BU12,登録No.!$A$3:$N$508,4,FALSE)) | BY13: =IF(BU13="","",VLOOKUP(BU13,登録No.!$A$3:$N$508,4,FALSE)) | CS13: =IF(CB12="","ゲーム取得率",SUM(CB12,CE12,CH12,CN12)/SUM(CA12:CO12)) -> ゲーム取得率 | CU13: 順位
AU14: 4人リーグ | AW14: リーグ | BA14: =AW15 | BB14: ・ | BC14: =AY15 | BD14: =AW17 | BE14: ・ | BF14: =AY17 | BG14: =AW19 | BH14: ・ | BI14: =AY19 | BJ14: =AW21 | BK14: ・ | BL14: =AY21 | BM14: 成績／順位 | BW14: =IF(BU14="","",VLOOKUP(BU14,登録No.!$A$3:$N$508,2,FALSE)) | BY14: =IF(BU15="","",VLOOKUP(BU15,登録No.!$A$3:$N$508,2,FALSE)) | CA14: =IF(CN6="","",IF(CM6="〇","×","〇")) | CB14: =IF(CO6="","",CO6) | CC14: =IF(CN6="","",CN6) | CD14: =IF(CN8="","",IF(CM8="〇","×","〇")) | CE14: =IF(CO8="","",CO8) | CF14: =IF(CN8="","",CN8) | CG14: =IF(CN10="","",IF(CM10="〇","×","〇")) | CH14: =IF(CO10="","",CO10) | CI14: =IF(CN10="","",CN10) | CJ14: =IF(CN12="","",IF(CM12="〇","×","〇")) | CK14: =IF(CO12="","",CO12) | CL14: =IF(CN12="","",CN12) | CP14: ③ | CS14: =IF(CB14="","勝",COUNTIF(CA14:CO14,"〇")) -> 勝 | CU14: =IF(CB14="","敗",COUNTIF(CA14:CO14,"×")) -> 敗
AW15: =IF(AU15="","",VLOOKUP(AU15,登録No.!$A$3:$N$508,2,FALSE)) | AY15: =IF(AU16="","",VLOOKUP(AU16,登録No.!$A$3:$N$508,2,FALSE)) | BD15: =IF(BE15="","⑥",IF(BE15>BF15,"〇","×")) -> ⑥ | BG15: =IF(BH15="","④",IF(BH15>BI15,"〇","×")) -> ④ | BJ15: =IF(BK15="","②",IF(BK15>BL15,"〇","×")) -> ② | BM15: =IF(BE15="","勝",COUNTIF(BA15:BL15,"〇")) -> 勝 | BO15: =IF(BE15="","敗",COUNTIF(BA15:BL15,"×")) -> 敗 | BW15: =IF(BU14="","",VLOOKUP(BU14,登録No.!$A$3:$N$508,4,FALSE)) | BY15: =IF(BU15="","",VLOOKUP(BU15,登録No.!$A$3:$N$508,4,FALSE)) | CS15: =IF(CB14="","ゲーム取得率",SUM(CB14,CE14,CH14,CK14)/SUM(CA14:CO14)) -> ゲーム取得率 | CU15: 順位
AW16: =IF(AU15="","",VLOOKUP(AU15,登録No.!$A$3:$N$508,4,FALSE)) | AY16: =IF(AU16="","",VLOOKUP(AU16,登録No.!$A$3:$N$508,4,FALSE)) | BM16: =IF(BE15="","ゲーム取得率",SUM(BE15,BH15,BK15)/SUM(BD15:BL15)) -> ゲーム取得率 | BO16: 順位 | BW16: =IF(BU16="","",VLOOKUP(BU16,登録No.!$A$3:$N$508,2,FALSE)) | BY16: =IF(BU17="","",VLOOKUP(BU17,登録No.!$A$3:$N$508,2,FALSE)) | CA16: =IF(CQ6="","",IF(CP6="〇","×","〇")) | CB16: =IF(CR8="","",CR8) | CC16: =IF(CQ8="","",CQ8) | CD16: =IF(CQ8="","",IF(CP8="〇","×","〇")) | CE16: =IF(CR8="","",CR8) | CF16: =IF(CQ8="","",CQ8) | CG16: =IF(CQ10="","",IF(CP10="〇","×","〇")) | CH16: =IF(CR10="","",CR10) | CI16: =IF(CQ10="","",CQ10) | CJ16: =IF(CQ12="","",IF(CP12="〇","×","〇")) | CK16: =IF(CR12="","",CR12) | CL16: =IF(CQ12="","",CQ12) | CM16: =IF(CQ14="","",IF(CP14="〇","×","〇")) | CN16: =IF(CR14="","",CR14) | CO16: =IF(CQ14="","",CQ14) | CS16: =IF(CB16="","勝",COUNTIF(CA16:CO16,"〇")) -> 勝 | CU16: =IF(CB16="","敗",COUNTIF(CA16:CO16,"×")) -> 敗
AW17: =IF(AU17="","",VLOOKUP(AU17,登録No.!$A$3:$N$508,2,FALSE)) | AY17: =IF(AU18="","",VLOOKUP(AU18,登録No.!$A$3:$N$508,2,FALSE)) | BA17: =IF(BE15="","",IF(BD15="〇","×","〇")) | BB17: =IF(BF15="","",BF15) | BC17: =IF(BE15="","",BE15) | BG17: =IF(BH17="","①",IF(BH17>BI17,"〇","×")) -> ① | BJ17: =IF(BK17="","③",IF(BK17>BL17,"〇","×")) -> ③ | BM17: =IF(BA17="","勝",COUNTIF(BA17:BL17,"〇")) -> 勝 | BO17: =IF(BA17="","敗",COUNTIF(BA17:BL17,"×")) -> 敗 | BW17: =IF(BU16="","",VLOOKUP(BU16,登録No.!$A$3:$N$508,4,FALSE)) | BY17: =IF(BU17="","",VLOOKUP(BU17,登録No.!$A$3:$N$508,4,FALSE)) | CS17: =IF(CB16="","ゲーム取得率",SUM(CB16,CE16,CH16,CK16)/SUM(CA16:CO16)) -> ゲーム取得率 | CU17: 順位
AW18: =IF(AU17="","",VLOOKUP(AU17,登録No.!$A$3:$N$508,4,FALSE)) | AY18: =IF(AU18="","",VLOOKUP(AU18,登録No.!$A$3:$N$508,4,FALSE)) | BM18: =IF(BA17="","ゲーム取得率",SUM(BB17,BH17,BK17)/SUM(BA17:BL17)) -> ゲーム取得率 | BO18: 順位
AW19: =IF(AU19="","",VLOOKUP(AU19,登録No.!$A$3:$N$508,2,FALSE)) | AY19: =IF(AU20="","",VLOOKUP(AU20,登録No.!$A$3:$N$508,2,FALSE)) | BA19: =IF(BH15="","",IF(BG15="〇","×","〇")) | BB19: =IF(BI15="","",BI15) | BC19: =IF(BH15="","",BH15) | BD19: =IF(BH17="","",IF(BG17="〇","×","〇")) | BE19: =IF(BI17="","",BI17) | BF19: =IF(BH17="","",BH17) | BJ19: =IF(BK19="","⑤",IF(BK19>BL19,"〇","×")) -> ⑤ | BM19: =IF(BE19="","勝",COUNTIF(BA19:BL19,"〇")) -> 勝 | BO19: =IF(BD19="","敗",COUNTIF(BA19:BL19,"×")) -> 敗
AW20: =IF(AU19="","",VLOOKUP(AU19,登録No.!$A$3:$N$508,4,FALSE)) | AY20: =IF(AU20="","",VLOOKUP(AU20,登録No.!$A$3:$N$508,4,FALSE)) | BM20: =IF(BA19="","ゲーム取得率",SUM(BB19,BE19,BK19)/SUM(BA19:BL19)) -> ゲーム取得率 | BO20: 順位
AW21: =IF(AU21="","",VLOOKUP(AU21,登録No.!$A$3:$N$508,2,FALSE)) | AY21: =IF(AU22="","",VLOOKUP(AU22,登録No.!$A$3:$N$508,2,FALSE)) | BA21: =IF(BK15="","",IF(BJ15="〇","×","〇")) | BB21: =IF(BL15="","",BL15) | BC21: =IF(BK15="","",BK15) | BD21: =IF(BK17="","",IF(BJ17="〇","×","〇")) | BE21: =IF(BL17="","",BL17) | BF21: =IF(BK17="","",BK17) | BG21: =IF(BK19="","",IF(BJ19="〇","×","〇")) | BH21: =IF(BL19="","",BL19) | BI21: =IF(BK19="","",BK19) | BM21: =IF(BD21="","勝",COUNTIF(BA21:BL21,"〇")) -> 勝 | BO21: =IF(BD21="","敗",COUNTIF(BA21:BL21,"×")) -> 敗
AW22: =IF(AU21="","",VLOOKUP(AU21,登録No.!$A$3:$N$508,4,FALSE)) | AY22: =IF(AU22="","",VLOOKUP(AU22,登録No.!$A$3:$N$508,4,FALSE)) | BM22: =IF(BA21="","ゲーム取得率",SUM(BB21,BE21,BH21)/SUM(BA21:BI21)) -> ゲーム取得率 | BO22: 順位
AW24: ↓コート・集合時間（ひばり公園 外A 8：45までに本部に出席を届ける）
AU25: 5人リーグ | AW25: リーグ | BA25: =AW26 | BB25: ・ | BC25: =AY26 | BD25: =AW28 | BE25: ・ | BF25: =AY28 | BG25: =AW30 | BH25: ・ | BI25: =AY30 | BJ25: =AW32 | BK25: ・ | BL25: =AY32 | BM25: =AW34 | BN25: ・ | BO25: =AY34 | BP25: 成績／順位
AW26: =IF(AU26="","",VLOOKUP(AU26,登録No.!$A$3:$N$508,2,FALSE)) | AY26: =IF(AU27="","",VLOOKUP(AU27,登録No.!$A$3:$N$508,2,FALSE)) | BD26: =IF(BE26="","①",IF(BE26>BF26,"〇","×")) -> ① | BG26: =IF(BH26="","⑥",IF(BH26>BI26,"〇","×")) -> ⑥ | BJ26: =IF(BK26="","⑨",IF(BK26>BL26,"〇","×")) -> ⑨ | BM26: =IF(BN26="","③",IF(BN26>BO26,"〇","×")) -> ③ | BP26: =IF(BE26="","勝",COUNTIF(BD26:BO26,"〇")) -> 勝 | BR26: =IF(BE26="","敗",COUNTIF(BD26:BO26,"×")) -> 敗
AW27: =IF(AU26="","",VLOOKUP(AU26,登録No.!$A$3:$N$508,4,FALSE)) | AY27: =IF(AU27="","",VLOOKUP(AU27,登録No.!$A$3:$N$508,4,FALSE)) | BP27: =IF(BH26="","ゲーム取得率",SUM(BE26,BH26,BK26,BN26)/SUM(BD26:BO26)) -> ゲーム取得率 | BR27: 順位
AW28: =IF(AU28="","",VLOOKUP(AU28,登録No.!$A$3:$N$508,2,FALSE)) | AY28: =IF(AU29="","",VLOOKUP(AU29,登録No.!$A$3:$N$508,2,FALSE)) | BA28: =IF(BE26="","",IF(BD26="〇","×","〇")) | BB28: =IF(BF26="","",BF26) | BC28: =IF(BE26="","",BE26) | BG28: =IF(BH28="","④",IF(BH28>BI28,"〇","×")) -> ④ | BJ28: =IF(BK28="","⑦",IF(BK28>BL28,"〇","×")) -> ⑦ | BM28: =IF(BN28="","⑩",IF(BN28>BO28,"〇","×")) -> ⑩ | BP28: =IF(BA28="","勝",COUNTIF(BA28:BO28,"〇")) -> 勝 | BR28: =IF(BB28="","敗",COUNTIF(BA28:BO28,"×")) -> 敗
AW29: =IF(AU28="","",VLOOKUP(AU28,登録No.!$A$3:$N$508,4,FALSE)) | AY29: =IF(AU29="","",VLOOKUP(AU29,登録No.!$A$3:$N$508,4,FALSE)) | BP29: =IF(BH28="","ゲーム取得率",SUM(BB28,BH28,BK28,BN28)/SUM(BA28:BO28)) -> ゲーム取得率 | BR29: 順位
AW30: =IF(AU30="","",VLOOKUP(AU30,登録No.!$A$3:$N$508,2,FALSE)) | AY30: =IF(AU31="","",VLOOKUP(AU31,登録No.!$A$3:$N$508,2,FALSE)) | BA30: =IF(BH26="","",IF(BG26="〇","×","〇")) | BB30: =IF(BI26="","",BI26) | BC30: =IF(BH26="","",BH26) | BD30: =IF(BH28="","",IF(BG28="〇","×","〇")) | BE30: =IF(BI28="","",BI28) | BF30: =IF(BH28="","",BH28) | BJ30: =IF(BK30="","②",IF(BK30>BL30,"〇","×")) -> ② | BM30: =IF(BN30="","⑧",IF(BN30>BO30,"〇","×")) -> ⑧ | BP30: =IF(BB30="","勝",COUNTIF(BA30:BO30,"〇")) -> 勝 | BR30: =IF(BB30="","敗",COUNTIF(BA30:BO30,"×")) -> 敗
AW31: =IF(AU30="","",VLOOKUP(AU30,登録No.!$A$3:$N$508,4,FALSE)) | AY31: =IF(AU31="","",VLOOKUP(AU31,登録No.!$A$3:$N$508,4,FALSE)) | BP31: =IF(BB30="","ゲーム取得率",SUM(BB30,BE30,BK30,BN30)/SUM(BA30:BO30)) -> ゲーム取得率 | BR31: 順位
AW32: =IF(AU32="","",VLOOKUP(AU32,登録No.!$A$3:$N$508,2,FALSE)) | AY32: =IF(AU33="","",VLOOKUP(AU33,登録No.!$A$3:$N$508,2,FALSE)) | BA32: =IF(BK26="","",IF(BJ26="〇","×","〇")) | BB32: =IF(BL26="","",BL26) | BC32: =IF(BK26="","",BK26) | BD32: =IF(BK28="","",IF(BJ28="〇","×","〇")) | BE32: =IF(BL28="","",BL28) | BF32: =IF(BK28="","",BK28) | BG32: =IF(BK30="","",IF(BJ30="〇","×","〇")) | BH32: =IF(BL30="","",BL30) | BI32: =IF(BK30="","",BK30) | BM32: =IF(BN32="","⑤",IF(BN32>BO32,"〇","×")) -> ⑤ | BP32: =IF(BB32="","勝",COUNTIF(BA32:BO32,"〇")) -> 勝 | BR32: =IF(BB32="","敗",COUNTIF(BA32:BO32,"×")) -> 敗
AW33: =IF(AU32="","",VLOOKUP(AU32,登録No.!$A$3:$N$508,4,FALSE)) | AY33: =IF(AU33="","",VLOOKUP(AU33,登録No.!$A$3:$N$508,4,FALSE)) | BP33: =IF(BB32="","ゲーム取得率",SUM(BB32,BE32,BH32,BN32)/SUM(BA32:BO32)) -> ゲーム取得率 | BR33: 順位
AW34: =IF(AU34="","",VLOOKUP(AU34,登録No.!$A$3:$N$508,2,FALSE)) | AY34: =IF(AU35="","",VLOOKUP(AU35,登録No.!$A$3:$N$508,2,FALSE)) | BA34: =IF(BN26="","",IF(BM26="〇","×","〇")) | BB34: =IF(BO26="","",BO26) | BC34: =IF(BN26="","",BN26) | BD34: =IF(BM28="⑩","",IF(BM28="〇","×","〇")) | BE34: =IF(BO28="","",BO28) | BF34: =IF(BN28="","",BN28) | BG34: =IF(BN30="","",IF(BM30="〇","×","〇")) | BH34: =IF(BO30="","",BO30) | BI34: =IF(BN30="","",BN30) | BJ34: =IF(BN32="","",IF(BM32="〇","×","〇")) | BK34: =IF(BO32="","",BO32) | BL34: =IF(BN32="","",BN32) | BP34: =IF(BB34="","勝",COUNTIF(BA34:BO34,"〇")) -> 勝 | BR34: =IF(BB34="","敗",COUNTIF(BA34:BO34,"×")) -> 敗
AW35: =IF(AU34="","",VLOOKUP(AU34,登録No.!$A$3:$N$508,4,FALSE)) | AY35: =IF(AU35="","",VLOOKUP(AU35,登録No.!$A$3:$N$508,4,FALSE)) | BP35: =IF(BB34="","ゲーム取得率",SUM(BB34,BE34,BH34,BK34)/SUM(BA34:BO34)) -> ゲーム取得率 | BR35: 順位
A61: ↑ 印刷範囲

Sheet 男子OV
C1: 第22回 東近江市秋季ダブルス大会 | AU1: https://tenniskei.com/2021-nitto-atp-finals-result
A2: 男子OV55 | J2: 試合形式（1セットマッチ（６－６タイブレーク）ノーアド方式） | AS2: ← | AU2: 順位決定方法 ①完了試合数 ②勝数 ③直接対決 ④ゲーム取得率
AS3: 印
C4: ↓コート・集合時間（すこやかの杜 ・ 8：45までにすこやか本部に出席を届ける） | AS4: 刷 | AW4: ↓コート・集合時間（ひばり公園 外A 8：45までに本部に出席を届ける） | BW4: ↓コート・集合時間（ひばり公園 外A 8：45までに本部に出席を届ける）
A5: 3人リーグ | C5: リーグ1 | G5: =C6 -> 亀井 | H5: ・ | I5: =E6 -> 山本 | J5: =C8 -> 井上 | K5: ・ | L5: =E8 -> 岩花 | M5: =C10 -> 安達 | N5: ・ | O5: =E10 -> 中川 | P5: 成績／順位 | AS5: 範 | AU5: 3人リーグ | AW5: リーグ | BA5: =AW6 | BB5: ・ | BC5: =AY6 | BD5: =AW8 | BE5: ・ | BF5: =AY8 | BG5: =AW10 | BH5: ・ | BI5: =AY10 | BJ5: 成績／順位 | BU5: 6人リーグ | BW5: リーグ | CA5: =BW6 | CB5: ・ | CC5: =BY6 | CD5: =BW8 | CE5: ・ | CF5: =BY8 | CG5: =BW10 | CH5: ・ | CI5: =BY10 | CJ5: =#REF! -> #REF! | CK5: ・ | CL5: =#REF! -> #REF! | CM5: =BW15 | CN5: ・ | CO5: =BY15 | CP5: =BZ15 -> 0 | CQ5: ・ | CR5: =CB15 | CS5: 成績／順位
A6: う０８ | C6: =IF(A6="","",VLOOKUP(A6,登録No.!$A$3:$N$508,2,FALSE)) -> 亀井 | E6: =IF(A7="","",VLOOKUP(A7,登録No.!$A$3:$N$508,2,FALSE)) -> 山本 | J6: =IF(K6="","③",IF(K6>L6,"〇","×")) -> ③ | M6: =IF(N6="","②",IF(N6>O6,"〇","×")) -> ② | P6: =IF(K6="","勝",COUNTIF(G6:O6,"〇")) -> 勝 | R6: =IF(K6="","敗",COUNTIF(G6:O6,"×")) -> 敗 | AS6: 囲 | AW6: =IF(AU6="","",VLOOKUP(AU6,登録No.!$A$3:$N$508,2,FALSE)) | AY6: =IF(AU7="","",VLOOKUP(AU7,登録No.!$A$3:$N$508,2,FALSE)) | BD6: =IF(BE6="","③",IF(BE6>BF6,"〇","×")) -> ③ | BG6: =IF(BH6="","②",IF(BH6>BI6,"〇","×")) -> ② | BJ6: =IF(BE6="","勝",COUNTIF(BA6:BI6,"〇")) -> 勝 | BL6: =IF(BE6="","敗",COUNTIF(BA6:BI6,"×")) -> 敗 | BW6: =IF(BU6="","",VLOOKUP(BU6,登録No.!$A$3:$N$508,2,FALSE)) | BY6: =IF(BU7="","",VLOOKUP(BU7,登録No.!$A$3:$N$508,2,FALSE)) | CD6: =IF(CE6="","①",IF(CE6>CF6,"〇","×")) -> ① | CG6: ④ | CJ6: ⑦ | CM6: ⑩ | CP6: ⑮ | CS6: =IF(CE6="","勝",COUNTIF(CD6:CO6,"〇")) -> 勝 | CU6: =IF(CE6="","敗",COUNTIF(CD6:CO6,"×")) -> 敗
A7: う１４ | C7: =IF(A6="","",VLOOKUP(A6,登録No.!$A$3:$N$508,4,FALSE)) -> うさかめ | E7: =IF(A7="","",VLOOKUP(A7,登録No.!$A$3:$N$508,4,FALSE)) -> うさかめ | P7: =IF(K6="","ゲーム取得率",SUM(K6,N6)/SUM(G6:O6)) -> ゲーム取得率 | R7: 順位 | AW7: =IF(AU6="","",VLOOKUP(AU6,登録No.!$A$3:$N$508,4,FALSE)) | AY7: =IF(AU7="","",VLOOKUP(AU7,登録No.!$A$3:$N$508,4,FALSE)) | BJ7: =IF(BE6="","ゲーム取得率",SUM(BE6,BH6)/SUM(BA6:BI6)) -> ゲーム取得率 | BL7: 順位 | BW7: =IF(BU6="","",VLOOKUP(BU6,登録No.!$A$3:$N$508,4,FALSE)) | BY7: =IF(BU7="","",VLOOKUP(BU7,登録No.!$A$3:$N$508,4,FALSE)) | CS7: =IF(CH6="","ゲーム取得率",SUM(CE6,CH6,CK6,CN6)/SUM(CD6:CO6)) -> ゲーム取得率 | CU7: 順位
A8: ふ１０ | C8: =IF(A8="","",VLOOKUP(A8,登録No.!$A$3:$N$508,2,FALSE)) -> 井上 | E8: =IF(A9="","",VLOOKUP(A9,登録No.!$A$3:$N$508,2,FALSE)) -> 岩花 | G8: =IF(J6="③","",IF(J6="〇","×","〇")) | H8: =IF(L6="","",L6) | I8: =IF(K6="","",K6) | M8: =IF(N8="","①",IF(N8>O8,"〇","×")) -> ① | P8: =IF(G8="","勝",COUNTIF(G8:O8,"〇")) -> 勝 | R8: =IF(G8="","敗",COUNTIF(G8:O8,"×")) -> 敗 | AW8: =IF(AU8="","",VLOOKUP(AU8,登録No.!$A$3:$N$508,2,FALSE)) | AY8: =IF(AU9="","",VLOOKUP(AU9,登録No.!$A$3:$N$508,2,FALSE)) | BA8: =IF(BE6="","",IF(BD6="〇","×","〇")) | BB8: =IF(BF6="","",BF6) | BC8: =IF(BE6="","",BE6) | BG8: =IF(BH8="","①",IF(BH8>BI8,"〇","×")) -> ① | BJ8: =IF(BA8="","勝",COUNTIF(BA8:BI8,"〇")) -> 勝 | BL8: =IF(BA8="","敗",COUNTIF(BA8:BI8,"×")) -> 敗 | BW8: =IF(BU8="","",VLOOKUP(BU8,登録No.!$A$3:$N$508,2,FALSE)) | BY8: =IF(BU9="","",VLOOKUP(BU9,登録No.!$A$3:$N$508,2,FALSE)) | CA8: =IF(CE6="","",IF(CD6="〇","×","〇")) | CB8: =IF(CF6="","",CF6) | CC8: =IF(CE6="","",CE6) | CG8: ⑪ | CJ8: ⑭ | CM8: ⑧ | CP8: ⑥ | CS8: =IF(CA8="","勝",COUNTIF(CA8:CO8,"〇")) -> 勝 | CU8: =IF(CB8="","敗",COUNTIF(CA8:CO8,"×")) -> 敗
A9: う０１ | C9: =IF(A8="","",VLOOKUP(A8,登録No.!$A$3:$N$508,4,FALSE)) -> フレンズ | E9: =IF(A9="","",VLOOKUP(A9,登録No.!$A$3:$N$508,4,FALSE)) -> うさかめ | P9: =IF(H8="","ゲーム取得率",SUM(H8,N8)/SUM(G8:O8)) -> ゲーム取得率 | R9: 順位 | AW9: =IF(AU8="","",VLOOKUP(AU8,登録No.!$A$3:$N$508,4,FALSE)) | AY9: =IF(AU9="","",VLOOKUP(AU9,登録No.!$A$3:$N$508,4,FALSE)) | BJ9: =IF(BB8="","ゲーム取得率",SUM(BB8,BH8)/SUM(BA8:BI8)) -> ゲーム取得率 | BL9: 順位 | BW9: =IF(BU8="","",VLOOKUP(BU8,登録No.!$A$3:$N$508,4,FALSE)) | BY9: =IF(BU9="","",VLOOKUP(BU9,登録No.!$A$3:$N$508,4,FALSE)) | CS9: =IF(CH8="","ゲーム取得率",SUM(CB8,CH8,CK8,CN8)/SUM(CA8:CO8)) -> ゲーム取得率 | CU9: 順位
A10: あ０３ | C10: =IF(A10="","",VLOOKUP(A10,登録No.!$A$3:$N$508,2,FALSE)) -> 安達 | E10: 中川 | G10: =IF(N6="","",IF(M6="〇","×","〇")) | H10: =IF(O6="","",O6) | I10: =IF(N6="","",N6) | J10: =IF(N8="","",IF(M8="〇","×","〇")) | K10: =IF(O8="","",O8) | L10: =IF(N8="","",N8) | P10: =IF(G10="","勝",COUNTIF(G10:O10,"〇")) -> 勝 | R10: =IF(G10="","敗",COUNTIF(G10:O10,"×")) -> 敗 | AW10: =IF(AU10="","",VLOOKUP(AU10,登録No.!$A$3:$N$508,2,FALSE)) | AY10: =IF(AU11="","",VLOOKUP(AU11,登録No.!$A$3:$N$508,2,FALSE)) | BA10: =IF(BH6="","",IF(BG6="〇","×","〇")) | BB10: =IF(BI6="","",BI6) | BC10: =IF(BH6="","",BH6) | BD10: =IF(BH8="","",IF(BG8="〇","×","〇")) | BE10: =IF(BI8="","",BI8) | BF10: =IF(BH8="","",BH8) | BJ10: =IF(BA10="","勝",COUNTIF(BA10:BI10,"〇")) -> 勝 | BL10: =IF(BA10="","敗",COUNTIF(BA10:BI10,"×")) -> 敗 | BW10: =IF(BU10="","",VLOOKUP(BU10,登録No.!$A$3:$N$508,2,FALSE)) | BY10: =IF(BU11="","",VLOOKUP(BU11,登録No.!$A$3:$N$508,2,FALSE)) | CA10: =IF(CH6="","",IF(CG6="〇","×","〇")) | CB10: =IF(CI6="","",CI6) | CC10: =IF(CH6="","",CH6) | CD10: =IF(CH8="","",IF(CG8="〇","×","〇")) | CE10: =IF(CI8="","",CI8) | CF10: =IF(CH8="","",CH8) | CJ10: =IF(CK10="","②",IF(CK10>CL10,"〇","×")) -> ② | CM10: ⑬ | CP10: ⑨ | CS10: =IF(CB10="","勝",COUNTIF(CA10:CO10,"〇")) -> 勝 | CU10: =IF(CB10="","敗",COUNTIF(CA10:CO10,"×")) -> 敗
C11: =IF(A10="","",VLOOKUP(A10,登録No.!$A$3:$N$508,4,FALSE)) -> アビックBB | E11: 一般 | P11: =IF(G10="","ゲーム取得率",SUM(H10,K10)/SUM(G10:O10)) -> ゲーム取得率 | R11: 順位 | AW11: =IF(AU10="","",VLOOKUP(AU10,登録No.!$A$3:$N$508,4,FALSE)) | AY11: =IF(AU11="","",VLOOKUP(AU11,登録No.!$A$3:$N$508,4,FALSE)) | BJ11: =IF(BA10="","ゲーム取得率",SUM(BB10,BE10)/SUM(BA10:BI10)) -> ゲーム取得率 | BL11: 順位 | BW11: =IF(BU10="","",VLOOKUP(BU10,登録No.!$A$3:$N$508,4,FALSE)) | BY11: =IF(BU11="","",VLOOKUP(BU11,登録No.!$A$3:$N$508,4,FALSE)) | CS11: =IF(CB10="","ゲーム取得率",SUM(CB10,CE10,CK10,CN10)/SUM(CA10:CO10)) -> ゲーム取得率 | CU11: 順位
C12: 順位決定方法 ①完了試合数 ②勝数 ③直接対決 ④取得ゲーム率（取得ゲーム数/全ゲーム数）
C14: ↓コート・集合時間（すこやかの杜 ・ 8：45までにすこやか本部に出席を届ける） | AW14: ↓コート・集合時間（ひばり公園 外A 8：45までに本部に出席を届ける） | BW14: =IF(#REF!="","",VLOOKUP(#REF!,登録No.!$A$3:$N$508,4,FALSE)) -> #REF! | BY14: =IF(BU14="","",VLOOKUP(BU14,登録No.!$A$3:$N$508,4,FALSE)) | CS14: =IF(#REF!="","ゲーム取得率",SUM(#REF!,#REF!,#REF!,#REF!)/SUM(#REF!)) -> #REF! | CU14: 順位
A15: 3人リーグ | C15: リーグ2 | G15: =C16 -> 片岡 | H15: ・ | I15: =E16 -> 山本 | J15: =C18 -> 中田 | K15: ・ | L15: =E18 -> 安井 | M15: =C20 -> 平塚 | N15: ・ | O15: =E20 -> 東 | P15: 成績／順位 | AU15: 4人リーグ | AW15: リーグ | BA15: =AW16 | BB15: ・ | BC15: =AY16 | BD15: =AW18 | BE15: ・ | BF15: =AY18 | BG15: =AW20 | BH15: ・ | BI15: =AY20 | BJ15: =#REF! -> #REF! | BK15: ・ | BL15: =#REF! -> #REF! | BM15: 成績／順位 | BW15: =IF(BU15="","",VLOOKUP(BU15,登録No.!$A$3:$N$508,2,FALSE)) | BY15: =IF(BU16="","",VLOOKUP(BU16,登録No.!$A$3:$N$508,2,FALSE)) | CA15: =IF(CN6="","",IF(CM6="〇","×","〇")) | CB15: =IF(CO6="","",CO6) | CC15: =IF(CN6="","",CN6) | CD15: =IF(CN8="","",IF(CM8="〇","×","〇")) | CE15: =IF(CO8="","",CO8) | CF15: =IF(CN8="","",CN8) | CG15: =IF(CN10="","",IF(CM10="〇","×","〇")) | CH15: =IF(CO10="","",CO10) | CI15: =IF(CN10="","",CN10) | CJ15: =IF(#REF!="","",IF(#REF!="〇","×","〇")) -> #REF! | CK15: =IF(#REF!="","",#REF!) -> #REF! | CL15: =IF(#REF!="","",#REF!) -> #REF! | CP15: ③ | CS15: =IF(CB15="","勝",COUNTIF(CA15:CO15,"〇")) -> 勝 | CU15: =IF(CB15="","敗",COUNTIF(CA15:CO15,"×")) -> 敗
A16: う０６ | C16: =IF(A16="","",VLOOKUP(A16,登録No.!$A$3:$N$508,2,FALSE)) -> 片岡 | E16: =IF(A17="","",VLOOKUP(A17,登録No.!$A$3:$N$508,2,FALSE)) -> 山本 | J16: =IF(K16="","③",IF(K16>L16,"〇","×")) -> ③ | M16: =IF(N16="","②",IF(N16>O16,"〇","×")) -> ② | P16: =IF(K16="","勝",COUNTIF(G16:O16,"〇")) -> 勝 | R16: =IF(K16="","敗",COUNTIF(G16:O16,"×")) -> 敗 | AW16: =IF(AU16="","",VLOOKUP(AU16,登録No.!$A$3:$N$508,2,FALSE)) | AY16: =IF(AU17="","",VLOOKUP(AU17,登録No.!$A$3:$N$508,2,FALSE)) | BD16: =IF(BE16="","⑥",IF(BE16>BF16,"〇","×")) -> ⑥ | BG16: =IF(BH16="","④",IF(BH16>BI16,"〇","×")) -> ④ | BJ16: =IF(BK16="","②",IF(BK16>BL16,"〇","×")) -> ② | BM16: =IF(BE16="","勝",COUNTIF(BA16:BL16,"〇")) -> 勝 | BO16: =IF(BE16="","敗",COUNTIF(BA16:BL16,"×")) -> 敗 | BW16: =IF(BU15="","",VLOOKUP(BU15,登録No.!$A$3:$N$508,4,FALSE)) | BY16: =IF(BU16="","",VLOOKUP(BU16,登録No.!$A$3:$N$508,4,FALSE)) | CS16: =IF(CB15="","ゲーム取得率",SUM(CB15,CE15,CH15,CK15)/SUM(CA15:CO15)) -> ゲーム取得率 | CU16: 順位
A17: う１３ | C17: =IF(A16="","",VLOOKUP(A16,登録No.!$A$3:$N$508,4,FALSE)) -> うさかめ | E17: =IF(A17="","",VLOOKUP(A17,登録No.!$A$3:$N$508,4,FALSE)) -> うさかめ | P17: =IF(K16="","ゲーム取得率",SUM(K16,N16)/SUM(G16:O16)) -> ゲーム取得率 | R17: 順位 | AW17: =IF(AU16="","",VLOOKUP(AU16,登録No.!$A$3:$N$508,4,FALSE)) | AY17: =IF(AU17="","",VLOOKUP(AU17,登録No.!$A$3:$N$508,4,FALSE)) | BM17: =IF(BE16="","ゲーム取得率",SUM(BE16,BH16,BK16)/SUM(BD16:BL16)) -> ゲーム取得率 | BO17: 順位 | BW17: =IF(BU17="","",VLOOKUP(BU17,登録No.!$A$3:$N$508,2,FALSE)) | BY17: =IF(BU18="","",VLOOKUP(BU18,登録No.!$A$3:$N$508,2,FALSE)) | CA17: =IF(CQ6="","",IF(CP6="〇","×","〇")) | CB17: =IF(CR8="","",CR8) | CC17: =IF(CQ8="","",CQ8) | CD17: =IF(CQ8="","",IF(CP8="〇","×","〇")) | CE17: =IF(CR8="","",CR8) | CF17: =IF(CQ8="","",CQ8) | CG17: =IF(CQ10="","",IF(CP10="〇","×","〇")) | CH17: =IF(CR10="","",CR10) | CI17: =IF(CQ10="","",CQ10) | CJ17: =IF(#REF!="","",IF(#REF!="〇","×","〇")) -> #REF! | CK17: =IF(#REF!="","",#REF!) -> #REF! | CL17: =IF(#REF!="","",#REF!) -> #REF! | CM17: =IF(CQ15="","",IF(CP15="〇","×","〇")) | CN17: =IF(CR15="","",CR15) | CO17: =IF(CQ15="","",CQ15) | CS17: =IF(CB17="","勝",COUNTIF(CA17:CO17,"〇")) -> 勝 | CU17: =IF(CB17="","敗",COUNTIF(CA17:CO17,"×")) -> 敗
A18: う１８ | C18: =IF(A18="","",VLOOKUP(A18,登録No.!$A$3:$N$508,2,FALSE)) -> 中田 | E18: =IF(A19="","",VLOOKUP(A19,登録No.!$A$3:$N$508,2,FALSE)) -> 安井 | G18: =IF(J16="③","",IF(J16="〇","×","〇")) | H18: =IF(L16="","",L16) | I18: =IF(K16="","",K16) | M18: =IF(N18="","①",IF(N18>O18,"〇","×")) -> ① | P18: =IF(G18="","勝",COUNTIF(G18:O18,"〇")) -> 勝 | R18: =IF(G18="","敗",COUNTIF(G18:O18,"×")) -> 敗 | AW18: =IF(AU18="","",VLOOKUP(AU18,登録No.!$A$3:$N$508,2,FALSE)) | AY18: =IF(AU19="","",VLOOKUP(AU19,登録No.!$A$3:$N$508,2,FALSE)) | BA18: =IF(BE16="","",IF(BD16="〇","×","〇")) | BB18: =IF(BF16="","",BF16) | BC18: =IF(BE16="","",BE16) | BG18: =IF(BH18="","①",IF(BH18>BI18,"〇","×")) -> ① | BJ18: =IF(BK18="","③",IF(BK18>BL18,"〇","×")) -> ③ | BM18: =IF(BA18="","勝",COUNTIF(BA18:BL18,"〇")) -> 勝 | BO18: =IF(BA18="","敗",COUNTIF(BA18:BL18,"×")) -> 敗 | BW18: =IF(BU17="","",VLOOKUP(BU17,登録No.!$A$3:$N$508,4,FALSE)) | BY18: =IF(BU18="","",VLOOKUP(BU18,登録No.!$A$3:$N$508,4,FALSE)) | CS18: =IF(CB17="","ゲーム取得率",SUM(CB17,CE17,CH17,CK17)/SUM(CA17:CO17)) -> ゲーム取得率 | CU18: 順位
A19: う３５ | C19: =IF(A18="","",VLOOKUP(A18,登録No.!$A$3:$N$508,4,FALSE)) -> うさかめ | E19: =IF(A19="","",VLOOKUP(A19,登録No.!$A$3:$N$508,4,FALSE)) -> うさかめ | P19: =IF(H18="","ゲーム取得率",SUM(H18,N18)/SUM(G18:O18)) -> ゲーム取得率 | R19: 順位 | AW19: =IF(AU18="","",VLOOKUP(AU18,登録No.!$A$3:$N$508,4,FALSE)) | AY19: =IF(AU19="","",VLOOKUP(AU19,登録No.!$A$3:$N$508,4,FALSE)) | BM19: =IF(BA18="","ゲーム取得率",SUM(BB18,BH18,BK18)/SUM(BA18:BL18)) -> ゲーム取得率 | BO19: 順位
A20: ふ０７ | C20: =IF(A20="","",VLOOKUP(A20,登録No.!$A$3:$N$508,2,FALSE)) -> 平塚 | E20: =IF(A21="","",VLOOKUP(A21,登録No.!$A$3:$N$508,2,FALSE)) -> 東 | G20: =IF(N16="","",IF(M16="〇","×","〇")) | H20: =IF(O16="","",O16) | I20: =IF(N16="","",N16) | J20: =IF(N18="","",IF(M18="〇","×","〇")) | K20: =IF(O18="","",O18) | L20: =IF(N18="","",N18) | P20: =IF(G20="","勝",COUNTIF(G20:O20,"〇")) -> 勝 | R20: =IF(G20="","敗",COUNTIF(G20:O20,"×")) -> 敗 | AW20: =IF(AU20="","",VLOOKUP(AU20,登録No.!$A$3:$N$508,2,FALSE)) | AY20: =IF(AU21="","",VLOOKUP(AU21,登録No.!$A$3:$N$508,2,FALSE)) | BA20: =IF(BH16="","",IF(BG16="〇","×","〇")) | BB20: =IF(BI16="","",BI16) | BC20: =IF(BH16="","",BH16) | BD20: =IF(BH18="","",IF(BG18="〇","×","〇")) | BE20: =IF(BI18="","",BI18) | BF20: =IF(BH18="","",BH18) | BJ20: =IF(BK20="","⑤",IF(BK20>BL20,"〇","×")) -> ⑤ | BM20: =IF(BE20="","勝",COUNTIF(BA20:BL20,"〇")) -> 勝 | BO20: =IF(BD20="","敗",COUNTIF(BA20:BL20,"×")) -> 敗
A21: あぷ１３ | C21: =IF(A20="","",VLOOKUP(A20,登録No.!$A$3:$N$508,4,FALSE)) -> フレンズ | E21: =IF(A21="","",VLOOKUP(A21,登録No.!$A$3:$N$508,4,FALSE)) -> アプストTC | P21: =IF(G20="","ゲーム取得率",SUM(H20,K20)/SUM(G20:O20)) -> ゲーム取得率 | R21: 順位 | AW21: =IF(AU20="","",VLOOKUP(AU20,登録No.!$A$3:$N$508,4,FALSE)) | AY21: =IF(AU21="","",VLOOKUP(AU21,登録No.!$A$3:$N$508,4,FALSE)) | BM21: =IF(BA20="","ゲーム取得率",SUM(BB20,BE20,BK20)/SUM(BA20:BL20)) -> ゲーム取得率 | BO21: 順位
C22: 順位決定方法 ①完了試合数 ②勝数 ③直接対決 ④取得ゲーム率（取得ゲーム数/全ゲーム数） | AW22: =IF(#REF!="","",VLOOKUP(#REF!,登録No.!$A$3:$N$508,4,FALSE)) -> #REF! | AY22: =IF(AU22="","",VLOOKUP(AU22,登録No.!$A$3:$N$508,4,FALSE)) | BM22: =IF(#REF!="","ゲーム取得率",SUM(#REF!,#REF!,#REF!)/SUM(#REF!)) -> #REF! | BO22: 順位
C24: 決勝トーナメント
AW25: ↓コート・集合時間（ひばり公園 外A 8：45までに本部に出席を届ける）
C26: リーグ1・1位 | J26: 勝者 | P26: リーグ2・1位 | AU26: 5人リーグ | AW26: リーグ | BA26: =AW27 | BB26: ・ | BC26: =AY27 | BD26: =AW29 | BE26: ・ | BF26: =AY29 | BG26: =AW31 | BH26: ・ | BI26: =AY31 | BJ26: =AW33 | BK26: ・ | BL26: =AY33 | BM26: =AW35 | BN26: ・ | BO26: =AY35 | BP26: 成績／順位
J27: 結果 | AW27: =IF(AU27="","",VLOOKUP(AU27,登録No.!$A$3:$N$508,2,FALSE)) | AY27: =IF(AU28="","",VLOOKUP(AU28,登録No.!$A$3:$N$508,2,FALSE)) | BD27: =IF(BE27="","①",IF(BE27>BF27,"〇","×")) -> ① | BG27: =IF(BH27="","⑥",IF(BH27>BI27,"〇","×")) -> ⑥ | BJ27: =IF(BK27="","⑨",IF(BK27>BL27,"〇","×")) -> ⑨ | BM27: =IF(BN27="","③",IF(BN27>BO27,"〇","×")) -> ③ | BP27: =IF(BE27="","勝",COUNTIF(BD27:BO27,"〇")) -> 勝 | BR27: =IF(BE27="","敗",COUNTIF(BD27:BO27,"×")) -> 敗
AW28: =IF(AU27="","",VLOOKUP(AU27,登録No.!$A$3:$N$508,4,FALSE)) | AY28: =IF(AU28="","",VLOOKUP(AU28,登録No.!$A$3:$N$508,4,FALSE)) | BP28: =IF(BH27="","ゲーム取得率",SUM(BE27,BH27,BK27,BN27)/SUM(BD27:BO27)) -> ゲーム取得率 | BR28: 順位
AW29: =IF(AU29="","",VLOOKUP(AU29,登録No.!$A$3:$N$508,2,FALSE)) | AY29: =IF(AU30="","",VLOOKUP(AU30,登録No.!$A$3:$N$508,2,FALSE)) | BA29: =IF(BE27="","",IF(BD27="〇","×","〇")) | BB29: =IF(BF27="","",BF27) | BC29: =IF(BE27="","",BE27) | BG29: =IF(BH29="","④",IF(BH29>BI29,"〇","×")) -> ④ | BJ29: =IF(BK29="","⑦",IF(BK29>BL29,"〇","×")) -> ⑦ | BM29: =IF(BN29="","⑩",IF(BN29>BO29,"〇","×")) -> ⑩ | BP29: =IF(BA29="","勝",COUNTIF(BA29:BO29,"〇")) -> 勝 | BR29: =IF(BB29="","敗",COUNTIF(BA29:BO29,"×")) -> 敗
F30: 1 | H30: 勝者 | L30: 勝者 | N30: 2 | AW30: =IF(AU29="","",VLOOKUP(AU29,登録No.!$A$3:$N$508,4,FALSE)) | AY30: =IF(AU30="","",VLOOKUP(AU30,登録No.!$A$3:$N$508,4,FALSE)) | BP30: =IF(BH29="","ゲーム取得率",SUM(BB29,BH29,BK29,BN29)/SUM(BA29:BO29)) -> ゲーム取得率 | BR30: 順位
H31: 結果 | L31: 結果 | AW31: =IF(AU31="","",VLOOKUP(AU31,登録No.!$A$3:$N$508,2,FALSE)) | AY31: =IF(AU32="","",VLOOKUP(AU32,登録No.!$A$3:$N$508,2,FALSE)) | BA31: =IF(BH27="","",IF(BG27="〇","×","〇")) | BB31: =IF(BI27="","",BI27) | BC31: =IF(BH27="","",BH27) | BD31: =IF(BH29="","",IF(BG29="〇","×","〇")) | BE31: =IF(BI29="","",BI29) | BF31: =IF(BH29="","",BH29) | BJ31: =IF(BK31="","②",IF(BK31>BL31,"〇","×")) -> ② | BM31: =IF(BN31="","⑧",IF(BN31>BO31,"〇","×")) -> ⑧ | BP31: =IF(BB31="","勝",COUNTIF(BA31:BO31,"〇")) -> 勝 | BR31: =IF(BB31="","敗",COUNTIF(BA31:BO31,"×")) -> 敗
AW32: =IF(AU31="","",VLOOKUP(AU31,登録No.!$A$3:$N$508,4,FALSE)) | AY32: =IF(AU32="","",VLOOKUP(AU32,登録No.!$A$3:$N$508,4,FALSE)) | BP32: =IF(BB31="","ゲーム取得率",SUM(BB31,BE31,BK31,BN31)/SUM(BA31:BO31)) -> ゲーム取得率 | BR32: 順位
AW33: =IF(AU33="","",VLOOKUP(AU33,登録No.!$A$3:$N$508,2,FALSE)) | AY33: =IF(AU34="","",VLOOKUP(AU34,登録No.!$A$3:$N$508,2,FALSE)) | BA33: =IF(BK27="","",IF(BJ27="〇","×","〇")) | BB33: =IF(BL27="","",BL27) | BC33: =IF(BK27="","",BK27) | BD33: =IF(BK29="","",IF(BJ29="〇","×","〇")) | BE33: =IF(BL29="","",BL29) | BF33: =IF(BK29="","",BK29) | BG33: =IF(BK31="","",IF(BJ31="〇","×","〇")) | BH33: =IF(BL31="","",BL31) | BI33: =IF(BK31="","",BK31) | BM33: =IF(BN33="","⑤",IF(BN33>BO33,"〇","×")) -> ⑤ | BP33: =IF(BB33="","勝",COUNTIF(BA33:BO33,"〇")) -> 勝 | BR33: =IF(BB33="","敗",COUNTIF(BA33:BO33,"×")) -> 敗
C34: リーグ2・2位 | P34: リーグ1・2位 | AW34: =IF(AU33="","",VLOOKUP(AU33,登録No.!$A$3:$N$508,4,FALSE)) | AY34: =IF(AU34="","",VLOOKUP(AU34,登録No.!$A$3:$N$508,4,FALSE)) | BP34: =IF(BB33="","ゲーム取得率",SUM(BB33,BE33,BH33,BN33)/SUM(BA33:BO33)) -> ゲーム取得率 | BR34: 順位
AW35: =IF(AU35="","",VLOOKUP(AU35,登録No.!$A$3:$N$508,2,FALSE)) | AY35: =IF(AU36="","",VLOOKUP(AU36,登録No.!$A$3:$N$508,2,FALSE)) | BA35: =IF(BN27="","",IF(BM27="〇","×","〇")) | BB35: =IF(BO27="","",BO27) | BC35: =IF(BN27="","",BN27) | BD35: =IF(BM29="⑩","",IF(BM29="〇","×","〇")) | BE35: =IF(BO29="","",BO29) | BF35: =IF(BN29="","",BN29) | BG35: =IF(BN31="","",IF(BM31="〇","×","〇")) | BH35: =IF(BO31="","",BO31) | BI35: =IF(BN31="","",BN31) | BJ35: =IF(BN33="","",IF(BM33="〇","×","〇")) | BK35: =IF(BO33="","",BO33) | BL35: =IF(BN33="","",BN33) | BP35: =IF(BB35="","勝",COUNTIF(BA35:BO35,"〇")) -> 勝 | BR35: =IF(BB35="","敗",COUNTIF(BA35:BO35,"×")) -> 敗
AW36: =IF(AU35="","",VLOOKUP(AU35,登録No.!$A$3:$N$508,4,FALSE)) | AY36: =IF(AU36="","",VLOOKUP(AU36,登録No.!$A$3:$N$508,4,FALSE)) | BP36: =IF(BB35="","ゲーム取得率",SUM(BB35,BE35,BH35,BK35)/SUM(BA35:BO35)) -> ゲーム取得率 | BR36: 順位
C39: コンソレーション
C41: リーグ1・3位
F45: 試合順 | H45: 勝者
H46: 結果
C49: リーグ2・2位
A62: ↑ 印刷範囲

Sheet 女子A
C1: 第22回 東近江市秋季ダブルス大会
A2: 女子A級 | J2: 試合形式（1セットマッチ（６－６タイブレーク）ノーアド方式）
C4: ↓コート・集合時間（ひばり公園ドームA 8：45までに本部に出席を届ける）
A5: 4人リーグ | C5: リーグ | G5: =C6 -> 大野 | H5: ・ | I5: =E6 -> 西野 | J5: =C8 -> 苗村 | K5: ・ | L5: =E8 -> 宮村 | M5: =C10 -> 栗田 | N5: ・ | O5: =E10 -> 木村 | P5: =C12 -> 吉岡 | Q5: ・ | R5: =E12 -> 笹田 | S5: 成績／順位
A6: ふ１３ | C6: =IF(A6="","",VLOOKUP(A6,登録No.!$A$3:$N$508,2,FALSE)) -> 大野 | E6: =IF(A7="","",VLOOKUP(A7,登録No.!$A$3:$N$508,2,FALSE)) -> 西野 | J6: =IF(K6="","⑥",IF(K6>L6,"〇","×")) -> ⑥ | M6: =IF(N6="","④",IF(N6>O6,"〇","×")) -> ④ | P6: =IF(Q6="","②",IF(Q6>R6,"〇","×")) -> ② | S6: =IF(K6="","勝",COUNTIF(G6:R6,"〇")) -> 勝 | U6: =IF(K6="","敗",COUNTIF(G6:R6,"×")) -> 敗
A7: ぐ１９ | C7: =IF(A6="","",VLOOKUP(A6,登録No.!$A$3:$N$508,4,FALSE)) -> フレンズ | E7: =IF(A7="","",VLOOKUP(A7,登録No.!$A$3:$N$508,4,FALSE)) -> グリフィンズ | S7: =IF(K6="","ゲーム取得率",SUM(K6,N6,Q6)/SUM(J6:R6)) -> ゲーム取得率 | U7: 順位
A8: う４３ | C8: =IF(A8="","",VLOOKUP(A8,登録No.!$A$3:$N$508,2,FALSE)) -> 苗村 | E8: =IF(A9="","",VLOOKUP(A9,登録No.!$A$3:$N$508,2,FALSE)) -> 宮村 | G8: =IF(K6="","",IF(J6="〇","×","〇")) | H8: =IF(L6="","",L6) | I8: =IF(K6="","",K6) | M8: =IF(N8="","①",IF(N8>O8,"〇","×")) -> ① | P8: =IF(Q8="","③",IF(Q8>R8,"〇","×")) -> ③ | S8: =IF(G8="","勝",COUNTIF(G8:R8,"〇")) -> 勝 | U8: =IF(G8="","敗",COUNTIF(G8:R8,"×")) -> 敗
A9: あぷ２７ | C9: =IF(A8="","",VLOOKUP(A8,登録No.!$A$3:$N$508,4,FALSE)) -> うさかめ | E9: =IF(A9="","",VLOOKUP(A9,登録No.!$A$3:$N$508,4,FALSE)) -> アプストTC | S9: =IF(G8="","ゲーム取得率",SUM(H8,N8,Q8)/SUM(G8:R8)) -> ゲーム取得率 | U9: 順位
C10: 栗田 | E10: 木村 | G10: =IF(N6="","",IF(M6="〇","×","〇")) | H10: =IF(O6="","",O6) | I10: =IF(N6="","",N6) | J10: =IF(N8="","",IF(M8="〇","×","〇")) | K10: =IF(O8="","",O8) | L10: =IF(N8="","",N8) | P10: =IF(Q10="","⑤",IF(Q10>R10,"〇","×")) -> ⑤ | S10: =IF(K10="","勝",COUNTIF(G10:R10,"〇")) -> 勝 | U10: =IF(J10="","敗",COUNTIF(G10:R10,"×")) -> 敗
C11: 一般Jr | E11: 一般Jr | S11: =IF(G10="","ゲーム取得率",SUM(H10,K10,Q10)/SUM(G10:R10)) -> ゲーム取得率 | U11: 順位
C12: 吉岡 | E12: 笹田 | G12: =IF(Q6="","",IF(P6="〇","×","〇")) | H12: =IF(R6="","",R6) | I12: =IF(Q6="","",Q6) | J12: =IF(Q8="","",IF(P8="〇","×","〇")) | K12: =IF(R8="","",R8) | L12: =IF(Q8="","",Q8) | M12: =IF(Q10="","",IF(P10="〇","×","〇")) | N12: =IF(R10="","",R10) | O12: =IF(Q10="","",Q10) | S12: =IF(J12="","勝",COUNTIF(G12:R12,"〇")) -> 勝 | U12: =IF(J12="","敗",COUNTIF(G12:R12,"×")) -> 敗
C13: 一般Jr | E13: 一般Jr | S13: =IF(G12="","ゲーム取得率",SUM(H12,K12,N12)/SUM(G12:O12)) -> ゲーム取得率 | U13: 順位
C15: 順位決定方法 ①完了試合数 ②勝数 ③直接対決 ④取得ゲーム率（取得ゲーム数/全ゲーム数）
A61: ↑ 印刷範囲

Sheet 女子BC級
C1: 第22回 東近江市秋季ダブルス大会
A2: 女子BC級 | J2: 試合形式（1セットマッチ（６－６タイブレーク）ノーアド方式）
C4: ↓コート・集合時間（ひばり公園ドームB 8：45までに本部に出席を届ける）
C5: リーグ1 | G5: =C6 -> 伊吹 | H5: ・ | I5: =E6 -> 梅田 | J5: =C8 -> 山﨑 | K5: ・ | L5: =E8 -> 山田 | M5: =C10 -> 千代 | N5: ・ | O5: =E10 -> 山中 | P5: 成績／順位
A6: う３７ | C6: =IF(A6="","",VLOOKUP(A6,登録No.!$A$3:$N$508,2,FALSE)) -> 伊吹 | E6: =IF(A7="","",VLOOKUP(A7,登録No.!$A$3:$N$508,2,FALSE)) -> 梅田 | J6: =IF(K6="","③",IF(K6>L6,"〇","×")) -> ③ | M6: =IF(N6="","②",IF(N6>O6,"〇","×")) -> ② | P6: =IF(K6="","勝",COUNTIF(G6:O6,"〇")) -> 勝 | R6: =IF(K6="","敗",COUNTIF(G6:O6,"×")) -> 敗
A7: う４０ | C7: =IF(A6="","",VLOOKUP(A6,登録No.!$A$3:$N$508,4,FALSE)) -> うさかめ | E7: =IF(A7="","",VLOOKUP(A7,登録No.!$A$3:$N$508,4,FALSE)) -> うさかめ | P7: =IF(K6="","ゲーム取得率",SUM(K6,N6)/SUM(G6:O6)) -> ゲーム取得率 | R7: 順位
A8: ふ２２ | C8: =IF(A8="","",VLOOKUP(A8,登録No.!$A$3:$N$508,2,FALSE)) -> 山﨑 | E8: =IF(A9="","",VLOOKUP(A9,登録No.!$A$3:$N$508,2,FALSE)) -> 山田 | G8: =IF(J6="③","",IF(J6="〇","×","〇")) | H8: =IF(L6="","",L6) | I8: =IF(K6="","",K6) | M8: =IF(N8="","①",IF(N8>O8,"〇","×")) -> ① | P8: =IF(G8="","勝",COUNTIF(G8:O8,"〇")) -> 勝 | R8: =IF(G8="","敗",COUNTIF(G8:O8,"×")) -> 敗
A9: あぷ３１ | C9: =IF(A8="","",VLOOKUP(A8,登録No.!$A$3:$N$508,4,FALSE)) -> フレンズ | E9: =IF(A9="","",VLOOKUP(A9,登録No.!$A$3:$N$508,4,FALSE)) -> アプストTC | P9: =IF(H8="","ゲーム取得率",SUM(H8,N8)/SUM(G8:O8)) -> ゲーム取得率 | R9: 順位
A10: あ３２ | C10: =IF(A10="","",VLOOKUP(A10,登録No.!$A$3:$N$508,2,FALSE)) -> 千代 | E10: =IF(A11="","",VLOOKUP(A11,登録No.!$A$3:$N$508,2,FALSE)) -> 山中 | G10: =IF(N6="","",IF(M6="〇","×","〇")) | H10: =IF(O6="","",O6) | I10: =IF(N6="","",N6) | J10: =IF(N8="","",IF(M8="〇","×","〇")) | K10: =IF(O8="","",O8) | L10: =IF(N8="","",N8) | P10: =IF(G10="","勝",COUNTIF(G10:O10,"〇")) -> 勝 | R10: =IF(G10="","敗",COUNTIF(G10:O10,"×")) -> 敗
A11: あ３８ | C11: =IF(A10="","",VLOOKUP(A10,登録No.!$A$3:$N$508,4,FALSE)) -> アビックBB | E11: =IF(A11="","",VLOOKUP(A11,登録No.!$A$3:$N$508,4,FALSE)) -> アビックBB | P11: =IF(G10="","ゲーム取得率",SUM(H10,K10)/SUM(G10:O10)) -> ゲーム取得率 | R11: 順位
C12: 順位決定方法 ①完了試合数 ②勝数 ③直接対決 ④取得ゲーム率（取得ゲーム数/全ゲーム数）
C14: ↓コート・集合時間（ひばり公園ドームB 8：45までに本部に出席を届ける）
C15: リーグ2 | G15: =C16 -> 山口 | H15: ・ | I15: =E16 -> 山口 | J15: =C18 -> 栗田 | K15: ・ | L15: =E18 -> 森 | M15: =C20 -> 川瀬 | N15: ・ | O15: =E20 -> 中村 | P15: 成績／順位
C16: 山口 | E16: =IF(A17="","",VLOOKUP(A17,登録No.!$A$3:$N$508,2,FALSE)) -> 山口 | J16: =IF(K16="","③",IF(K16>L16,"〇","×")) -> ③ | M16: =IF(N16="","②",IF(N16>O16,"〇","×")) -> ② | P16: =IF(K16="","勝",COUNTIF(G16:O16,"〇")) -> 勝 | R16: =IF(K16="","敗",COUNTIF(G16:O16,"×")) -> 敗
A17: け２５ | C17: Ｋテニス | E17: =IF(A17="","",VLOOKUP(A17,登録No.!$A$3:$N$508,4,FALSE)) -> Kテニス | P17: =IF(K16="","ゲーム取得率",SUM(K16,N16)/SUM(G16:O16)) -> ゲーム取得率 | R17: 順位
A18: ふ１７ | C18: =IF(A18="","",VLOOKUP(A18,登録No.!$A$3:$N$508,2,FALSE)) -> 栗田 | E18: =IF(A19="","",VLOOKUP(A19,登録No.!$A$3:$N$508,2,FALSE)) -> 森 | G18: =IF(J16="③","",IF(J16="〇","×","〇")) | H18: =IF(L16="","",L16) | I18: =IF(K16="","",K16) | M18: =IF(N18="","①",IF(N18>O18,"〇","×")) -> ① | P18: =IF(G18="","勝",COUNTIF(G18:O18,"〇")) -> 勝 | R18: =IF(G18="","敗",COUNTIF(G18:O18,"×")) -> 敗
A19: け１６ | C19: =IF(A18="","",VLOOKUP(A18,登録No.!$A$3:$N$508,4,FALSE)) -> フレンズ | E19: =IF(A19="","",VLOOKUP(A19,登録No.!$A$3:$N$508,4,FALSE)) -> Kテニス | P19: =IF(H18="","ゲーム取得率",SUM(H18,N18)/SUM(G18:O18)) -> ゲーム取得率 | R19: 順位
A20: た０１ | C20: =IF(A20="","",VLOOKUP(A20,登録No.!$A$3:$N$508,2,FALSE)) -> 川瀬 | E20: 中村 | G20: =IF(N16="","",IF(M16="〇","×","〇")) | H20: =IF(O16="","",O16) | I20: =IF(N16="","",N16) | J20: =IF(N18="","",IF(M18="〇","×","〇")) | K20: =IF(O18="","",O18) | L20: =IF(N18="","",N18) | P20: =IF(G20="","勝",COUNTIF(G20:O20,"〇")) -> 勝 | R20: =IF(G20="","敗",COUNTIF(G20:O20,"×")) -> 敗
A21: た１５ | C21: =IF(A20="","",VLOOKUP(A20,登録No.!$A$3:$N$508,4,FALSE)) -> 建部TC | E21: 建部TC | P21: =IF(G20="","ゲーム取得率",SUM(H20,K20)/SUM(G20:O20)) -> ゲーム取得率 | R21: 順位
C22: 順位決定方法 ①完了試合数 ②勝数 ③直接対決 ④取得ゲーム率（取得ゲーム数/全ゲーム数）
C24: 決勝トーナメント
C25: リーグ1・1位 | J25: 勝者 | P25: リーグ2・1位
J26: 結果
F29: 試合順 | H29: 勝者 | L29: 勝者 | N29: 試合順
H30: 結果 | L30: 結果
C33: リーグ2・2位 | P33: リーグ1・2位
C38: コンソレーション
C40: リーグ1・3位
F44: 試合順 | H44: 勝者
H45: 結果
C48: リーグ2・2位
A62: ↑ 印刷範囲 | U62: ↑ 印刷範囲

Sheet 登録No.
B1: ２０２６年度東近江市テニス協会登録ナンバー | I1: 46312
B3: 1 | D3: ４４人
A4: あ０１ | B4: 青木 | C4: 重之 | D4: アビックBB | F4: =A4 -> あ０１ | G4: =B4&C4 -> 青木重之 | H4: =D4 -> アビックBB | I4: 男 | J4: 1971 | K4: =IF(J4="","",(2026-J4)) -> 55 | L4: =IF(G4="","",IF(COUNTIF($G$4:$G$109,G4)>1,"2重登録","OK")) -> OK | M4: 草津市
A5: あ０２ | B5: 西川 | C5: 昌一 | D5: アビックBB | F5: =A5 -> あ０２ | G5: =B5&C5 -> 西川昌一 | H5: =D5 -> アビックBB | I5: 男 | J5: 1970 | K5: =IF(J5="","",(2026-J5)) -> 56 | L5: =IF(G5="","",IF(COUNTIF($G$4:$G$109,G5)>1,"2重登録","OK")) -> OK | M5: 彦根市
A6: あ０３ | B6: 安達 | C6: 隆一 | D6: アビックBB | F6: =A6 -> あ０３ | G6: =B6&C6 -> 安達隆一 | H6: =D6 -> アビックBB | I6: 男 | J6: 1970 | K6: =IF(J6="","",(2026-J6)) -> 56 | L6: =IF(G6="","",IF(COUNTIF($G$4:$G$109,G6)>1,"2重登録","OK")) -> OK | M6: 甲賀市
A7: あ０４ | B7: 上原 | C7: 義弘 | D7: アビックBB | F7: =A7 -> あ０４ | G7: =B7&C7 -> 上原義弘 | H7: =D7 -> アビックBB | I7: 男 | J7: 1974 | K7: =IF(J7="","",(2026-J7)) -> 52 | L7: =IF(G7="","",IF(COUNTIF($G$4:$G$109,G7)>1,"2重登録","OK")) -> OK | M7: 彦根市
A8: あ０５ | B8: 寺村 | C8: 浩一 | D8: アビックBB | F8: =A8 -> あ０５ | G8: =B8&C8 -> 寺村浩一 | H8: =D8 -> アビックBB | I8: 男 | J8: 1968 | K8: =IF(J8="","",(2026-J8)) -> 58 | L8: =IF(G8="","",IF(COUNTIF($G$4:$G$109,G8)>1,"2重登録","OK")) -> OK | M8: 愛荘町
A9: あ０６ | B9: 平居 | C9: 崇 | D9: アビックBB | F9: =A9 -> あ０６ | G9: =B9&C9 -> 平居崇 | H9: =D9 -> アビックBB | I9: 男 | J9: 1972 | K9: =IF(J9="","",(2026-J9)) -> 54 | L9: =IF(G9="","",IF(COUNTIF($G$4:$G$109,G9)>1,"2重登録","OK")) -> OK | M9: 多賀町
A10: あ０７ | B10: 大林 | C10: 弘典 | D10: アビックBB | F10: =A10 -> あ０７ | G10: =B10&C10 -> 大林弘典 | H10: =D10 -> アビックBB | I10: 男 | J10: 1989 | K10: =IF(J10="","",(2026-J10)) -> 37 | L10: =IF(G10="","",IF(COUNTIF($G$4:$G$109,G10)>1,"2重登録","OK")) -> OK | M10: 長浜市
A11: あ０８ | B11: 福嶋 | C11: 亮 | D11: アビックBB | F11: =A11 -> あ０８ | G11: =B11&C11 -> 福嶋亮 | H11: =D11 -> アビックBB | I11: 男 | J11: 1961 | K11: =IF(J11="","",(2026-J11)) -> 65 | L11: =IF(G11="","",IF(COUNTIF($G$4:$G$109,G11)>1,"2重登録","OK")) -> OK | M11: 岐阜県
A12: あ０９ | B12: 落合 | C12: 良弘 | D12: アビックBB | F12: =A12 -> あ０９ | G12: =B12&C12 -> 落合良弘 | H12: =D12 -> アビックBB | I12: 男 | J12: 1968 | K12: =IF(J12="","",(2026-J12)) -> 58 | L12: =IF(G12="","",IF(COUNTIF($G$4:$G$109,G12)>1,"2重登録","OK")) -> OK | M12: 長浜市
A13: あ１０ | B13: 松井 | C13: 傳樹 | D13: アビックBB | F13: =A13 -> あ１０ | G13: =B13&C13 -> 松井傳樹 | H13: =D13 -> アビックBB | I13: 男 | J13: 1987 | K13: =IF(J13="","",(2026-J13)) -> 39 | L13: =IF(G13="","",IF(COUNTIF($G$4:$G$109,G13)>1,"2重登録","OK")) -> OK | M13: 彦根市
A14: あ１１ | B14: 長谷川 | C14: 優 | D14: アビックBB | F14: =A14 -> あ１１ | G14: =B14&C14 -> 長谷川優 | H14: =D14 -> アビックBB | I14: 男 | J14: 1973 | K14: =IF(J14="","",(2026-J14)) -> 53 | L14: =IF(G14="","",IF(COUNTIF($G$4:$G$109,G14)>1,"2重登録","OK")) -> OK | M14: 甲賀市
A15: あ１２ | B15: 草野 | C15: 活地 | D15: アビックBB | F15: =A15 -> あ１２ | G15: =B15&C15 -> 草野活地 | H15: =D15 -> アビックBB | I15: 男 | J15: 1974 | K15: =IF(J15="","",(2026-J15)) -> 52 | L15: =IF(G15="","",IF(COUNTIF($G$4:$G$109,G15)>1,"2重登録","OK")) -> OK | M15: 草津市
... A23: あ２０ | B23: 坪井 | C23: 徳寿 | D23: アビックBB | F23: =A23 -> あ２０ | G23: =B23&C23 -> 坪井徳寿 | H23: =D23 -> アビックBB | I23: 男 | J23: 1979 | K23: =IF(J23="","",(2026-J23)) -> 47 | L23: =IF(G23="","",IF(COUNTIF($G$4:$G$109,G23)>1,"2重登録","OK")) -> OK | M23: 草津市
A24: あ２１ | B24: 辻村 | C24: 惣一 | D24: アビックBB | E24: ｓｅ | F24: =A24 -> あ２１ | G24: =B24&C24 -> 辻村惣一 | H24: =D24 -> アビックBB | I24: 男 | J24: 1953 | K24: =IF(J24="","",(2026-J24)) -> 73 | L24: =IF(G24="","",IF(COUNTIF($G$4:$G$109,G24)>1,"2重登録","OK")) -> OK | M24: 長浜市
A25: あ２２ | B25: 槇田 | C25: 学 | D25: アビックBB | F25: =A25 -> あ２２ | G25: =B25&C25 -> 槇田学 | H25: =D25 -> アビックBB | I25: 男 | J25: 1965 | K25: =IF(J25="","",(2026-J25)) -> 61 | L25: =IF(G25="","",IF(COUNTIF($G$4:$G$109,G25)>1,"2重登録","OK")) -> OK | M25: 彦根市
A26: あ２３ | B26: 武久 | C26: 真也 | D26: アビックBB | F26: =A26 -> あ２３ | G26: =B26&C26 -> 武久真也 | H26: =D26 -> アビックBB | I26: 男 | J26: 1982 | K26: =IF(J26="","",(2026-J26)) -> 44 | L26: =IF(G26="","",IF(COUNTIF($G$4:$G$109,G26)>1,"2重登録","OK")) -> OK | M26: 近江八幡市
A27: あ２４ | B27: 大脇 | C27: 和世 | D27: アビックBB | F27: =A27 -> あ２４ | G27: =B27&C27 -> 大脇和世 | H27: =D27 -> アビックBB | I27: 女 | J27: 1970 | K27: =IF(J27="","",(2026-J27)) -> 56 | L27: =IF(G27="","",IF(COUNTIF($G$4:$G$109,G27)>1,"2重登録","OK")) -> OK | M27: 愛荘町
A28: あ２５ | B28: 西山 | C28: 抄千代 | D28: アビックBB | F28: =A28 -> あ２５ | G28: =B28&C28 -> 西山抄千代 | H28: =D28 -> アビックBB | I28: 女 | J28: 1972 | K28: =IF(J28="","",(2026-J28)) -> 54 | L28: =IF(G28="","",IF(COUNTIF($G$4:$G$109,G28)>1,"2重登録","OK")) -> OK | M28: 米原市
A29: あ２６ | B29: 齋田 | C29: 優子 | D29: アビックBB | F29: =A29 -> あ２６ | G29: =B29&C29 -> 齋田優子 | H29: =D29 -> アビックBB | I29: 女 | J29: 1983 | K29: =IF(J29="","",(2026-J29)) -> 43 | L29: =IF(G29="","",IF(COUNTIF($G$4:$G$109,G29)>1,"2重登録","OK")) -> OK | M29: 長浜市
A30: あ２７ | B30: 中村 | C30: 紗映子 | D30: アビックBB | F30: =A30 -> あ２７ | G30: =B30&C30 -> 中村紗映子 | H30: =D30 -> アビックBB | I30: 女 | J30: 1983 | K30: =IF(J30="","",(2026-J30)) -> 43 | L30: =IF(G30="","",IF(COUNTIF($G$4:$G$109,G30)>1,"2重登録","OK")) -> OK | M30: 長浜市
A31: あ２８ | B31: 松本 | C31: 光美 | D31: アビックBB | F31: =A31 -> あ２８ | G31: =B31&C31 -> 松本光美 | H31: =D31 -> アビックBB | I31: 女 | J31: 1971 | K31: =IF(J31="","",(2026-J31)) -> 55 | L31: =IF(G31="","",IF(COUNTIF($G$4:$G$109,G31)>1,"2重登録","OK")) -> OK | M31: 草津市
A32: あ２９ | B32: 堅田 | C32: 瑞木 | D32: アビックBB | F32: =A32 -> あ２９ | G32: =B32&C32 -> 堅田瑞木 | H32: =D32 -> アビックBB | I32: 女 | J32: 1996 | K32: =IF(J32="","",(2026-J32)) -> 30 | L32: =IF(G32="","",IF(COUNTIF($G$4:$G$109,G32)>1,"2重登録","OK")) -> OK | M32: 京都府
A33: あ３０ | B33: 堀田 | C33: 明子 | D33: アビックBB | F33: =A33 -> あ３０ | G33: =B33&C33 -> 堀田明子 | H33: =D33 -> アビックBB | I33: 女 | J33: 1970 | K33: =IF(J33="","",(2026-J33)) -> 56 | L33: =IF(G33="","",IF(COUNTIF($G$4:$G$109,G33)>1,"2重登録","OK")) -> OK | M33: 東近江市
A34: あ３１ | B34: 佐野 | C34: 直美 | D34: アビックBB | F34: =A34 -> あ３１ | G34: =B34&C34 -> 佐野直美 | H34: =D34 -> アビックBB | I34: 女 | J34: 1975 | K34: =IF(J34="","",(2026-J34)) -> 51 | L34: =IF(G34="","",IF(COUNTIF($G$4:$G$109,G34)>1,"2重登録","OK")) -> OK | M34: 京都府
A35: あ３２ | B35: 千代 | C35: 美由紀 | D35: アビックBB | F35: =A35 -> あ３２ | G35: =B35&C35 -> 千代美由紀 | H35: =D35 -> アビックBB | I35: 女 | J35: 1972 | K35: =IF(J35="","",(2026-J35)) -> 54 | L35: =IF(G35="","",IF(COUNTIF($G$4:$G$109,G35)>1,"2重登録","OK")) -> OK | M35: 京都府
A36: あ３３ | B36: 小西 | C36: 由美子 | D36: アビックBB | F36: =A36 -> あ３３ | G36: =B36&C36 -> 小西由美子 | H36: =D36 -> アビックBB | I36: 女 | J36: 1968 | K36: =IF(J36="","",(2026-J36)) -> 58 | L36: =IF(G36="","",IF(COUNTIF($G$4:$G$109,G36)>1,"2重登録","OK")) -> OK | M36: 近江八幡市
... A47: あ４４ | B47: 長瀬 | C47: 圭音 | D47: アビックBB | F47: =A47 -> あ４４ | G47: =B47&C47 -> 長瀬圭音 | H47: =D47 -> アビックBB | I47: 女 | J47: 2007 | K47: =IF(J47="","",(2026-J47)) -> 19 | L47: =IF(G47="","",IF(COUNTIF($G$4:$G$109,G47)>1,"2重登録","OK")) -> OK | M47: 東近江市
B48: 2 | D48: ３３人 | K48: =IF(J48="","",(2026-J48))
A49: あぷ０１ | B49: 杉山 | C49: 邦夫 | D49: アプストTC | E49: ｓｅ | F49: =A49 -> あぷ０１ | G49: =B49&C49 -> 杉山邦夫 | H49: =D49 -> アプストTC | I49: 男 | J49: 1950 | K49: =IF(J49="","",(2026-J49)) -> 76 | L49: =IF(G49="","",IF(COUNTIF($G$4:$G$117,G49)>1,"2重登録","OK")) -> OK | M49: 多賀町
A50: あぷ０２ | B50: 川上 | C50: 英二 | D50: アプストTC | F50: =A50 -> あぷ０２ | G50: =B50&C50 -> 川上英二 | H50: =D50 -> アプストTC | I50: 男 | J50: 1963 | K50: =IF(J50="","",(2026-J50)) -> 63 | L50: =IF(G50="","",IF(COUNTIF($G$4:$G$117,G50)>1,"2重登録","OK")) -> OK | M50: 東近江市
A51: あぷ０３ | B51: 浅田 | C51: 隆昭 | D51: アプストTC | F51: =A51 -> あぷ０３ | G51: =B51&C51 -> 浅田隆昭 | H51: =D51 -> アプストTC | I51: 男 | J51: 1964 | K51: =IF(J51="","",(2026-J51)) -> 62 | L51: =IF(G51="","",IF(COUNTIF($G$4:$G$117,G51)>1,"2重登録","OK")) -> OK | M51: 守山市
A52: あぷ０４ | B52: 森永 | C52: 洋介 | D52: アプストTC | F52: =A52 -> あぷ０４ | G52: =B52&C52 -> 森永洋介 | H52: =D52 -> アプストTC | I52: 男 | J52: 1986 | K52: =IF(J52="","",(2026-J52)) -> 40 | L52: =IF(G52="","",IF(COUNTIF($G$4:$G$117,G52)>1,"2重登録","OK")) -> OK | M52: 近江八幡市
A53: あぷ０５ | B53: 辰巳 | C53: 悟朗 | D53: アプストTC | F53: =A53 -> あぷ０５ | G53: =B53&C53 -> 辰巳悟朗 | H53: =D53 -> アプストTC | I53: 男 | J53: 1974 | K53: =IF(J53="","",(2026-J53)) -> 52 | L53: =IF(G53="","",IF(COUNTIF($G$4:$G$117,G53)>1,"2重登録","OK")) -> OK | M53: 彦根市
A54: あぷ０６ | B54: 川上 | C54: 美弥子 | D54: アプストTC | F54: =A54 -> あぷ０６ | G54: =B54&C54 -> 川上美弥子 | H54: =D54 -> アプストTC | I54: 女 | J54: 1971 | K54: =IF(J54="","",(2026-J54)) -> 55 | L54: =IF(G54="","",IF(COUNTIF($G$4:$G$117,G54)>1,"2重登録","OK")) -> OK | M54: 東近江市
A55: あぷ０７ | B55: 山内 | C55: 雄平 | D55: アプストTC | F55: =A55 -> あぷ０７ | G55: =B55&C55 -> 山内雄平 | H55: =D55 -> アプストTC | I55: 男 | J55: 1989 | K55: =IF(J55="","",(2026-J55)) -> 37 | L55: =IF(G55="","",IF(COUNTIF($G$4:$G$117,G55)>1,"2重登録","OK")) -> OK | M55: 東近江市
A56: あぷ０８ | B56: 木村 | C56: 美香 | D56: アプストTC | F56: =A56 -> あぷ０８ | G56: =B56&C56 -> 木村美香 | H56: =D56 -> アプストTC | I56: 女 | J56: 1962 | K56: =IF(J56="","",(2026-J56)) -> 64 | L56: =IF(G56="","",IF(COUNTIF($G$4:$G$117,G56)>1,"2重登録","OK")) -> OK | M56: 米原市
A57: あぷ０９ | B57: 日高 | C57: 眞規子 | D57: アプストTC | F57: =A57 -> あぷ０９ | G57: =B57&C57 -> 日高眞規子 | H57: =D57 -> アプストTC | I57: 女 | J57: 1963 | K57: =IF(J57="","",(2026-J57)) -> 63 | L57: =IF(G57="","",IF(COUNTIF($G$4:$G$117,G57)>1,"2重登録","OK")) -> OK | M57: 長浜市
A58: あぷ１０ | B58: 長谷出 | C58: 浩 | D58: アプストTC | F58: =A58 -> あぷ１０ | G58: =B58&C58 -> 長谷出浩 | H58: =D58 -> アプストTC | I58: 男 | J58: 1960 | K58: =IF(J58="","",(2026-J58)) -> 66 | L58: =IF(G58="","",IF(COUNTIF($G$4:$G$117,G58)>1,"2重登録","OK")) -> OK | M58: 東近江市
A59: あぷ１１ | B59: 奥田 | C59: 純也 | D59: アプストTC | F59: =A59 -> あぷ１１ | G59: =B59&C59 -> 奥田純也 | H59: =D59 -> アプストTC | I59: 男 | J59: 1963 | K59: =IF(J59="","",(2026-J59)) -> 63 | L59: =IF(G59="","",IF(COUNTIF($G$4:$G$117,G59)>1,"2重登録","OK")) -> OK | M59: 東近江市
A60: あぷ１２ | B60: 村田 | C60: 理恵子 | D60: アプストTC | F60: =A60 -> あぷ１２ | G60: =B60&C60 -> 村田理恵子 | H60: =D60 -> アプストTC | I60: 女 | J60: 1979 | K60: =IF(J60="","",(2026-J60)) -> 47 | L60: =IF(G60="","",IF(COUNTIF($G$4:$G$117,G60)>1,"2重登録","OK")) -> OK | M60: 東近江市
A61: あぷ１３ | B61: 東 | C61: 正隆 | D61: アプストTC | F61: =A61 -> あぷ１３ | G61: =B61&C61 -> 東正隆 | H61: =D61 -> アプストTC | I61: 男 | J61: 1965 | K61: =IF(J61="","",(2026-J61)) -> 61 | L61: =IF(G61="","",IF(COUNTIF($G$4:$G$117,G61)>1,"2重登録","OK")) -> OK | M61: 彦根市
... A81: あぷ３３ | B81: 赤木 | C81: 拓 | D81: アプストTC | F81: =A81 -> あぷ３３ | G81: =B81&C81 -> 赤木拓 | H81: =D81 -> アプストTC | I81: 男 | J81: 1979 | K81: =IF(J81="","",(2026-J81)) -> 47 | L81: =IF(G81="","",IF(COUNTIF($G$4:$G$117,G81)>1,"2重登録","OK")) -> OK | M81: 近江八幡市
B82: 3 | D82: ２７人 | H82: =D82 -> ２７人 | K82: =IF(J82="","",(2026-J82))
A83: あん０１ | B83: 上津 | C83: 慶和 | D83: アンヴァース | F83: =A83 -> あん０１ | G83: =B83&C83 -> 上津慶和 | H83: =D83 -> アンヴァース | I83: 男 | J83: 1993 | K83: =IF(J83="","",(2026-J83)) -> 33 | L83: =IF(G83="","",IF(COUNTIF($G$5:$G$625,G83)>1,"2重登録","OK")) -> OK | M83: 大津市
A84: あん０２ | B84: 脇坂 | C84: 和樹 | D84: アンヴァース | F84: =A84 -> あん０２ | G84: =B84&C84 -> 脇坂和樹 | H84: =D84 -> アンヴァース | I84: 男 | J84: 1992 | K84: =IF(J84="","",(2026-J84)) -> 34 | L84: =IF(G84="","",IF(COUNTIF($G$5:$G$625,G84)>1,"2重登録","OK")) -> OK | M84: 彦根市
A85: あん０３ | B85: 小田 | C85: 紀彦 | D85: アンヴァース | F85: =A85 -> あん０３ | G85: =B85&C85 -> 小田紀彦 | H85: =D85 -> アンヴァース | I85: 男 | J85: 1984 | K85: =IF(J85="","",(2026-J85)) -> 42 | L85: =IF(G85="","",IF(COUNTIF($G$5:$G$625,G85)>1,"2重登録","OK")) -> OK | M85: 野洲市
A86: あん０４ | B86: 越智 | C86: 友基 | D86: アンヴァース | F86: =A86 -> あん０４ | G86: =B86&C86 -> 越智友基 | H86: =D86 -> アンヴァース | I86: 男 | J86: 1987 | K86: =IF(J86="","",(2026-J86)) -> 39 | L86: =IF(G86="","",IF(COUNTIF($G$5:$G$625,G86)>1,"2重登録","OK")) -> OK | M86: 野洲市
A87: あん０５ | B87: 辻本 | C87: 将士 | D87: アンヴァース | F87: =A87 -> あん０５ | G87: =B87&C87 -> 辻本将士 | H87: =D87 -> アンヴァース | I87: 男 | J87: 1986 | K87: =IF(J87="","",(2026-J87)) -> 40 | L87: =IF(G87="","",IF(COUNTIF($G$5:$G$625,G87)>1,"2重登録","OK")) -> OK | M87: 東近江市
A88: あん０６ | B88: 津曲 | C88: 崇志 | D88: アンヴァース | F88: =A88 -> あん０６ | G88: =B88&C88 -> 津曲崇志 | H88: =D88 -> アンヴァース | I88: 男 | J88: 1989 | K88: =IF(J88="","",(2026-J88)) -> 37 | L88: =IF(G88="","",IF(COUNTIF($G$5:$G$625,G88)>1,"2重登録","OK")) -> OK | M88: 湖南市
A89: あん０７ | B89: 鍋内 | C89: 雄樹 | D89: アンヴァース | F89: =A89 -> あん０７ | G89: =B89&C89 -> 鍋内雄樹 | H89: =D89 -> アンヴァース | I89: 男 | J89: 1990 | K89: =IF(J89="","",(2026-J89)) -> 36 | L89: =IF(G89="","",IF(COUNTIF($G$5:$G$625,G89)>1,"2重登録","OK")) -> OK | M89: 湖南市
A90: あん０８ | B90: 桐原 | C90: 昇汰 | D90: アンヴァース | F90: =A90 -> あん０８ | G90: =B90&C90 -> 桐原昇汰 | H90: =D90 -> アンヴァース | I90: 男 | J90: 1994 | K90: =IF(J90="","",(2026-J90)) -> 32 | L90: =IF(G90="","",IF(COUNTIF($G$5:$G$625,G90)>1,"2重登録","OK")) -> OK | M90: 守山市
A91: あん０９ | B91: 松村 | C91: 友喜 | D91: アンヴァース | F91: =A91 -> あん０９ | G91: =B91&C91 -> 松村友喜 | H91: =D91 -> アンヴァース | I91: 男 | J91: 1988 | K91: =IF(J91="","",(2026-J91)) -> 38 | L91: =IF(G91="","",IF(COUNTIF($G$5:$G$625,G91)>1,"2重登録","OK")) -> OK | M91: 彦根市
A92: あん１０ | B92: 薮内 | C92: 豪 | D92: アンヴァース | F92: =A92 -> あん１０ | G92: =B92&C92 -> 薮内豪 | H92: =D92 -> アンヴァース | I92: 男 | J92: 1986 | K92: =IF(J92="","",(2026-J92)) -> 40 | L92: =IF(G92="","",IF(COUNTIF($G$5:$G$625,G92)>1,"2重登録","OK")) -> OK | M92: 長浜市
A93: あん１１ | B93: 山田 | C93: 佳明 | D93: アンヴァース | F93: =A93 -> あん１１ | G93: =B93&C93 -> 山田佳明 | H93: =D93 -> アンヴァース | I93: 男 | J93: 1986 | K93: =IF(J93="","",(2026-J93)) -> 40 | L93: =IF(G93="","",IF(COUNTIF($G$5:$G$625,G93)>1,"2重登録","OK")) -> OK | M93: 京都府
A94: あん１２ | B94: 政田 | C94: 秀栄 | D94: アンヴァース | F94: =A94 -> あん１２ | G94: =B94&C94 -> 政田秀栄 | H94: =D94 -> アンヴァース | I94: 男 | J94: 1982 | K94: =IF(J94="","",(2026-J94)) -> 44 | L94: =IF(G94="","",IF(COUNTIF($G$5:$G$625,G94)>1,"2重登録","OK")) -> OK | M94: 栗東市
... A109: あん２７ | B109: 青木 | C109: 奈菜 | D109: アンヴァース | F109: =A109 -> あん２７ | G109: =B109&C109 -> 青木奈菜 | H109: =D109 -> アンヴァース | I109: 女 | J109: 2006 | K109: =IF(J109="","",(2026-J109)) -> 20 | L109: =IF(G109="","",IF(COUNTIF($G$5:$G$625,G109)>1,"2重登録","OK")) -> OK | M109: 岐阜県
B110: 4 | D110: ２９人 | H110: =D110 -> ２９人 | K110: =IF(J110="","",(2026-J110))
A111: け０１ | B111: 稲岡 | C111: 和紀 | D111: Kテニス | F111: =A111 -> け０１ | G111: =B111&C111 -> 稲岡和紀 | H111: Ｋテニスカレッジ | I111: 男 | J111: 1978 | K111: =IF(J111="","",(2026-J111)) -> 48 | L111: =IF(G111="","",IF(COUNTIF($G$4:$G$109,G111)>1,"2重登録","OK")) -> OK | M111: 東近江市
A112: け０２ | B112: 上村 | C112: 武 | D112: Kテニス | F112: =A112 -> け０２ | G112: =B112&C112 -> 上村 武 | H112: Ｋテニスカレッジ | I112: 男 | J112: 1978 | K112: =IF(J112="","",(2026-J112)) -> 48 | L112: =IF(G112="","",IF(COUNTIF($G$4:$G$109,G112)>1,"2重登録","OK")) -> OK | M112: 彦根市
A113: け０３ | B113: 川上 | C113: 悠作 | D113: Kテニス | F113: =A113 -> け０３ | G113: =B113&C113 -> 川上悠作 | H113: Ｋテニスカレッジ | I113: 男 | J113: 2000 | K113: =IF(J113="","",(2026-J113)) -> 26 | L113: =IF(G113="","",IF(COUNTIF($G$4:$G$109,G113)>1,"2重登録","OK")) -> OK | M113: 東近江市
A114: け０４ | B114: 坪田 | C114: 真嘉 | D114: Kテニス | F114: =A114 -> け０４ | G114: =B114&C114 -> 坪田真嘉 | H114: Ｋテニスカレッジ | I114: 男 | J114: 1976 | K114: =IF(J114="","",(2026-J114)) -> 50 | L114: =IF(G114="","",IF(COUNTIF($G$4:$G$109,G114)>1,"2重登録","OK")) -> OK | M114: 東近江市
A115: け０５ | B115: 山口 | C115: 直彦 | D115: Kテニス | F115: =A115 -> け０５ | G115: =B115&C115 -> 山口直彦 | H115: Ｋテニスカレッジ | I115: 男 | J115: 1986 | K115: =IF(J115="","",(2026-J115)) -> 40 | L115: =IF(G115="","",IF(COUNTIF($G$4:$G$109,G115)>1,"2重登録","OK")) -> OK | M115: 東近江市
A116: け０６ | B116: 福永 | C116: 裕美 | D116: Kテニス | F116: =A116 -> け０６ | G116: =B116&C116 -> 福永裕美 | H116: Ｋテニスカレッジ | I116: 女 | J116: 1963 | K116: =IF(J116="","",(2026-J116)) -> 63 | L116: =IF(G116="","",IF(COUNTIF($G$4:$G$109,G116)>1,"2重登録","OK")) -> OK | M116: 東近江市
A117: け０７ | B117: 福永 | C117: 一典 | D117: Kテニス | F117: =A117 -> け０７ | G117: =B117&C117 -> 福永一典 | H117: Ｋテニスカレッジ | I117: 男 | J117: 1967 | K117: =IF(J117="","",(2026-J117)) -> 59 | L117: =IF(G117="","",IF(COUNTIF($G$4:$G$109,G117)>1,"2重登録","OK")) -> OK | M117: 近江八幡市
A118: け０８ | B118: 小澤 | C118: 藤信 | D118: Kテニス | F118: =A118 -> け０８ | G118: =B118&C118 -> 小澤藤信 | H118: Ｋテニスカレッジ | I118: 男 | J118: 1964 | K118: =IF(J118="","",(2026-J118)) -> 62 | L118: =IF(G118="","",IF(COUNTIF($G$4:$G$109,G118)>1,"2重登録","OK")) -> OK | M118: 彦根市
A119: け０９ | B119: 朝日 | C119: 尚紀 | D119: Kテニス | F119: =A119 -> け０９ | G119: =B119&C119 -> 朝日尚紀 | H119: Ｋテニスカレッジ | I119: 男 | J119: 1983 | K119: =IF(J119="","",(2026-J119)) -> 43 | L119: =IF(G119="","",IF(COUNTIF($G$4:$G$109,G119)>1,"2重登録","OK")) -> OK | M119: 三重県
A120: け１０ | B120: 朝日 | C120: 智美 | D120: Kテニス | F120: =A120 -> け１０ | G120: =B120&C120 -> 朝日智美 | H120: Ｋテニスカレッジ | I120: 女 | J120: 1983 | K120: =IF(J120="","",(2026-J120)) -> 43 | L120: =IF(G120="","",IF(COUNTIF($G$4:$G$109,G120)>1,"2重登録","OK")) -> OK | M120: 三重県
A121: け１１ | B121: 本多 | C121: 勇輝 | D121: Kテニス | F121: =A121 -> け１１ | G121: =B121&C121 -> 本多勇輝 | H121: Ｋテニスカレッジ | I121: 男 | J121: 1989 | K121: =IF(J121="","",(2026-J121)) -> 37 | L121: =IF(G121="","",IF(COUNTIF($G$4:$G$109,G121)>1,"2重登録","OK")) -> OK | M121: 守山市
A122: け１２ | B122: 堤 | C122: 泰彦 | D122: Kテニス | F122: =A122 -> け１２ | G122: =B122&C122 -> 堤泰彦 | H122: Ｋテニスカレッジ | I122: 男 | J122: 1987 | K122: =IF(J122="","",(2026-J122)) -> 39 | L122: =IF(G122="","",IF(COUNTIF($G$4:$G$109,G122)>1,"2重登録","OK")) -> OK | M122: 東近江市
... A134: け２４ | B134: 中島 | C134: 康之 | D134: Kテニス | F134: =A134 -> け２４ | G134: =B134&C134 -> 中島康之 | H134: Ｋテニスカレッジ | I134: 男 | J134: 1980 | K134: =IF(J134="","",(2026-J134)) -> 46 | L134: =IF(G134="","",IF(COUNTIF($G$4:$G$109,G134)>1,"2重登録","OK")) -> OK | M134: 東近江市
A135: け２５ | B135: 山口 | C135: 希子 | D135: Kテニス | E135: ｊｒ | F135: =A135 -> け２５ | G135: =B135&C135 -> 山口希子 | H135: Ｋテニスカレッジ | I135: 女 | J135: 2014 | K135: =IF(J135="","",(2026-J135)) -> 12 | L135: =IF(G135="","",IF(COUNTIF($G$4:$G$109,G135)>1,"2重登録","OK")) -> OK | M135: 東近江市
A136: け２６ | B136: 𠮷越 | C136: 洋一 | D136: Kテニス | F136: =A136 -> け２６ | G136: =B136&C136 -> 𠮷越洋一 | H136: Ｋテニスカレッジ | I136: 男 | J136: 1977 | K136: =IF(J136="","",(2026-J136)) -> 49 | L136: =IF(G136="","",IF(COUNTIF($G$4:$G$109,G136)>1,"2重登録","OK")) -> OK | M136: 大阪府
A137: け２７ | B137: 稲岡 | C137: 沙良 | D137: Kテニス | E137: ｊｒ | F137: =A137 -> け２７ | G137: =B137&C137 -> 稲岡沙良 | H137: Ｋテニスカレッジ | I137: 女 | J137: 2012 | K137: =IF(J137="","",(2026-J137)) -> 14 | L137: =IF(G137="","",IF(COUNTIF($G$4:$G$109,G137)>1,"2重登録","OK")) -> OK | M137: 東近江市
A138: け２８ | B138: 大橋 | C138: 凛斗 | D138: Kテニス | E138: ｊｒ | F138: =A138 -> け２８ | G138: =B138&C138 -> 大橋凛斗 | H138: Ｋテニスカレッジ | I138: 男 | J138: 2015 | K138: =IF(J138="","",(2026-J138)) -> 11 | L138: =IF(G138="","",IF(COUNTIF($G$4:$G$109,G138)>1,"2重登録","OK")) -> OK | M138: 栗東市
A139: け２９ | B139: 岡本 | C139: 隆之介 | D139: Kテニス | E139: ｊｒ | F139: =A139 -> け２９ | G139: =B139&C139 -> 岡本隆之介 | H139: Ｋテニスカレッジ | I139: 男 | J139: 2015 | K139: =IF(J139="","",(2026-J139)) -> 11 | L139: =IF(G139="","",IF(COUNTIF($G$4:$G$109,G139)>1,"2重登録","OK")) -> OK | M139: 大津市
B140: 5 | D140: ３４人 | K140: =IF(J140="","",(2026-J140))
A141: き０１ | B141: 荒浪 | C141: 順次 | D141: 京セラTC | F141: =A141 -> き０１ | G141: =B141&C141 -> 荒浪順次 | H141: =D141 -> 京セラTC | I141: 男 | J141: 1977 | K141: =IF(J141="","",(2026-J141)) -> 49 | L141: =IF(G141="","",IF(COUNTIF($G$4:$G$109,G141)>1,"2重登録","OK")) -> OK | M141: 大津市
A142: き０２ | B142: 井澤 | C142: 匡志 | D142: 京セラTC | F142: =A142 -> き０２ | G142: =B142&C142 -> 井澤 匡志 | H142: =D142 -> 京セラTC | I142: 男 | J142: 1967 | K142: =IF(J142="","",(2026-J142)) -> 59 | L142: =IF(G142="","",IF(COUNTIF($G$4:$G$109,G142)>1,"2重登録","OK")) -> OK | M142: 東近江市
A143: き０３ | B143: 石井 | C143: 耶真斗 | D143: 京セラTC | F143: =A143 -> き０３ | G143: =B143&C143 -> 石井耶真斗 | H143: =D143 -> 京セラTC | I143: 男 | J143: 1995 | K143: =IF(J143="","",(2026-J143)) -> 31 | L143: =IF(G143="","",IF(COUNTIF($G$4:$G$109,G143)>1,"2重登録","OK")) -> OK | M143: 東近江市
A144: き０４ | B144: 石川 | C144: 和洋 | D144: 京セラTC | F144: =A144 -> き０４ | G144: =B144&C144 -> 石川和洋 | H144: =D144 -> 京セラTC | I144: 男 | J144: 1978 | K144: =IF(J144="","",(2026-J144)) -> 48 | L144: =IF(G144="","",IF(COUNTIF($G$4:$G$109,G144)>1,"2重登録","OK")) -> OK | M144: 竜王町
A145: き０５ | B145: 石田 | C145: 文彦 | D145: 京セラTC | F145: =A145 -> き０５ | G145: =B145&C145 -> 石田文彦 | H145: =D145 -> 京セラTC | I145: 男 | J145: 1993 | K145: =IF(J145="","",(2026-J145)) -> 33 | L145: =IF(G145="","",IF(COUNTIF($G$4:$G$109,G145)>1,"2重登録","OK")) -> OK | M145: 近江八幡市
A146: き０６ | B146: 一色 | C146: 翼 | D146: 京セラTC | F146: =A146 -> き０６ | G146: =B146&C146 -> 一色翼 | H146: =D146 -> 京セラTC | I146: 男 | J146: 1984 | K146: =IF(J146="","",(2026-J146)) -> 42 | L146: =IF(G146="","",IF(COUNTIF($G$4:$G$109,G146)>1,"2重登録","OK")) -> OK | M146: 東近江市
A147: き０７ | B147: 牛尾 | C147: 紳之介 | D147: 京セラTC | F147: =A147 -> き０７ | G147: =B147&C147 -> 牛尾紳之介 | H147: =D147 -> 京セラTC | I147: 男 | J147: 1984 | K147: =IF(J147="","",(2026-J147)) -> 42 | L147: =IF(G147="","",IF(COUNTIF($G$4:$G$109,G147)>1,"2重登録","OK")) -> OK | M147: 東近江市
A148: き０８ | B148: 太田 | C148: 圭亮 | D148: 京セラTC | F148: =A148 -> き０８ | G148: =B148&C148 -> 太田圭亮 | H148: =D148 -> 京セラTC | I148: 男 | J148: 1981 | K148: =IF(J148="","",(2026-J148)) -> 45 | L148: =IF(G148="","",IF(COUNTIF($G$4:$G$109,G148)>1,"2重登録","OK")) -> OK | M148: 近江八幡市
A149: き０９ | B149: 奥田 | C149: 司 | D149: 京セラTC | F149: =A149 -> き０９ | G149: =B149&C149 -> 奥田司 | H149: =D149 -> 京セラTC | I149: 男 | J149: 1997 | K149: =IF(J149="","",(2026-J149)) -> 29 | L149: =IF(G149="","",IF(COUNTIF($G$4:$G$109,G149)>1,"2重登録","OK")) -> OK | M149: 東近江市
A150: き１０ | B150: 木村 | C150: 圭 | D150: 京セラTC | F150: =A150 -> き１０ | G150: =B150&C150 -> 木村圭 | H150: =D150 -> 京セラTC | I150: 男 | J150: 1968 | K150: =IF(J150="","",(2026-J150)) -> 58 | L150: =IF(G150="","",IF(COUNTIF($G$4:$G$109,G150)>1,"2重登録","OK")) -> OK | M150: 大津市
A151: き１１ | B151: 栗山 | C151: 飛鳥 | D151: 京セラTC | F151: =A151 -> き１１ | G151: =B151&C151 -> 栗山飛鳥 | H151: =D151 -> 京セラTC | I151: 男 | J151: 1997 | K151: =IF(J151="","",(2026-J151)) -> 29 | L151: =IF(G151="","",IF(COUNTIF($G$4:$G$109,G151)>1,"2重登録","OK")) -> OK | M151: 東近江市
A152: き１２ | B152: 清水 | C152: 陽介 | D152: 京セラTC | F152: =A152 -> き１２ | G152: =B152&C152 -> 清水陽介 | H152: =D152 -> 京セラTC | I152: 男 | J152: 1991 | K152: =IF(J152="","",(2026-J152)) -> 35 | L152: =IF(G152="","",IF(COUNTIF($G$4:$G$109,G152)>1,"2重登録","OK")) -> OK | M152: 守山市
... A175: き３５ | B175: 岩本 | C175: 祥平 | D175: 京セラTC | F175: =A175 -> き３５ | G175: =B175&C175 -> 岩本祥平 | H175: =D175 -> 京セラTC | I175: 男 | J175: 1983 | K175: =IF(J175="","",(2026-J175)) -> 43 | L175: =IF(G175="","",IF(COUNTIF($G$4:$G$109,G175)>1,"2重登録","OK")) -> OK | M175: 草津市
A176: き３６ | B176: 曽我 | C176: 優斗 | D176: 京セラTC | E176: ｊｒ | F176: =A176 -> き３６ | G176: =B176&C176 -> 曽我優斗 | H176: =D176 -> 京セラTC | I176: 男 | J176: 2014 | K176: =IF(J176="","",(2026-J176)) -> 12 | L176: =IF(G176="","",IF(COUNTIF($G$4:$G$109,G176)>1,"2重登録","OK")) -> OK | M176: 東近江市
B177: 6 | D177: ４１人 | H177: =D177 -> ４１人 | K177: =IF(J177="","",(2026-J177)) | L177: =IF(G177="","",IF(COUNTIF($G$5:$G$700,G177)>1,"2重登録","OK"))
A178: ぐ０１ | B178: 鍵谷 | C178: 浩太 | D178: グリフィンズ | F178: =A178 -> ぐ０１ | G178: =B178&C178 -> 鍵谷浩太 | H178: 東近江グリフィンズ | I178: 男 | J178: 1991 | K178: =IF(J178="","",(2026-J178)) -> 35 | L178: =IF(G178="","",IF(COUNTIF($G$5:$G$700,G178)>1,"2重登録","OK")) -> OK | M178: 彦根市
A179: ぐ０２ | B179: 中西 | C179: 泰輝 | D179: グリフィンズ | F179: =A179 -> ぐ０２ | G179: =B179&C179 -> 中西泰輝 | H179: 東近江グリフィンズ | I179: 男 | J179: 1992 | K179: =IF(J179="","",(2026-J179)) -> 34 | L179: =IF(G179="","",IF(COUNTIF($G$5:$G$700,G179)>1,"2重登録","OK")) -> OK | M179: 守山市
A180: ぐ０３ | B180: 井ノ口 | C180: 幹也 | D180: グリフィンズ | F180: =A180 -> ぐ０３ | G180: =B180&C180 -> 井ノ口幹也 | H180: 東近江グリフィンズ | I180: 男 | J180: 1990 | K180: =IF(J180="","",(2026-J180)) -> 36 | L180: =IF(G180="","",IF(COUNTIF($G$5:$G$700,G180)>1,"2重登録","OK")) -> OK | M180: 東近江市
A181: ぐ０４ | B181: 久保村 | C181: 悠史 | D181: グリフィンズ | F181: =A181 -> ぐ０４ | G181: =B181&C181 -> 久保村悠史 | H181: 東近江グリフィンズ | I181: 男 | J181: 1990 | K181: =IF(J181="","",(2026-J181)) -> 36 | L181: =IF(G181="","",IF(COUNTIF($G$5:$G$700,G181)>1,"2重登録","OK")) -> OK | M181: 京都府
A182: ぐ０５ | B182: 漆原 | C182: 大介 | D182: グリフィンズ | F182: =A182 -> ぐ０５ | G182: =B182&C182 -> 漆原大介 | H182: 東近江グリフィンズ | I182: 男 | J182: 1988 | K182: =IF(J182="","",(2026-J182)) -> 38 | L182: =IF(G182="","",IF(COUNTIF($G$5:$G$700,G182)>1,"2重登録","OK")) -> OK | M182: 彦根市
A183: ぐ０６ | B183: 土田 | C183: 哲也 | D183: グリフィンズ | F183: =A183 -> ぐ０６ | G183: =B183&C183 -> 土田哲也 | H183: 東近江グリフィンズ | I183: 男 | J183: 1990 | K183: =IF(J183="","",(2026-J183)) -> 36 | L183: =IF(G183="","",IF(COUNTIF($G$5:$G$700,G183)>1,"2重登録","OK")) -> OK | M183: 長浜市
A184: ぐ０７ | B184: 金谷 | C184: 太郎 | D184: グリフィンズ | F184: =A184 -> ぐ０７ | G184: =B184&C184 -> 金谷太郎 | H184: 東近江グリフィンズ | I184: 男 | J184: 1976 | K184: =IF(J184="","",(2026-J184)) -> 50 | L184: =IF(G184="","",IF(COUNTIF($G$5:$G$700,G184)>1,"2重登録","OK")) -> OK | M184: 彦根市
...
