Workbook

Sheet OOP
A1: オーダーオブプレイ
B2: ひばり公園 | H2: すこやかの杜
B3: 外A | C3: 外B | D3: 外C | E3: 外D | F3: ドームA | G3: ドームB | H3: 駐車場側 | I3: 奥側
A4: 0.375 | B4: 男A_1 | C4: 男A_2 | D4: 男B_リーグ1-1 | E4: 男B_リーグ2-1 | F4: 女A_リーグ-1 | G4: 女BC_リーグ1-1 | H4: 男OV_リーグ1-1 | I4: 男OV_リーグ2-1
A5: 0.39583333 | B5: 男A_3 | C5: 男A_4 | D5: 男C_リーグ-1 | E5: 男B_リーグ2-2 | F5: 女A_リーグ-2 | G5: 女BC_リーグ2-1 | H5: 男OV_リーグ1-2 | I5: 男OV_リーグ2-2
A6: 0.41666667 | B6: 男A_5 | C6: 男A_6 | D6: 男B_リーグ1-2 | E6: 男B_リーグ2-3 | F6: 女A_リーグ-3 | G6: 女BC_リーグ1-2 | H6: 男OV_リーグ1-3 | I6: 男OV_リーグ2-3
A7: 0.4375 | B7: 男A_7 | C7: 男A_8 | D7: 男C_リーグ-2 | E7: 男B_リーグ2-4 | F7: 女A_リーグ-4 | G7: 女BC_リーグ2-2 | H7: 男OV決勝T-1 | I7: 男OV決勝T-2
A8: 0.45833333 | B8: 男A_9 | C8: 男A_10 | D8: 男B_リーグ1-3 | E8: 男B_リーグ2-5 | F8: 女A_リーグ-5 | G8: 女BC_リーグ1-3 | H8: 男OV決勝 | I8: 男子コンソレ
A9: 0.47916667 | B9: 男A_11 | C9: 男A_12 | D9: 男C_リーグ-3 | E9: 男B_リーグ2-6 | F9: 女A_リーグ-6 | G9: 女BC_リーグ2-3 | H9: 男OV３決
A10: 0.5 | B10: 男A_13 | C10: 男A_14 | D10: 男B決勝T-1 | E10: 男B決勝T-2 | F10: 女BC決勝T-1 | G10: 女BC決勝T-2
A11: 0.52083333 | B11: 男A_15 | D11: 男B決勝 | E11: 男子Bコンソレ1 | F11: 女BC決勝 | G11: 女BCコンソレ
A12: 0.54166667 | D12: 男B３決 | E12: 男子Bコンソレ2 | G12: 女BC３決
A13: 0.5625 | E13: 男子Bコンソレ3
A14: 0.58333333
A15: 0.60416667
A16: 0.625
A17: 0.64583333
A18: 0.66666667
A19: 0.6875
A20: 0.70833333
A21: 0.72916667
A22: 0.75

Sheet 男子A
C1: 第22回 東近江市秋季ダブルス大会
A2: 男子A級 | J2: 試合形式（1セットマッチ（６－６タイブレーク）ノーアド方式）
C4: ↓コート・集合時間（ひばり公園 外AB 8：45までに本部に出席を届ける）
A5: 6人リーグ | C5: リーグ | G5: =C6 -> 山口 | H5: ・ | I5: =E6 -> 新谷 | J5: =C8 -> 齊田 | K5: ・ | L5: =E8 -> 生田 | M5: =C10 -> 岡 | N5: ・ | O5: =E10 -> 三箇 | P5: =C12 -> 牛道 | Q5: ・ | R5: =E12 -> 竹田 | S5: =C14 -> 澁谷 | T5: ・ | U5: =E14 -> 門根 | V5: =C14 -> 澁谷 | W5: ・ | X5: =E14 -> 門根 | Y5: 成績／順位
A6: け０５ | C6: =IF(A6="","",VLOOKUP(A6,登録No.!$A$3:$N$508,2,FALSE)) -> 山口 | E6: =IF(A7="","",VLOOKUP(A7,登録No.!$A$3:$N$508,2,FALSE)) -> 新谷 | J6: =IF(K6="","①",IF(K6>L6,"〇","×")) -> ① | M6: ④ | P6: ⑦ | S6: ⑩ | V6: ⑮ | Y6: =IF(K6="","勝",COUNTIF(J6:U6,"〇")) -> 勝 | AA6: =IF(K6="","敗",COUNTIF(J6:U6,"×")) -> 敗
A7: け１３ | C7: =IF(A6="","",VLOOKUP(A6,登録No.!$A$3:$N$508,4,FALSE)) -> Kテニス | E7: =IF(A7="","",VLOOKUP(A7,登録No.!$A$3:$N$508,4,FALSE)) -> Kテニス | Y7: =IF(N6="","ゲーム取得率",SUM(K6,N6,Q6,T6)/SUM(J6:U6)) -> ゲーム取得率 | AA7: 順位
C8: 齊田 | E8: 生田 | G8: =IF(K6="","",IF(J6="〇","×","〇")) | H8: =IF(L6="","",L6) | I8: =IF(K6="","",K6) | M8: ⑪ | P8: ⑭ | S8: ⑧ | V8: ⑥ | Y8: =IF(G8="","勝",COUNTIF(G8:U8,"〇")) -> 勝 | AA8: =IF(H8="","敗",COUNTIF(G8:U8,"×")) -> 敗
C9: 一般 | E9: 一般 | Y9: =IF(N8="","ゲーム取得率",SUM(H8,N8,Q8,T8)/SUM(G8:U8)) -> ゲーム取得率 | AA9: 順位
A10: あん１６ | C10: =IF(A10="","",VLOOKUP(A10,登録No.!$A$3:$N$508,2,FALSE)) -> 岡 | E10: =IF(A11="","",VLOOKUP(A11,登録No.!$A$3:$N$508,2,FALSE)) -> 三箇 | G10: =IF(N6="","",IF(M6="〇","×","〇")) | H10: =IF(O6="","",O6) | I10: =IF(N6="","",N6) | J10: =IF(N8="","",IF(M8="〇","×","〇")) | K10: =IF(O8="","",O8) | L10: =IF(N8="","",N8) | P10: =IF(Q10="","②",IF(Q10>R10,"〇","×")) -> ② | S10: ⑬ | V10: ⑨ | Y10: =IF(H10="","勝",COUNTIF(G10:U10,"〇")) -> 勝 | AA10: =IF(H10="","敗",COUNTIF(G10:U10,"×")) -> 敗
A11: あん１８ | C11: =IF(A10="","",VLOOKUP(A10,登録No.!$A$3:$N$508,4,FALSE)) -> アンヴァース | E11: =IF(A11="","",VLOOKUP(A11,登録No.!$A$3:$N$508,4,FALSE)) -> アンヴァース | Y11: =IF(H10="","ゲーム取得率",SUM(H10,K10,Q10,T10)/SUM(G10:U10)) -> ゲーム取得率 | AA11: 順位
A12: う０２ | C12: =IF(A12="","",VLOOKUP(A12,登録No.!$A$3:$N$508,2,FALSE)) -> 牛道 | E12: =IF(A13="","",VLOOKUP(A13,登録No.!$A$3:$N$508,2,FALSE)) -> 竹田 | G12: =IF(Q6="","",IF(P6="〇","×","〇")) | H12: =IF(R6="","",R6) | I12: =IF(Q6="","",Q6) | J12: =IF(Q8="","",IF(P8="〇","×","〇")) | K12: =IF(R8="","",R8) | L12: =IF(Q8="","",Q8) | M12: =IF(Q10="","",IF(P10="〇","×","〇")) | N12: =IF(R10="","",R10) | O12: =IF(Q10="","",Q10) | S12: ⑤ | V12: ⑫ | Y12: =IF(H12="","勝",COUNTIF(G12:U12,"〇")) -> 勝 | AA12: =IF(H12="","敗",COUNTIF(G12:U12,"×")) -> 敗
A13: う２３ | C13: =IF(A12="","",VLOOKUP(A12,登録No.!$A$3:$N$508,4,FALSE)) -> うさかめ | E13: =IF(A13="","",VLOOKUP(A13,登録No.!$A$3:$N$508,4,FALSE)) -> うさかめ | Y13: =IF(H12="","ゲーム取得率",SUM(H12,K12,N12,T12)/SUM(G12:U12)) -> ゲーム取得率 | AA13: 順位
A14: ぐ１１ | C14: =IF(A14="","",VLOOKUP(A14,登録No.!$A$3:$N$508,2,FALSE)) -> 澁谷 | E14: =IF(A15="","",VLOOKUP(A15,登録No.!$A$3:$N$508,2,FALSE)) -> 門根 | G14: =IF(T6="","",IF(S6="〇","×","〇")) | H14: =IF(U6="","",U6) | I14: =IF(T6="","",T6) | J14: =IF(T8="","",IF(S8="〇","×","〇")) | K14: =IF(U8="","",U8) | L14: =IF(T8="","",T8) | M14: =IF(T10="","",IF(S10="〇","×","〇")) | N14: =IF(U10="","",U10) | O14: =IF(T10="","",T10) | P14: =IF(T12="","",IF(S12="〇","×","〇")) | Q14: =IF(U12="","",U12) | R14: =IF(T12="","",T12) | V14: ③ | Y14: =IF(H14="","勝",COUNTIF(G14:U14,"〇")) -> 勝 | AA14: =IF(H14="","敗",COUNTIF(G14:U14,"×")) -> 敗
A15: ぐ３１ | C15: =IF(A14="","",VLOOKUP(A14,登録No.!$A$3:$N$508,4,FALSE)) -> グリフィンズ | E15: =IF(A15="","",VLOOKUP(A15,登録No.!$A$3:$N$508,4,FALSE)) -> グリフィンズ | Y15: =IF(H14="","ゲーム取得率",SUM(H14,K14,N14,Q14)/SUM(G14:U14)) -> ゲーム取得率 | AA15: 順位
A16: し０５ | C16: =IF(A16="","",VLOOKUP(A16,登録No.!$A$3:$N$508,2,FALSE)) -> 服部 | E16: 辻 | G16: =IF(W6="","",IF(V6="〇","×","〇")) | H16: =IF(X8="","",X8) | I16: =IF(W8="","",W8) | J16: =IF(W8="","",IF(V8="〇","×","〇")) | K16: =IF(X8="","",X8) | L16: =IF(W8="","",W8) | M16: =IF(W10="","",IF(V10="〇","×","〇")) | N16: =IF(X10="","",X10) | O16: =IF(W10="","",W10) | P16: =IF(W12="","",IF(V12="〇","×","〇")) | Q16: =IF(X12="","",X12) | R16: =IF(W12="","",W12) | S16: =IF(W14="","",IF(V14="〇","×","〇")) | T16: =IF(X14="","",X14) | U16: =IF(W14="","",W14) | Y16: =IF(H16="","勝",COUNTIF(G16:U16,"〇")) -> 勝 | AA16: =IF(H16="","敗",COUNTIF(G16:U16,"×")) -> 敗
C17: =IF(A16="","",VLOOKUP(A16,登録No.!$A$3:$N$508,4,FALSE)) -> 県立大 | E17: 一般 | Y17: =IF(H16="","ゲーム取得率",SUM(H16,K16,N16,Q16)/SUM(G16:U16)) -> ゲーム取得率 | AA17: 順位
D19: 順位決定方法 ①完了試合数 ②勝数 ③直接対決 ④取得ゲーム率（取得ゲーム数/全ゲーム数）

Sheet 男子B
C1: 第22回 東近江市秋季ダブルス大会 | AU1: https://tenniskei.com/2021-nitto-atp-finals-result
A2: 男子B級 | J2: 試合形式（1セットマッチ（６－６タイブレーク）ノーアド方式） | AS2: ← | AU2: 順位決定方法 ①完了試合数 ②勝数 ③直接対決 ④ゲーム取得率
AS3: 印
C4: ↓コート・集合時間（ひばり公園 外C 8：45までに本部に出席を届ける） | AS4: 刷 | AW4: ↓コート・集合時間（ひばり公園 外A 8：45までに本部に出席を届ける） | BW4: ↓コート・集合時間（ひばり公園 外A 8：45までに本部に出席を届ける）
A5: 3人リーグ | C5: リーグ | G5: =C6 -> 朝日 | H5: ・ | I5: =E6 -> 中島 | J5: =C8 -> 宮村 | K5: ・ | L5: =E8 -> 原田 | M5: =C10 -> 荒浪 | N5: ・ | O5: =E10 -> 廣瀬 | P5: 成績／順位 | AS5: 範 | AU5: 3人リーグ | AW5: リーグ | BA5: =AW6 | BB5: ・ | BC5: =AY6 | BD5: =AW8 | BE5: ・ | BF5: =AY8 | BG5: =AW10 | BH5: ・ | BI5: =AY10 | BJ5: 成績／順位 | BU5: 6人リーグ | BW5: リーグ | CA5: =BW6 | CB5: ・ | CC5: =BY6 | CD5: =BW8 | CE5: ・ | CF5: =BY8 | CG5: =BW10 | CH5: ・ | CI5: =BY10 | CJ5: =BW12 | CK5: ・ | CL5: =BY12 | CM5: =BW14 | CN5: ・ | CO5: =BY14 | CP5: =BZ14 -> 0 | CQ5: ・ | CR5: =CB14 | CS5: 成績／順位
A6: け０９ | C6: =IF(A6="","",VLOOKUP(A6,登録No.!$A$3:$N$508,2,FALSE)) -> 朝日 | E6: =IF(A7="","",VLOOKUP(A7,登録No.!$A$3:$N$508,2,FALSE)) -> 中島 | J6: =IF(K6="","③",IF(K6>L6,"〇","×")) -> ③ | M6: =IF(N6="","②",IF(N6>O6,"〇","×")) -> ② | P6: =IF(K6="","勝",COUNTIF(G6:O6,"〇")) -> 勝 | R6: =IF(K6="","敗",COUNTIF(G6:O6,"×")) -> 敗 | AS6: 囲 | AW6: =IF(AU6="","",VLOOKUP(AU6,登録No.!$A$3:$N$508,2,FALSE)) | AY6: =IF(AU7="","",VLOOKUP(AU7,登録No.!$A$3:$N$508,2,FALSE)) | BD6: =IF(BE6="","③",IF(BE6>BF6,"〇","×")) -> ③ | BG6: =IF(BH6="","②",IF(BH6>BI6,"〇","×")) -> ② | BJ6: =IF(BE6="","勝",COUNTIF(BA6:BI6,"〇")) -> 勝 | BL6: =IF(BE6="","敗",COUNTIF(BA6:BI6,"×")) -> 敗 | BW6: =IF(BU6="","",VLOOKUP(BU6,登録No.!$A$3:$N$508,2,FALSE)) | BY6: =IF(BU7="","",VLOOKUP(BU7,登録No.!$A$3:$N$508,2,FALSE)) | CD6: =IF(CE6="","①",IF(CE6>CF6,"〇","×")) -> ① | CG6: ④ | CJ6: ⑦ | CM6: ⑩ | CP6: ⑮ | CS6: =IF(CE6="","勝",COUNTIF(CD6:CO6,"〇")) -> 勝 | CU6: =IF(CE6="","敗",COUNTIF(CD6:CO6,"×")) -> 敗
A7: け１９ | C7: =IF(A6="","",VLOOKUP(A6,登録No.!$A$3:$N$508,4,FALSE)) -> Kテニス | E7: =IF(A7="","",VLOOKUP(A7,登録No.!$A$3:$N$508,4,FALSE)) -> Kテニス | P7: =IF(K6="","ゲーム取得率",SUM(K6,N6)/SUM(G6:O6)) -> ゲーム取得率 | R7: 順位 | AW7: =IF(AU6="","",VLOOKUP(AU6,登録No.!$A$3:$N$508,4,FALSE)) | AY7: =IF(AU7="","",VLOOKUP(AU7,登録No.!$A$3:$N$508,4,FALSE)) | BJ7: =IF(BE6="","ゲーム取得率",SUM(BE6,BH6)/SUM(BA6:BI6)) -> ゲーム取得率 | BL7: 順位 | BW7: =IF(BU6="","",VLOOKUP(BU6,登録No.!$A$3:$N$508,4,FALSE)) | BY7: =IF(BU7="","",VLOOKUP(BU7,登録No.!$A$3:$N$508,4,FALSE)) | CS7: =IF(CH6="","ゲーム取得率",SUM(CE6,CH6,CK6,CN6)/SUM(CD6:CO6)) -> ゲーム取得率 | CU7: 順位
A8: あぷ２６ | C8: =IF(A8="","",VLOOKUP(A8,登録No.!$A$3:$N$508,2,FALSE)) -> 宮村 | E8: =IF(A9="","",VLOOKUP(A9,登録No.!$A$3:$N$508,2,FALSE)) -> 原田 | G8: =IF(J6="③","",IF(J6="〇","×","〇")) | H8: =IF(L6="","",L6) | I8: =IF(K6="","",K6) | M8: =IF(N8="","①",IF(N8>O8,"〇","×")) -> ① | P8: =IF(G8="","勝",COUNTIF(G8:O8,"〇")) -> 勝 | R8: =IF(G8="","敗",COUNTIF(G8:O8,"×")) -> 敗 | AW8: =IF(AU8="","",VLOOKUP(AU8,登録No.!$A$3:$N$508,2,FALSE)) | AY8: =IF(AU9="","",VLOOKUP(AU9,登録No.!$A$3:$N$508,2,FALSE)) | BA8: =IF(BE6="","",IF(BD6="〇","×","〇")) | BB8: =IF(BF6="","",BF6) | BC8: =IF(BE6="","",BE6) | BG8: =IF(BH8="","①",IF(BH8>BI8,"〇","×")) -> ① | BJ8: =IF(BA8="","勝",COUNTIF(BA8:BI8,"〇")) -> 勝 | BL8: =IF(BA8="","敗",COUNTIF(BA8:BI8,"×")) -> 敗 | BW8: =IF(BU8="","",VLOOKUP(BU8,登録No.!$A$3:$N$508,2,FALSE)) | BY8: =IF(BU9="","",VLOOKUP(BU9,登録No.!$A$3:$N$508,2,FALSE)) | CA8: =IF(CE6="","",IF(CD6="〇","×","〇")) | CB8: =IF(CF6="","",CF6) | CC8: =IF(CE6="","",CE6) | CG8: ⑪ | CJ8: ⑭ | CM8: ⑧ | CP8: ⑥ | CS8: =IF(CA8="","勝",COUNTIF(CA8:CO8,"〇")) -> 勝 | CU8: =IF(CB8="","敗",COUNTIF(CA8:CO8,"×")) -> 敗
A9: う３１ | C9: =IF(A8="","",VLOOKUP(A8,登録No.!$A$3:$N$508,4,FALSE)) -> アプストTC | E9: =IF(A9="","",VLOOKUP(A9,登録No.!$A$3:$N$508,4,FALSE)) -> うさかめ | P9: =IF(H8="","ゲーム取得率",SUM(H8,N8)/SUM(G8:O8)) -> ゲーム取得率 | R9: 順位 | AW9: =IF(AU8="","",VLOOKUP(AU8,登録No.!$A$3:$N$508,4,FALSE)) | AY9: =IF(AU9="","",VLOOKUP(AU9,登録No.!$A$3:$N$508,4,FALSE)) | BJ9: =IF(BB8="","ゲーム取得率",SUM(BB8,BH8)/SUM(BA8:BI8)) -> ゲーム取得率 | BL9: 順位 | BW9: =IF(BU8="","",VLOOKUP(BU8,登録No.!$A$3:$N$508,4,FALSE)) | BY9: =IF(BU9="","",VLOOKUP(BU9,登録No.!$A$3:$N$508,4,FALSE)) | CS9: =IF(CH8="","ゲーム取得率",SUM(CB8,CH8,CK8,CN8)/SUM(CA8:CO8)) -> ゲーム取得率 | CU9: 順位
A10: き０１ | C10: =IF(A10="","",VLOOKUP(A10,登録No.!$A$3:$N$508,2,FALSE)) -> 荒浪 | E10: =IF(A11="","",VLOOKUP(A11,登録No.!$A$3:$N$508,2,FALSE)) -> 廣瀬 | G10: =IF(N6="","",IF(M6="〇","×","〇")) | H10: =IF(O6="","",O6) | I10: =IF(N6="","",N6) | J10: =IF(N8="","",IF(M8="〇","×","〇")) | K10: =IF(O8="","",O8) | L10: =IF(N8="","",N8) | P10: =IF(G10="","勝",COUNTIF(G10:O10,"〇")) -> 勝 | R10: =IF(G10="","敗",COUNTIF(G10:O10,"×")) -> 敗 | AW10: =IF(AU10="","",VLOOKUP(AU10,登録No.!$A$3:$N$508,2,FALSE)) | AY10: =IF(AU11="","",VLOOKUP(AU11,登録No.!$A$3:$N$508,2,FALSE)) | BA10: =IF(BH6="","",IF(BG6="〇","×","〇")) | BB10: =IF(BI6="","",BI6) | BC10: =IF(BH6="","",BH6) | BD10: =IF(BH8="","",IF(BG8="〇","×","〇")) | BE10: =IF(BI8="","",BI8) | BF10: =IF(BH8="","",BH8) | BJ10: =IF(BA10="","勝",COUNTIF(BA10:BI10,"〇")) -> 勝 | BL10: =IF(BA10="","敗",COUNTIF(BA10:BI10,"×")) -> 敗 | BW10: =IF(BU10="","",VLOOKUP(BU10,登録No.!$A$3:$N$508,2,FALSE)) | BY10: =IF(BU11="","",VLOOKUP(BU11,登録No.!$A$3:$N$508,2,FALSE)) | CA10: =IF(CH6="","",IF(CG6="〇","×","〇")) | CB10: =IF(CI6="","",CI6) | CC10: =IF(CH6="","",CH6) | CD10: =IF(CH8="","",IF(CG8="〇","×","〇")) | CE10: =IF(CI8="","",CI8) | CF10: =IF(CH8="","",CH8) | CJ10: =IF(CK10="","②",IF(CK10>CL10,"〇","×")) -> ② | CM10: ⑬ | CP10: ⑨ | CS10: =IF(CB10="","勝",COUNTIF(CA10:CO10,"〇")) -> 勝 | CU10: =IF(CB10="","敗",COUNTIF(CA10:CO10,"×")) -> 敗
A11: き２０ | C11: =IF(A10="","",VLOOKUP(A10,登録No.!$A$3:$N$508,4,FALSE)) -> 京セラTC | E11: =IF(A11="","",VLOOKUP(A11,登録No.!$A$3:$N$508,4,FALSE)) -> 京セラTC | P11: =IF(G10="","ゲーム取得率",SUM(H10,K10)/SUM(G10:O10)) -> ゲーム取得率 | R11: 順位 | AW11: =IF(AU10="","",VLOOKUP(AU10,登録No.!$A$3:$N$508,4,FALSE)) | AY11: =IF(AU11="","",VLOOKUP(AU11,登録No.!$A$3:$N$508,4,FALSE)) | BJ11: =IF(BA10="","ゲーム取得率",SUM(BB10,BE10)/SUM(BA10:BI10)) -> ゲーム取得率 | BL11: 順位 | BW11: =IF(BU10="","",VLOOKUP(BU10,登録No.!$A$3:$N$508,4,FALSE)) | BY11: =IF(BU11="","",VLOOKUP(BU11,登録No.!$A$3:$N$508,4,FALSE)) | CS11: =IF(CB10="","ゲーム取得率",SUM(CB10,CE10,CK10,CN10)/SUM(CA10:CO10)) -> ゲーム取得率 | CU11: 順位
C12: 順位決定方法 ①完了試合数 ②勝数 ③直接対決 ④取得ゲーム率（取得ゲーム数/全ゲーム数） | BW12: =IF(BU12="","",VLOOKUP(BU12,登録No.!$A$3:$N$508,2,FALSE)) | BY12: =IF(BU13="","",VLOOKUP(BU13,登録No.!$A$3:$N$508,2,FALSE)) | CA12: =IF(CK6="","",IF(CJ6="〇","×","〇")) | CB12: =IF(CL6="","",CL6) | CC12: =IF(CK6="","",CK6) | CD12: =IF(CK8="","",IF(CJ8="〇","×","〇")) | CE12: =IF(CL8="","",CL8) | CF12: =IF(CK8="","",CK8) | CG12: =IF(CK10="","",IF(CJ10="〇","×","〇")) | CH12: =IF(CL10="","",CL10) | CI12: =IF(CK10="","",CK10) | CM12: ⑤ | CP12: ⑫ | CS12: =IF(CB12="","勝",COUNTIF(CA12:CO12,"〇")) -> 勝 | CU12: =IF(CB12="","敗",COUNTIF(CA12:CO12,"×")) -> 敗
AW13: ↓コート・集合時間（ひばり公園 外A 8：45までに本部に出席を届ける） | BW13: =IF(BU12="","",VLOOKUP(BU12,登録No.!$A$3:$N$508,4,FALSE)) | BY13: =IF(BU13="","",VLOOKUP(BU13,登録No.!$A$3:$N$508,4,FALSE)) | CS13: =IF(CB12="","ゲーム取得率",SUM(CB12,CE12,CH12,CN12)/SUM(CA12:CO12)) -> ゲーム取得率 | CU13: 順位
C14: ↓コート・集合時間（ひばり公園 外D 8：45までに本部に出席を届ける） | AU14: 4人リーグ | AW14: リーグ | BA14: =AW15 | BB14: ・ | BC14: =AY15 | BD14: =AW17 | BE14: ・ | BF14: =AY17 | BG14: =AW19 | BH14: ・ | BI14: =AY19 | BJ14: =AW21 | BK14: ・ | BL14: =AY21 | BM14: 成績／順位 | BW14: =IF(BU14="","",VLOOKUP(BU14,登録No.!$A$3:$N$508,2,FALSE)) | BY14: =IF(BU15="","",VLOOKUP(BU15,登録No.!$A$3:$N$508,2,FALSE)) | CA14: =IF(CN6="","",IF(CM6="〇","×","〇")) | CB14: =IF(CO6="","",CO6) | CC14: =IF(CN6="","",CN6) | CD14: =IF(CN8="","",IF(CM8="〇","×","〇")) | CE14: =IF(CO8="","",CO8) | CF14: =IF(CN8="","",CN8) | CG14: =IF(CN10="","",IF(CM10="〇","×","〇")) | CH14: =IF(CO10="","",CO10) | CI14: =IF(CN10="","",CN10) | CJ14: =IF(CN12="","",IF(CM12="〇","×","〇")) | CK14: =IF(CO12="","",CO12) | CL14: =IF(CN12="","",CN12) | CP14: ③ | CS14: =IF(CB14="","勝",COUNTIF(CA14:CO14,"〇")) -> 勝 | CU14: =IF(CB14="","敗",COUNTIF(CA14:CO14,"×")) -> 敗
A15: 4人リーグ | C15: リーグ | G15: =C16 -> 土肥 | H15: ・ | I15: =E16 -> 脇野 | J15: =C18 -> 村尾 | K15: ・ | L15: =E18 -> 岩本 | M15: =C20 -> 村地 | N15: ・ | O15: =E20 -> 野出 | P15: =C22 -> 一色 | Q15: ・ | R15: =E22 -> 牛尾 | S15: 成績／順位 | AW15: =IF(AU15="","",VLOOKUP(AU15,登録No.!$A$3:$N$508,2,FALSE)) | AY15: =IF(AU16="","",VLOOKUP(AU16,登録No.!$A$3:$N$508,2,FALSE)) | BD15: =IF(BE15="","⑥",IF(BE15>BF15,"〇","×")) -> ⑥ | BG15: =IF(BH15="","④",IF(BH15>BI15,"〇","×")) -> ④ | BJ15: =IF(BK15="","②",IF(BK15>BL15,"〇","×")) -> ② | BM15: =IF(BE15="","勝",COUNTIF(BA15:BL15,"〇")) -> 勝 | BO15: =IF(BE15="","敗",COUNTIF(BA15:BL15,"×")) -> 敗 | BW15: =IF(BU14="","",VLOOKUP(BU14,登録No.!$A$3:$N$508,4,FALSE)) | BY15: =IF(BU15="","",VLOOKUP(BU15,登録No.!$A$3:$N$508,4,FALSE)) | CS15: =IF(CB14="","ゲーム取得率",SUM(CB14,CE14,CH14,CK14)/SUM(CA14:CO14)) -> ゲーム取得率 | CU15: 順位
A16: う０９ | C16: =IF(A16="","",VLOOKUP(A16,登録No.!$A$3:$N$508,2,FALSE)) -> 土肥 | E16: =IF(A17="","",VLOOKUP(A17,登録No.!$A$3:$N$508,2,FALSE)) -> 脇野 | J16: =IF(K16="","⑥",IF(K16>L16,"〇","×")) -> ⑥ | M16: =IF(N16="","④",IF(N16>O16,"〇","×")) -> ④ | P16: =IF(Q16="","②",IF(Q16>R16,"〇","×")) -> ② | S16: =IF(K16="","勝",COUNTIF(G16:R16,"〇")) -> 勝 | U16: =IF(K16="","敗",COUNTIF(G16:R16,"×")) -> 敗 | AW16: =IF(AU15="","",VLOOKUP(AU15,登録No.!$A$3:$N$508,4,FALSE)) | AY16: =IF(AU16="","",VLOOKUP(AU16,登録No.!$A$3:$N$508,4,FALSE)) | BM16: =IF(BE15="","ゲーム取得率",SUM(BE15,BH15,BK15)/SUM(BD15:BL15)) -> ゲーム取得率 | BO16: 順位 | BW16: =IF(BU16="","",VLOOKUP(BU16,登録No.!$A$3:$N$508,2,FALSE)) | BY16: =IF(BU17="","",VLOOKUP(BU17,登録No.!$A$3:$N$508,2,FALSE)) | CA16: =IF(CQ6="","",IF(CP6="〇","×","〇")) | CB16: =IF(CR8="","",CR8) | CC16: =IF(CQ8="","",CQ8) | CD16: =IF(CQ8="","",IF(CP8="〇","×","〇")) | CE16: =IF(CR8="","",CR8) | CF16: =IF(CQ8="","",CQ8) | CG16: =IF(CQ10="","",IF(CP10="〇","×","〇")) | CH16: =IF(CR10="","",CR10) | CI16: =IF(CQ10="","",CQ10) | CJ16: =IF(CQ12="","",IF(CP12="〇","×","〇")) | CK16: =IF(CR12="","",CR12) | CL16: =IF(CQ12="","",CQ12) | CM16: =IF(CQ14="","",IF(CP14="〇","×","〇")) | CN16: =IF(CR14="","",CR14) | CO16: =IF(CQ14="","",CQ14) | CS16: =IF(CB16="","勝",COUNTIF(CA16:CO16,"〇")) -> 勝 | CU16: =IF(CB16="","敗",COUNTIF(CA16:CO16,"×")) -> 敗
A17: う１６ | C17: =IF(A16="","",VLOOKUP(A16,登録No.!$A$3:$N$508,4,FALSE)) -> うさかめ | E17: =IF(A17="","",VLOOKUP(A17,登録No.!$A$3:$N$508,4,FALSE)) -> うさかめ | S17: =IF(K16="","ゲーム取得率",SUM(K16,N16,Q16)/SUM(J16:R16)) -> ゲーム取得率 | U17: 順位 | AW17: =IF(AU17="","",VLOOKUP(AU17,登録No.!$A$3:$N$508,2,FALSE)) | AY17: =IF(AU18="","",VLOOKUP(AU18,登録No.!$A$3:$N$508,2,FALSE)) | BA17: =IF(BE15="","",IF(BD15="〇","×","〇")) | BB17: =IF(BF15="","",BF15) | BC17: =IF(BE15="","",BE15) | BG17: =IF(BH17="","①",IF(BH17>BI17,"〇","×")) -> ① | BJ17: =IF(BK17="","③",IF(BK17>BL17,"〇","×")) -> ③ | BM17: =IF(BA17="","勝",COUNTIF(BA17:BL17,"〇")) -> 勝 | BO17: =IF(BA17="","敗",COUNTIF(BA17:BL17,"×")) -> 敗 | BW17: =IF(BU16="","",VLOOKUP(BU16,登録No.!$A$3:$N$508,4,FALSE)) | BY17: =IF(BU17="","",VLOOKUP(BU17,登録No.!$A$3:$N$508,4,FALSE)) | CS17: =IF(CB16="","ゲーム取得率",SUM(CB16,CE16,CH16,CK16)/SUM(CA16:CO16)) -> ゲーム取得率 | CU17: 順位
A18: き２５ | C18: =IF(A18="","",VLOOKUP(A18,登録No.!$A$3:$N$508,2,FALSE)) -> 村尾 | E18: =IF(A19="","",VLOOKUP(A19,登録No.!$A$3:$N$508,2,FALSE)) -> 岩本 | G18: =IF(J16="⑥","",IF(J16="〇","×","〇")) | H18: =IF(L16="","",L16) | I18: =IF(K16="","",K16) | M18: =IF(N18="","①",IF(N18>O18,"〇","×")) -> ① | P18: =IF(Q18="","③",IF(Q18>R18,"〇","×")) -> ③ | S18: =IF(G18="","勝",COUNTIF(G18:R18,"〇")) -> 勝 | U18: =IF(G18="","敗",COUNTIF(G18:R18,"×")) -> 敗 | AW18: =IF(AU17="","",VLOOKUP(AU17,登録No.!$A$3:$N$508,4,FALSE)) | AY18: =IF(AU18="","",VLOOKUP(AU18,登録No.!$A$3:$N$508,4,FALSE)) | BM18: =IF(BA17="","ゲーム取得率",SUM(BB17,BH17,BK17)/SUM(BA17:BL17)) -> ゲーム取得率 | BO18: 順位
A19: き３５ | C19: =IF(A18="","",VLOOKUP(A18,登録No.!$A$3:$N$508,4,FALSE)) -> 京セラTC | E19: =IF(A19="","",VLOOKUP(A19,登録No.!$A$3:$N$508,4,FALSE)) -> 京セラTC | S19: =IF(G18="","ゲーム取得率",SUM(H18,N18,Q18)/SUM(G18:R18)) -> ゲーム取得率 | U19: 順位 | AW19: =IF(AU19="","",VLOOKUP(AU19,登録No.!$A$3:$N$508,2,FALSE)) | AY19: =IF(AU20="","",VLOOKUP(AU20,登録No.!$A$3:$N$508,2,FALSE)) | BA19: =IF(BH15="","",IF(BG15="〇","×","〇")) | BB19: =IF(BI15="","",BI15) | BC19: =IF(BH15="","",BH15) | BD19: =IF(BH17="","",IF(BG17="〇","×","〇")) | BE19: =IF(BI17="","",BI17) | BF19: =IF(BH17="","",BH17) | BJ19: =IF(BK19="","⑤",IF(BK19>BL19,"〇","×")) -> ⑤ | BM19: =IF(BE19="","勝",COUNTIF(BA19:BL19,"〇")) -> 勝 | BO19: =IF(BD19="","敗",COUNTIF(BA19:BL19,"×")) -> 敗
A20: た０３ | C20: =IF(A20="","",VLOOKUP(A20,登録No.!$A$3:$N$508,2,FALSE)) -> 村地 | E20: 野出 | G20: =IF(M16="④","",IF(M16="〇","×","〇")) | H20: =IF(O16="","",O16) | I20: =IF(N16="","",N16) | J20: =IF(M18="①","",IF(M18="〇","×","〇")) | K20: =IF(O18="","",O18) | L20: =IF(N18="","",N18) | P20: =IF(Q20="","⑤",IF(Q20>R20,"〇","×")) -> ⑤ | S20: =IF(K20="","勝",COUNTIF(G20:R20,"〇")) -> 勝 | U20: =IF(J20="","敗",COUNTIF(G20:R20,"×")) -> 敗 | AW20: =IF(AU19="","",VLOOKUP(AU19,登録No.!$A$3:$N$508,4,FALSE)) | AY20: =IF(AU20="","",VLOOKUP(AU20,登録No.!$A$3:$N$508,4,FALSE)) | BM20: =IF(BA19="","ゲーム取得率",SUM(BB19,BE19,BK19)/SUM(BA19:BL19)) -> ゲーム取得率 | BO20: 順位
A21: た１４ | C21: =IF(A20="","",VLOOKUP(A20,登録No.!$A$3:$N$508,4,FALSE)) -> 建部TC | E21: 建部TC | S21: =IF(G20="","ゲーム取得率",SUM(H20,K20,Q20)/SUM(G20:R20)) -> ゲーム取得率 | U21: 順位 | AW21: =IF(AU21="","",VLOOKUP(AU21,登録No.!$A$3:$N$508,2,FALSE)) | AY21: =IF(AU22="","",VLOOKUP(AU22,登録No.!$A$3:$N$508,2,FALSE)) | BA21: =IF(BK15="","",IF(BJ15="〇","×","〇")) | BB21: =IF(BL15="","",BL15) | BC21: =IF(BK15="","",BK15) | BD21: =IF(BK17="","",IF(BJ17="〇","×","〇")) | BE21: =IF(BL17="","",BL17) | BF21: =IF(BK17="","",BK17) | BG21: =IF(BK19="","",IF(BJ19="〇","×","〇")) | BH21: =IF(BL19="","",BL19) | BI21: =IF(BK19="","",BK19) | BM21: =IF(BD21="","勝",COUNTIF(BA21:BL21,"〇")) -> 勝 | BO21: =IF(BD21="","敗",COUNTIF(BA21:BL21,"×")) -> 敗
A22: き０６ | C22: =IF(A22="","",VLOOKUP(A22,登録No.!$A$3:$N$508,2,FALSE)) -> 一色 | E22: =IF(A23="","",VLOOKUP(A23,登録No.!$A$3:$N$508,2,FALSE)) -> 牛尾 | G22: =IF(P16="②","",IF(P16="〇","×","〇")) | H22: =IF(R16="","",R16) | I22: =IF(Q16="","",Q16) | J22: =IF(P18="③","",IF(P18="〇","×","〇")) | K22: =IF(R18="","",R18) | L22: =IF(Q18="","",Q18) | M22: =IF(P20="⑤","",IF(P20="〇","×","〇")) | N22: =IF(R20="","",R20) | O22: =IF(Q20="","",Q20) | S22: =IF(J22="","勝",COUNTIF(G22:R22,"〇")) -> 勝 | U22: =IF(J22="","敗",COUNTIF(G22:R22,"×")) -> 敗 | AW22: =IF(AU21="","",VLOOKUP(AU21,登録No.!$A$3:$N$508,4,FALSE)) | AY22: =IF(AU22="","",VLOOKUP(AU22,登録No.!$A$3:$N$508,4,FALSE)) | BM22: =IF(BA21="","ゲーム取得率",SUM(BB21,BE21,BH21)/SUM(BA21:BI21)) -> ゲーム取得率 | BO22: 順位
A23: き０７ | C23: =IF(A22="","",VLOOKUP(A22,登録No.!$A$3:$N$508,4,FALSE)) -> 京セラTC | E23: =IF(A23="","",VLOOKUP(A23,登録No.!$A$3:$N$508,4,FALSE)) -> 京セラTC | S23: =IF(G22="","ゲーム取得率",SUM(H22,K22,N22)/SUM(G22:O22)) -> ゲーム取得率 | U23: 順位
C24: 順位決定方法 ①完了試合数 ②勝数 ③直接対決 ④取得ゲーム率（取得ゲーム数/全ゲーム数） | BW24: =IF(BU24="","",VLOOKUP(BU24,登録No.!$A$3:$N$508,2,FALSE)) | BY24: =IF(BU25="","",VLOOKUP(BU25,登録No.!$A$3:$N$508,2,FALSE)) | CS24: =IF(CB24="","勝",COUNTIF(CA24:CO24,"〇")) -> 勝 | CU24: =IF(CB24="","敗",COUNTIF(CA24:CO24,"×")) -> 敗
C27: 決勝トーナメント | AU27: 5人リーグ | AW27: リーグ | BA27: =AW28 | BB27: ・ | BC27: =AY28 | BD27: =AW30 | BE27: ・ | BF27: =AY30 | BG27: =AW32 | BH27: ・ | BI27: =AY32 | BJ27: =AW34 | BK27: ・ | BL27: =AY34 | BM27: =AW36 | BN27: ・ | BO27: =AY36 | BP27: 成績／順位
C28: リーグ1・1位 | F28: 勝者 | J28: 勝者 | N28: 勝者 | P28: リーグ2・1位 | AW28: =IF(AU28="","",VLOOKUP(AU28,登録No.!$A$3:$N$508,2,FALSE)) | AY28: =IF(AU29="","",VLOOKUP(AU29,登録No.!$A$3:$N$508,2,FALSE)) | BD28: =IF(BE28="","①",IF(BE28>BF28,"〇","×")) -> ① | BG28: =IF(BH28="","⑥",IF(BH28>BI28,"〇","×")) -> ⑥ | BJ28: =IF(BK28="","⑨",IF(BK28>BL28,"〇","×")) -> ⑨ | BM28: =IF(BN28="","③",IF(BN28>BO28,"〇","×")) -> ③ | BP28: =IF(BE28="","勝",COUNTIF(BD28:BO28,"〇")) -> 勝 | BR28: =IF(BE28="","敗",COUNTIF(BD28:BO28,"×")) -> 敗
F29: 結果 | J29: 結果 | N29: 結果 | AW29: =IF(AU28="","",VLOOKUP(AU28,登録No.!$A$3:$N$508,4,FALSE)) | AY29: =IF(AU29="","",VLOOKUP(AU29,登録No.!$A$3:$N$508,4,FALSE)) | BP29: =IF(BH28="","ゲーム取得率",SUM(BE28,BH28,BK28,BN28)/SUM(BD28:BO28)) -> ゲーム取得率 | BR29: 順位
AW30: =IF(AU30="","",VLOOKUP(AU30,登録No.!$A$3:$N$508,2,FALSE)) | AY30: =IF(AU31="","",VLOOKUP(AU31,登録No.!$A$3:$N$508,2,FALSE)) | BA30: =IF(BE28="","",IF(BD28="〇","×","〇")) | BB30: =IF(BF28="","",BF28) | BC30: =IF(BE28="","",BE28) | BG30: =IF(BH30="","④",IF(BH30>BI30,"〇","×")) -> ④ | BJ30: =IF(BK30="","⑦",IF(BK30>BL30,"〇","×")) -> ⑦ | BM30: =IF(BN30="","⑩",IF(BN30>BO30,"〇","×")) -> ⑩ | BP30: =IF(BA30="","勝",COUNTIF(BA30:BO30,"〇")) -> 勝 | BR30: =IF(BB30="","敗",COUNTIF(BA30:BO30,"×")) -> 敗
AW31: =IF(AU30="","",VLOOKUP(AU30,登録No.!$A$3:$N$508,4,FALSE)) | AY31: =IF(AU31="","",VLOOKUP(AU31,登録No.!$A$3:$N$508,4,FALSE)) | BP31: =IF(BH30="","ゲーム取得率",SUM(BB30,BH30,BK30,BN30)/SUM(BA30:BO30)) -> ゲーム取得率 | BR31: 順位
F32: 試合順 | H32: 勝者 | L32: 勝者 | N32: 試合順 | AW32: =IF(AU32="","",VLOOKUP(AU32,登録No.!$A$3:$N$508,2,FALSE)) | AY32: =IF(AU33="","",VLOOKUP(AU33,登録No.!$A$3:$N$508,2,FALSE)) | BA32: =IF(BH28="","",IF(BG28="〇","×","〇")) | BB32: =IF(BI28="","",BI28) | BC32: =IF(BH28="","",BH28) | BD32: =IF(BH30="","",IF(BG30="〇","×","〇")) | BE32: =IF(BI30="","",BI30) | BF32: =IF(BH30="","",BH30) | BJ32: =IF(BK32="","②",IF(BK32>BL32,"〇","×")) -> ② | BM32: =IF(BN32="","⑧",IF(BN32>BO32,"〇","×")) -> ⑧ | BP32: =IF(BB32="","勝",COUNTIF(BA32:BO32,"〇")) -> 勝 | BR32: =IF(BB32="","敗",COUNTIF(BA32:BO32,"×")) -> 敗
H33: 結果 | L33: 結果 | AW33: =IF(AU32="","",VLOOKUP(AU32,登録No.!$A$3:$N$508,4,FALSE)) | AY33: =IF(AU33="","",VLOOKUP(AU33,登録No.!$A$3:$N$508,4,FALSE)) | BP33: =IF(BB32="","ゲーム取得率",SUM(BB32,BE32,BK32,BN32)/SUM(BA32:BO32)) -> ゲーム取得率 | BR33: 順位
AW34: =IF(AU34="","",VLOOKUP(AU34,登録No.!$A$3:$N$508,2,FALSE)) | AY34: =IF(AU35="","",VLOOKUP(AU35,登録No.!$A$3:$N$508,2,FALSE)) | BA34: =IF(BK28="","",IF(BJ28="〇","×","〇")) | BB34: =IF(BL28="","",BL28) | BC34: =IF(BK28="","",BK28) | BD34: =IF(BK30="","",IF(BJ30="〇","×","〇")) | BE34: =IF(BL30="","",BL30) | BF34: =IF(BK30="","",BK30) | BG34: =IF(BK32="","",IF(BJ32="〇","×","〇")) | BH34: =IF(BL32="","",BL32) | BI34: =IF(BK32="","",BK32) | BM34: =IF(BN34="","⑤",IF(BN34>BO34,"〇","×")) -> ⑤ | BP34: =IF(BB34="","勝",COUNTIF(BA34:BO34,"〇")) -> 勝 | BR34: =IF(BB34="","敗",COUNTIF(BA34:BO34,"×")) -> 敗
AW35: =IF(AU34="","",VLOOKUP(AU34,登録No.!$A$3:$N$508,4,FALSE)) | AY35: =IF(AU35="","",VLOOKUP(AU35,登録No.!$A$3:$N$508,4,FALSE)) | BP35: =IF(BB34="","ゲーム取得率",SUM(BB34,BE34,BH34,BN34)/SUM(BA34:BO34)) -> ゲーム取得率 | BR35: 順位
C36: リーグ2・2位 | F36: 勝者 | N36: 勝者 | P36: リーグ1・2位 | AW36: =IF(AU36="","",VLOOKUP(AU36,登録No.!$A$3:$N$508,2,FALSE)) | AY36: =IF(AU37="","",VLOOKUP(AU37,登録No.!$A$3:$N$508,2,FALSE)) | BA36: =IF(BN28="","",IF(BM28="〇","×","〇")) | BB36: =IF(BO28="","",BO28) | BC36: =IF(BN28="","",BN28) | BD36: =IF(BM30="⑩","",IF(BM30="〇","×","〇")) | BE36: =IF(BO30="","",BO30) | BF36: =IF(BN30="","",BN30) | BG36: =IF(BN32="","",IF(BM32="〇","×","〇")) | BH36: =IF(BO32="","",BO32) | BI36: =IF(BN32="","",BN32) | BJ36: =IF(BN34="","",IF(BM34="〇","×","〇")) | BK36: =IF(BO34="","",BO34) | BL36: =IF(BN34="","",BN34) | BP36: =IF(BB36="","勝",COUNTIF(BA36:BO36,"〇")) -> 勝 | BR36: =IF(BB36="","敗",COUNTIF(BA36:BO36,"×")) -> 敗
F37: 結果 | N37: 結果 | AW37: =IF(AU36="","",VLOOKUP(AU36,登録No.!$A$3:$N$508,4,FALSE)) | AY37: =IF(AU37="","",VLOOKUP(AU37,登録No.!$A$3:$N$508,4,FALSE)) | BP37: =IF(BB36="","ゲーム取得率",SUM(BB36,BE36,BH36,BK36)/SUM(BA36:BO36)) -> ゲーム取得率 | BR37: 順位
C41: コンソレーション | G41: =C42 -> リーグ２ | I41: =E42 -> ３位 | J41: =C44 -> リーグ２ | L41: =E44 -> ４位 | M41: =C46 -> リーグ１ | O41: =E46 -> ３位 | P41: 成績／順位
C42: リーグ２ | E42: ３位 | J42: =IF(K42="","③",IF(K42>L42,"〇","×")) -> ③ | M42: =IF(N42="","②",IF(N42>O42,"〇","×")) -> ② | P42: =IF(K42="","勝",COUNTIF(G42:O42,"〇")) -> 勝 | R42: =IF(K42="","敗",COUNTIF(G42:O42,"×")) -> 敗
C43: =IF(A42="","",VLOOKUP(A42,登録No.!$A$3:$N$508,4,FALSE)) | E43: =IF(A43="","",VLOOKUP(A43,登録No.!$A$3:$N$508,4,FALSE)) | P43: =IF(K42="","ゲーム取得率",SUM(K42,N42)/SUM(G42:O42)) -> ゲーム取得率 | R43: 順位
C44: リーグ２ | E44: ４位 | G44: =IF(J42="③","",IF(J42="〇","×","〇")) | H44: =IF(L42="","",L42) | I44: =IF(K42="","",K42) | M44: =IF(N44="","①",IF(N44>O44,"〇","×")) -> ① | P44: =IF(G44="","勝",COUNTIF(G44:O44,"〇")) -> 勝 | R44: =IF(G44="","敗",COUNTIF(G44:O44,"×")) -> 敗
C45: =IF(A44="","",VLOOKUP(A44,登録No.!$A$3:$N$508,4,FALSE)) | E45: =IF(A45="","",VLOOKUP(A45,登録No.!$A$3:$N$508,4,FALSE)) | P45: =IF(H44="","ゲーム取得率",SUM(H44,N44)/SUM(G44:O44)) -> ゲーム取得率 | R45: 順位
...

Sheet 男子C
C1: 第22回 東近江市秋季ダブルス大会 | AU1: https://tenniskei.com/2021-nitto-atp-finals-result
A2: 男子C級 | J2: 試合形式（1セットマッチ（６－６タイブレーク）ノーアド方式） | AS2: ← | AU2: 順位決定方法 ①完了試合数 ②勝数 ③直接対決 ④ゲーム取得率
AS3: 印
C4: ↓コート・集合時間（ひばり公園 外C 8：45までに本部に出席を届ける） | AS4: 刷 | AW4: ↓コート・集合時間（ひばり公園 外A 8：45までに本部に出席を届ける） | BW4: ↓コート・集合時間（ひばり公園 外A 8：45までに本部に出席を届ける）
A5: 3人リーグ | C5: リーグ | G5: =C6 -> 大橋 | H5: ・ | I5: =E6 -> 岡本 | J5: =C8 -> 曽我 | K5: ・ | L5: =E8 -> 曽我 | M5: =C10 -> 富田 | N5: ・ | O5: =E10 -> 吉田 | P5: 成績／順位 | AS5: 範 | AU5: 3人リーグ | AW5: リーグ | BA5: =AW6 | BB5: ・ | BC5: =AY6 | BD5: =AW8 | BE5: ・ | BF5: =AY8 | BG5: =AW10 | BH5: ・ | BI5: =AY10 | BJ5: 成績／順位 | BU5: 6人リーグ | BW5: リーグ | CA5: =BW6 | CB5: ・ | CC5: =BY6 | CD5: =BW8 | CE5: ・ | CF5: =BY8 | CG5: =BW10 | CH5: ・ | CI5: =BY10 | CJ5: =BW12 | CK5: ・ | CL5: =BY12 | CM5: =BW14 | CN5: ・ | CO5: =BY14 | CP5: =BZ14 -> 0 | CQ5: ・ | CR5: =CB14 | CS5: 成績／順位
C6: 大橋 | E6: 岡本 | J6: =IF(K6="","③",IF(K6>L6,"〇","×")) -> ③ | M6: =IF(N6="","②",IF(N6>O6,"〇","×")) -> ② | P6: =IF(K6="","勝",COUNTIF(G6:O6,"〇")) -> 勝 | R6: =IF(K6="","敗",COUNTIF(G6:O6,"×")) -> 敗 | AS6: 囲 | AW6: =IF(AU6="","",VLOOKUP(AU6,登録No.!$A$3:$N$508,2,FALSE)) | AY6: =IF(AU7="","",VLOOKUP(AU7,登録No.!$A$3:$N$508,2,FALSE)) | BD6: =IF(BE6="","③",IF(BE6>BF6,"〇","×")) -> ③ | BG6: =IF(BH6="","②",IF(BH6>BI6,"〇","×")) -> ② | BJ6: =IF(BE6="","勝",COUNTIF(BA6:BI6,"〇")) -> 勝 | BL6: =IF(BE6="","敗",COUNTIF(BA6:BI6,"×")) -> 敗 | BW6: =IF(BU6="","",VLOOKUP(BU6,登録No.!$A$3:$N$508,2,FALSE)) | BY6: =IF(BU7="","",VLOOKUP(BU7,登録No.!$A$3:$N$508,2,FALSE)) | CD6: =IF(CE6="","①",IF(CE6>CF6,"〇","×")) -> ① | CG6: ④ | CJ6: ⑦ | CM6: ⑩ | CP6: ⑮ | CS6: =IF(CE6="","勝",COUNTIF(CD6:CO6,"〇")) -> 勝 | CU6: =IF(CE6="","敗",COUNTIF(CD6:CO6,"×")) -> 敗
C7: Ｋテニス | E7: Ｋテニス | P7: =IF(K6="","ゲーム取得率",SUM(K6,N6)/SUM(G6:O6)) -> ゲーム取得率 | R7: 順位 | AW7: =IF(AU6="","",VLOOKUP(AU6,登録No.!$A$3:$N$508,4,FALSE)) | AY7: =IF(AU7="","",VLOOKUP(AU7,登録No.!$A$3:$N$508,4,FALSE)) | BJ7: =IF(BE6="","ゲーム取得率",SUM(BE6,BH6)/SUM(BA6:BI6)) -> ゲーム取得率 | BL7: 順位 | BW7: =IF(BU6="","",VLOOKUP(BU6,登録No.!$A$3:$N$508,4,FALSE)) | BY7: =IF(BU7="","",VLOOKUP(BU7,登録No.!$A$3:$N$508,4,FALSE)) | CS7: =IF(CH6="","ゲーム取得率",SUM(CE6,CH6,CK6,CN6)/SUM(CD6:CO6)) -> ゲーム取得率 | CU7: 順位
A8: き１３ | C8: =IF(A8="","",VLOOKUP(A8,登録No.!$A$3:$N$508,2,FALSE)) -> 曽我 | E8: =IF(A9="","",VLOOKUP(A9,登録No.!$A$3:$N$508,2,FALSE)) -> 曽我 | G8: =IF(J6="③","",IF(J6="〇","×","〇")) | H8: =IF(L6="","",L6) | I8: =IF(K6="","",K6) | M8: =IF(N8="","①",IF(N8>O8,"〇","×")) -> ① | P8: =IF(G8="","勝",COUNTIF(G8:O8,"〇")) -> 勝 | R8: =IF(G8="","敗",COUNTIF(G8:O8,"×")) -> 敗 | AW8: =IF(AU8="","",VLOOKUP(AU8,登録No.!$A$3:$N$508,2,FALSE)) | AY8: =IF(AU9="","",VLOOKUP(AU9,登録No.!$A$3:$N$508,2,FALSE)) | BA8: =IF(BE6="","",IF(BD6="〇","×","〇")) | BB8: =IF(BF6="","",BF6) | BC8: =IF(BE6="","",BE6) | BG8: =IF(BH8="","①",IF(BH8>BI8,"〇","×")) -> ① | BJ8: =IF(BA8="","勝",COUNTIF(BA8:BI8,"〇")) -> 勝 | BL8: =IF(BA8="","敗",COUNTIF(BA8:BI8,"×")) -> 敗 | BW8: =IF(BU8="","",VLOOKUP(BU8,登録No.!$A$3:$N$508,2,FALSE)) | BY8: =IF(BU9="","",VLOOKUP(BU9,登録No.!$A$3:$N$508,2,FALSE)) | CA8: =IF(CE6="","",IF(CD6="〇","×","〇")) | CB8: =IF(CF6="","",CF6) | CC8: =IF(CE6="","",CE6) | CG8: ⑪ | CJ8: ⑭ | CM8: ⑧ | CP8: ⑥ | CS8: =IF(CA8="","勝",COUNTIF(CA8:CO8,"〇")) -> 勝 | CU8: =IF(CB8="","敗",COUNTIF(CA8:CO8,"×")) -> 敗
A9: き３６ | C9: =IF(A8="","",VLOOKUP(A8,登録No.!$A$3:$N$508,4,FALSE)) -> 京セラTC | E9: =IF(A9="","",VLOOKUP(A9,登録No.!$A$3:$N$508,4,FALSE)) -> 京セラTC | P9: =IF(H8="","ゲーム取得率",SUM(H8,N8)/SUM(G8:O8)) -> ゲーム取得率 | R9: 順位 | AW9: =IF(AU8="","",VLOOKUP(AU8,登録No.!$A$3:$N$508,4,FALSE)) | AY9: =IF(AU9="","",VLOOKUP(AU9,登録No.!$A$3:$N$508,4,FALSE)) | BJ9: =IF(BB8="","ゲーム取得率",SUM(BB8,BH8)/SUM(BA8:BI8)) -> ゲーム取得率 | BL9: 順位 | BW9: =IF(BU8="","",VLOOKUP(BU8,登録No.!$A$3:$N$508,4,FALSE)) | BY9: =IF(BU9="","",VLOOKUP(BU9,登録No.!$A$3:$N$508,4,FALSE)) | CS9: =IF(CH8="","ゲーム取得率",SUM(CB8,CH8,CK8,CN8)/SUM(CA8:CO8)) -> ゲーム取得率 | CU9: 順位
C10: 富田 | E10: 吉田 | G10: =IF(N6="","",IF(M6="〇","×","〇")) | H10: =IF(O6="","",O6) | I10: =IF(N6="","",N6) | J10: =IF(N8="","",IF(M8="〇","×","〇")) | K10: =IF(O8="","",O8) | L10: =IF(N8="","",N8) | P10: =IF(G10="","勝",COUNTIF(G10:O10,"〇")) -> 勝 | R10: =IF(G10="","敗",COUNTIF(G10:O10,"×")) -> 敗 | AW10: =IF(AU10="","",VLOOKUP(AU10,登録No.!$A$3:$N$508,2,FALSE)) | AY10: =IF(AU11="","",VLOOKUP(AU11,登録No.!$A$3:$N$508,2,FALSE)) | BA10: =IF(BH6="","",IF(BG6="〇","×","〇")) | BB10: =IF(BI6="","",BI6) | BC10: =IF(BH6="","",BH6) | BD10: =IF(BH8="","",IF(BG8="〇","×","〇")) | BE10: =IF(BI8="","",BI8) | BF10: =IF(BH8="","",BH8) | BJ10: =IF(BA10="","勝",COUNTIF(BA10:BI10,"〇")) -> 勝 | BL10: =IF(BA10="","敗",COUNTIF(BA10:BI10,"×")) -> 敗 | BW10: =IF(BU10="","",VLOOKUP(BU10,登録No.!$A$3:$N$508,2,FALSE)) | BY10: =IF(BU11="","",VLOOKUP(BU11,登録No.!$A$3:$N$508,2,FALSE)) | CA10: =IF(CH6="","",IF(CG6="〇","×","〇")) | CB10: =IF(CI6="","",CI6) | CC10: =IF(CH6="","",CH6) | CD10: =IF(CH8="","",IF(CG8="〇","×","〇")) | CE10: =IF(CI8="","",CI8) | CF10: =IF(CH8="","",CH8) | CJ10: =IF(CK10="","②",IF(CK10>CL10,"〇","×")) -> ② | CM10: ⑬ | CP10: ⑨ | CS10: =IF(CB10="","勝",COUNTIF(CA10:CO10,"〇")) -> 勝 | CU10: =IF(CB10="","敗",COUNTIF(CA10:CO10,"×")) -> 敗
C11: グリフィンズ | E11: グリフィンズ | P11: =IF(G10="","ゲーム取得率",SUM(H10,K10)/SUM(G10:O10)) -> ゲーム取得率 | R11: 順位 | AW11: =IF(AU10="","",VLOOKUP(AU10,登録No.!$A$3:$N$508,4,FALSE)) | AY11: =IF(AU11="","",VLOOKUP(AU11,登録No.!$A$3:$N$508,4,FALSE)) | BJ11: =IF(BA10="","ゲーム取得率",SUM(BB10,BE10)/SUM(BA10:BI10)) -> ゲーム取得率 | BL11: 順位 | BW11: =IF(BU10="","",VLOOKUP(BU10,登録No.!$A$3:$N$508,4,FALSE)) | BY11: =IF(BU11="","",VLOOKUP(BU11,登録No.!$A$3:$N$508,4,FALSE)) | CS11: =IF(CB10="","ゲーム取得率",SUM(CB10,CE10,CK10,CN10)/SUM(CA10:CO10)) -> ゲーム取得率 | CU11: 順位
BW12: =IF(BU12="","",VLOOKUP(BU12,登録No.!$A$3:$N$508,2,FALSE)) | BY12: =IF(BU13="","",VLOOKUP(BU13,登録No.!$A$3:$N$508,2,FALSE)) | CA12: =IF(CK6="","",IF(CJ6="〇","×","〇")) | CB12: =IF(CL6="","",CL6) | CC12: =IF(CK6="","",CK6) | CD12: =IF(CK8="","",IF(CJ8="〇","×","〇")) | CE12: =IF(CL8="","",CL8) | CF12: =IF(CK8="","",CK8) | CG12: =IF(CK10="","",IF(CJ10="〇","×","〇")) | CH12: =IF(CL10="","",CL10) | CI12: =IF(CK10="","",CK10) | CM12: ⑤ | CP12: ⑫ | CS12: =IF(CB12="","勝",COUNTIF(CA12:CO12,"〇")) -> 勝 | CU12: =IF(CB12="","敗",COUNTIF(CA12:CO12,"×")) -> 敗
C13: 順位決定方法 ①完了試合数 ②勝数 ③直接対決 ④取得ゲーム率（取得ゲーム数/全ゲーム数） | AW13: ↓コート・集合時間（ひばり公園 外A 8：45までに本部に出席を届ける） | BW13: =IF(BU12="","",VLOOKUP(BU12,登録No.!$A$3:$N$508,4,FALSE)) | BY13: =IF(BU13="","",VLOOKUP(BU13,登録No.!$A$3:$N$508,4,FALSE)) | CS13: =IF(CB12="","ゲーム取得率",SUM(CB12,CE12,CH12,CN12)/SUM(CA12:CO12)) -> ゲーム取得率 | CU13: 順位
AU14: 4人リーグ | AW14: リーグ | BA14: =AW15 | BB14: ・ | BC14: =AY15 | BD14: =AW17 | BE14: ・ | BF14: =AY17 | BG14: =AW19 | BH14: ・ | BI14: =AY19 | BJ14: =AW21 | BK14: ・ | BL14: =AY21 | BM14: 成績／順位 | BW14: =IF(BU14="","",VLOOKUP(BU14,登録No.!$A$3:$N$508,2,FALSE)) | BY14: =IF(BU15="","",VLOOKUP(BU15,登録No.!$A$3:$N$508,2,FALSE)) | CA14: =IF(CN6="","",IF(CM6="〇","×","〇")) | CB14: =IF(CO6="","",CO6) | CC14: =IF(CN6="","",CN6) | CD14: =IF(CN8="","",IF(CM8="〇","×","〇")) | CE14: =IF(CO8="","",CO8) | CF14: =IF(CN8="","",CN8) | CG14: =IF(CN10="","",IF(CM10="〇","×","〇")) | CH14: =IF(CO10="","",CO10) | CI14: =IF(CN10="","",CN10) | CJ14: =IF(CN12="","",IF(CM12="〇","×","〇")) | CK14: =IF(CO12="","",CO12) | CL14: =IF(CN12="","",CN12) | CP14: ③ | CS14: =IF(CB14="","勝",COUNTIF(CA14:CO14,"〇")) -> 勝 | CU14: =IF(CB14="","敗",COUNTIF(CA14:CO14,"×")) -> 敗
AW15: =IF(AU15="","",VLOOKUP(AU15,登録No.!$A$3:$N$508,2,FALSE)) | AY15: =IF(AU16="","",VLOOKUP(AU16,登録No.!$A$3:$N$508,2,FALSE)) | BD15: =IF(BE15="","⑥",IF(BE15>BF15,"〇","×")) -> ⑥ | BG15: =IF(BH15="","④",IF(BH15>BI15,"〇","×")) -> ④ | BJ15: =IF(BK15="","②",IF(BK15>BL15,"〇","×")) -> ② | BM15: =IF(BE15="","勝",COUNTIF(BA15:BL15,"〇")) -> 勝 | BO15: =IF(BE15="","敗",COUNTIF(BA15:BL15,"×")) -> 敗 | BW15: =IF(BU14="","",VLOOKUP(BU14,登録No.!$A$3:$N$508,4,FALSE)) | BY15: =IF(BU15="","",VLOOKUP(BU15,登録No.!$A$3:$N$508,4,FALSE)) | CS15: =IF(CB14="","ゲーム取得率",SUM(CB14,CE14,CH14,CK14)/SUM(CA14:CO14)) -> ゲーム取得率 | CU15: 順位
AW16: =IF(AU15="","",VLOOKUP(AU15,登録No.!$A$3:$N$508,4,FALSE)) | AY16: =IF(AU16="","",VLOOKUP(AU16,登録No.!$A$3:$N$508,4,FALSE)) | BM16: =IF(BE15="","ゲーム取得率",SUM(BE15,BH15,BK15)/SUM(BD15:BL15)) -> ゲーム取得率 | BO16: 順位 | BW16: =IF(BU16="","",VLOOKUP(BU16,登録No.!$A$3:$N$508,2,FALSE)) | BY16: =IF(BU17="","",VLOOKUP(BU17,登録No.!$A$3:$N$508,2,FALSE)) | CA16: =IF(CQ6="","",IF(CP6="〇","×","〇")) | CB16: =IF(CR8="","",CR8) | CC16: =IF(CQ8="","",CQ8) | CD16: =IF(CQ8="","",IF(CP8="〇","×","〇")) | CE16: =IF(CR8="","",CR8) | CF16: =IF(CQ8="","",CQ8) | CG16: =IF(CQ10="","",IF(CP10="〇","×","〇")) | CH16: =IF(CR10="","",CR10) | CI16: =IF(CQ10="","",CQ10) | CJ16: =IF(CQ12="","",IF(CP12="〇","×","〇")) | CK16: =IF(CR12="","",CR12) | CL16: =IF(CQ12="","",CQ12) | CM16: =IF(CQ14="","",IF(CP14="〇","×","〇")) | CN16: =IF(CR14="","",CR14) | CO16: =IF(CQ14="","",CQ14) | CS16: =IF(CB16="","勝",COUNTIF(CA16:CO16,"〇")) -> 勝 | CU16: =IF(CB16="","敗",COUNTIF(CA16:CO16,"×")) -> 敗
AW17: =IF(AU17="","",VLOOKUP(AU17,登録No.!$A$3:$N$508,2,FALSE)) | AY17: =IF(AU18="","",VLOOKUP(AU18,登録No.!$A$3:$N$508,2,FALSE)) | BA17: =IF(BE15="","",IF(BD15="〇","×","〇")) | BB17: =IF(BF15="","",BF15) | BC17: =IF(BE15="","",BE15) | BG17: =IF(BH17="","①",IF(BH17>BI17,"〇","×")) -> ① | BJ17: =IF(BK17="","③",IF(BK17>BL17,"〇","×")) -> ③ | BM17: =IF(BA17="","勝",COUNTIF(BA17:BL17,"〇")) -> 勝 | BO17: =IF(BA17="","敗",COUNTIF(BA17:BL17,"×")) -> 敗 | BW17: =IF(BU16="","",VLOOKUP(BU16,登録No.!$A$3:$N$508,4,FALSE)) | BY17: =IF(BU17="","",VLOOKUP(BU17,登録No.!$A$3:$N$508,4,FALSE)) | CS17: =IF(CB16="","ゲーム取得率",SUM(CB16,CE16,CH16,CK16)/SUM(CA16:CO16)) -> ゲーム取得率 | CU17: 順位
AW18: =IF(AU17="","",VLOOKUP(AU17,登録No.!$A$3:$N$508,4,FALSE)) | AY18: =IF(AU18="","",VLOOKUP(AU18,登録No.!$A$3:$N$508,4,FALSE)) | BM18: =IF(BA17="","ゲーム取得率",SUM(BB17,BH17,BK17)/SUM(BA17:BL17)) -> ゲーム取得率 | BO18: 順位
AW19: =IF(AU19="","",VLOOKUP(AU19,登録No.!$A$3:$N$508,2,FALSE)) | AY19: =IF(AU20="","",VLOOKUP(AU20,登録No.!$A$3:$N$508,2,FALSE)) | BA19: =IF(BH15="","",IF(BG15="〇","×","〇")) | BB19: =IF(BI15="","",BI15) | BC19: =IF(BH15="","",BH15) | BD19: =IF(BH17="","",IF(BG17="〇","×","〇")) | BE19: =IF(BI17="","",BI17) | BF19: =IF(BH17="","",BH17) | BJ19: =IF(BK19="","⑤",IF(BK19>BL19,"〇","×")) -> ⑤ | BM19: =IF(BE19="","勝",COUNTIF(BA19:BL19,"〇")) -> 勝 | BO19: =IF(BD19="","敗",COUNTIF(BA19:BL19,"×")) -> 敗
AW20: =IF(AU19="","",VLOOKUP(AU19,登録No.!$A$3:$N$508,4,FALSE)) | AY20: =IF(AU20="","",VLOOKUP(AU20,登録No.!$A$3:$N$508,4,FALSE)) | BM20: =IF(BA19="","ゲーム取得率",SUM(BB19,BE19,BK19)/SUM(BA19:BL19)) -> ゲーム取得率 | BO20: 順位
AW21: =IF(AU21="","",VLOOKUP(AU21,登録No.!$A$3:$N$508,2,FALSE)) | AY21: =IF(AU22="","",VLOOKUP(AU22,登録No.!$A$3:$N$508,2,FALSE)) | BA21: =IF(BK15="","",IF(BJ15="〇","×","〇")) | BB21: =IF(BL15="","",BL15) | BC21: =IF(BK15="","",BK15) | BD21: =IF(BK17="","",IF(BJ17="〇","×","〇")) | BE21: =IF(BL17="","",BL17) | BF21: =IF(BK17="","",BK17) | BG21: =IF(BK19="","",IF(BJ19="〇","×","〇")) | BH21: =IF(BL19="","",BL19) | BI21: =IF(BK19="","",BK19) | BM21: =IF(BD21="","勝",COUNTIF(BA21:BL21,"〇")) -> 勝 | BO21: =IF(BD21="","敗",COUNTIF(BA21:BL21,"×")) -> 敗
AW22: =IF(AU21="","",VLOOKUP(AU21,登録No.!$A$3:$N$508,4,FALSE)) | AY22: =IF(AU22="","",VLOOKUP(AU22,登録No.!$A$3:$N$508,4,FALSE)) | BM22: =IF(BA21="","ゲーム取得率",SUM(BB21,BE21,BH21)/SUM(BA21:BI21)) -> ゲーム取得率 | BO22: 順位
AW24: ↓コート・集合時間（ひばり公園 外A 8：45までに本部に出席を届ける）
AU25: 5人リーグ | AW25: リーグ | BA25: =AW26 | BB25: ・ | BC25: =AY26 | BD25: =AW28 | BE25: ・ | BF25: =AY28 | BG25: =AW30 | BH25: ・ | BI25: =AY30 | BJ25: =AW32 | BK25: ・ | BL25: =AY32 | BM25: =AW34 | BN25: ・ | BO25: =AY34 | BP25: 成績／順位
AW26: =IF(AU26="","",VLOOKUP(AU26,登録No.!$A$3:$N$508,2,FALSE)) | AY26: =IF(AU27="","",VLOOKUP(AU27,登録No.!$A$3:$N$508,2,FALSE)) | BD26: =IF(BE26="","①",IF(BE26>BF26,"〇","×")) -> ① | BG26: =IF(BH26="","⑥",IF(BH26>BI26,"〇","×")) -> ⑥ | BJ26: =IF(BK26="","⑨",IF(BK26>BL26,"〇","×")) -> ⑨ | BM26: =IF(BN26="","③",IF(BN26>BO26,"〇","×")) -> ③ | BP26: =IF(BE26="","勝",COUNTIF(BD26:BO26,"〇")) -> 勝 | BR26: =IF(BE26="","敗",COUNTIF(BD26:BO26,"×")) -> 敗
AW27: =IF(AU26="","",VLOOKUP(AU26,登録No.!$A$3:$N$508,4,FALSE)) | AY27: =IF(AU27="","",VLOOKUP(AU27,登録No.!$A$3:$N$508,4,FALSE)) | BP27: =IF(BH26="","ゲーム取得率",SUM(BE26,BH26,BK26,BN26)/SUM(BD26:BO26)) -> ゲーム取得率 | BR27: 順位
AW28: =IF(AU28="","",VLOOKUP(AU28,登録No.!$A$3:$N$508,2,FALSE)) | AY28: =IF(AU29="","",VLOOKUP(AU29,登録No.!$A$3:$N$508,2,FALSE)) | BA28: =IF(BE26="","",IF(BD26="〇","×","〇")) | BB28: =IF(BF26="","",BF26) | BC28: =IF(BE26="","",BE26) | BG28: =IF(BH28="","④",IF(BH28>BI28,"〇","×")) -> ④ | BJ28: =IF(BK28="","⑦",IF(BK28>BL28,"〇","×")) -> ⑦ | BM28: =IF(BN28="","⑩",IF(BN28>BO28,"〇","×")) -> ⑩ | BP28: =IF(BA28="","勝",COUNTIF(BA28:BO28,"〇")) -> 勝 | BR28: =IF(BB28="","敗",COUNTIF(BA28:BO28,"×")) -> 敗
AW29: =IF(AU28="","",VLOOKUP(AU28,登録No.!$A$3:$N$508,4,FALSE)) | AY29: =IF(AU29="","",VLOOKUP(AU29,登録No.!$A$3:$N$508,4,FALSE)) | BP29: =IF(BH28="","ゲーム取得率",SUM(BB28,BH28,BK28,BN28)/SUM(BA28:BO28)) -> ゲーム取得率 | BR29: 順位
AW30: =IF(AU30="","",VLOOKUP(AU30,登録No.!$A$3:$N$508,2,FALSE)) | AY30: =IF(AU31="","",VLOOKUP(AU31,登録No.!$A$3:$N$508,2,FALSE)) | BA30: =IF(BH26="","",IF(BG26="〇","×","〇")) | BB30: =IF(BI26="","",BI26) | BC30: =IF(BH26="","",BH26) | BD30: =IF(BH28="","",IF(BG28="〇","×","〇")) | BE30: =IF(BI28="","",BI28) | BF30: =IF(BH28="","",BH28) | BJ30: =IF(BK30="","②",IF(BK30>BL30,"〇","×")) -> ② | BM30: =IF(BN30="","⑧",IF(BN30>BO30,"〇","×")) -> ⑧ | BP30: =IF(BB30="","勝",COUNTIF(BA30:BO30,"〇")) -> 勝 | BR30: =IF(BB30="","敗",COUNTIF(BA30:BO30,"×")) -> 敗
AW31: =IF(AU30="","",VLOOKUP(AU30,登録No.!$A$3:$N$508,4,FALSE)) | AY31: =IF(AU31="","",VLOOKUP(AU31,登録No.!$A$3:$N$508,4,FALSE)) | BP31: =IF(BB30="","ゲーム取得率",SUM(BB30,BE30,BK30,BN30)/SUM(BA30:BO30)) -> ゲーム取得率 | BR31: 順位
AW32: =IF(AU32="","",VLOOKUP(AU32,登録No.!$A$3:$N$508,2,FALSE)) | AY32: =IF(AU33="","",VLOOKUP(AU33,登録No.!$A$3:$N$508,2,FALSE)) | BA32: =IF(BK26="","",IF(BJ26="〇","×","〇")) | BB32: =IF(BL26="","",BL26) | BC32: =IF(BK26="","",BK26) | BD32: =IF(BK28="","",IF(BJ28="〇","×","〇")) | BE32: =IF(BL28="","",BL28) | BF32: =IF(BK28="","",BK28) | BG32: =IF(BK30="","",IF(BJ30="〇","×","〇")) | BH32: =IF(BL30="","",BL30) | BI32: =IF(BK30="","",BK30) | BM32: =IF(BN32="","⑤",IF(BN32>BO32,"〇","×")) -> ⑤ | BP32: =IF(BB32="","勝",COUNTIF(BA32:BO32,"〇")) -> 勝 | BR32: =IF(BB32="","敗",COUNTIF(BA32:BO32,"×")) -> 敗
AW33: =IF(AU32="","",VLOOKUP(AU32,登録No.!$A$3:$N$508,4,FALSE)) | AY33: =IF(AU33="","",VLOOKUP(AU33,登録No.!$A$3:$N$508,4,FALSE)) | BP33: =IF(BB32="","ゲーム取得率",SUM(BB32,BE32,BH32,BN32)/SUM(BA32:BO32)) -> ゲーム取得率 | BR33: 順位
AW34: =IF(AU34="","",VLOOKUP(AU34,登録No.!$A$3:$N$508,2,FALSE)) | AY34: =IF(AU35="","",VLOOKUP(AU35,登録No.!$A$3:$N$508,2,FALSE)) | BA34: =IF(BN26="","",IF(BM26="〇","×","〇")) | BB34: =IF(BO26="","",BO26) | BC34: =IF(BN26="","",BN26) | BD34: =IF(BM28="⑩","",IF(BM28="〇","×","〇")) | BE34: =IF(BO28="","",BO28) | BF34: =IF(BN28="","",BN28) | BG34: =IF(BN30="","",IF(BM30="〇","×","〇")) | BH34: =IF(BO30="","",BO30) | BI34: =IF(BN30="","",BN30) | BJ34: =IF(BN32="","",IF(BM32="〇","×","〇")) | BK34: =IF(BO32="","",BO32) | BL34: =IF(BN32="","",BN32) | BP34: =IF(BB34="","勝",COUNTIF(BA34:BO34,"〇")) -> 勝 | BR34: =IF(BB34="","敗",COUNTIF(BA34:BO34,"×")) -> 敗
AW35: =IF(AU34="","",VLOOKUP(AU34,登録No.!$A$3:$N$508,4,FALSE)) | AY35: =IF(AU35="","",VLOOKUP(AU35,登録No.!$A$3:$N$508,4,FALSE)) | BP35: =IF(BB34="","ゲーム取得率",SUM(BB34,BE34,BH34,BK34)/SUM(BA34:BO34)) -> ゲーム取得率 | BR35: 順位
A61: ↑ 印刷範囲

Sheet 男子OV
C1: 第22回 東近江市秋季ダブルス大会 | AU1: https://tenniskei.com/2021-nitto-atp-finals-result
A2: 男子OV55 | J2: 試合形式（1セットマッチ（６－６タイブレーク）ノーアド方式） | AS2: ← | AU2: 順位決定方法 ①完了試合数 ②勝数 ③直接対決 ④ゲーム取得率
AS3: 印
C4: ↓コート・集合時間（すこやかの杜 ・ 8：45までにすこやか本部に出席を届ける） | AS4: 刷 | AW4: ↓コート・集合時間（ひばり公園 外A 8：45までに本部に出席を届ける） | BW4: ↓コート・集合時間（ひばり公園 外A 8：45までに本部に出席を届ける）
A5: 3人リーグ | C5: リーグ1 | G5: =C6 -> 亀井 | H5: ・ | I5: =E6 -> 山本 | J5: =C8 -> 井上 | K5: ・ | L5: =E8 -> 岩花 | M5: =C10 -> 安達 | N5: ・ | O5: =E10 -> 中川 | P5: 成績／順位 | AS5: 範 | AU5: 3人リーグ | AW5: リーグ | BA5: =AW6 | BB5: ・ | BC5: =AY6 | BD5: =AW8 | BE5: ・ | BF5: =AY8 | BG5: =AW10 | BH5: ・ | BI5: =AY10 | BJ5: 成績／順位 | BU5: 6人リーグ | BW5: リーグ | CA5: =BW6 | CB5: ・ | CC5: =BY6 | CD5: =BW8 | CE5: ・ | CF5: =BY8 | CG5: =BW10 | CH5: ・ | CI5: =BY10 | CJ5: =#REF! -> #REF! | CK5: ・ | CL5: =#REF! -> #REF! | CM5: =BW15 | CN5: ・ | CO5: =BY15 | CP5: =BZ15 -> 0 | CQ5: ・ | CR5: =CB15 | CS5: 成績／順位
A6: う０８ | C6: =IF(A6="","",VLOOKUP(A6,登録No.!$A$3:$N$508,2,FALSE)) -> 亀井 | E6: =IF(A7="","",VLOOKUP(A7,登録No.!$A$3:$N$508,2,FALSE)) -> 山本 | J6: =IF(K6="","③",IF(K6>L6,"〇","×")) -> ③ | M6: =IF(N6="","②",IF(N6>O6,"〇","×")) -> ② | P6: =IF(K6="","勝",COUNTIF(G6:O6,"〇")) -> 勝 | R6: =IF(K6="","敗",COUNTIF(G6:O6,"×")) -> 敗 | AS6: 囲 | AW6: =IF(AU6="","",VLOOKUP(AU6,登録No.!$A$3:$N$508,2,FALSE)) | AY6: =IF(AU7="","",VLOOKUP(AU7,登録No.!$A$3:$N$508,2,FALSE)) | BD6: =IF(BE6="","③",IF(BE6>BF6,"〇","×")) -> ③ | BG6: =IF(BH6="","②",IF(BH6>BI6,"〇","×")) -> ② | BJ6: =IF(BE6="","勝",COUNTIF(BA6:BI6,"〇")) -> 勝 | BL6: =IF(BE6="","敗",COUNTIF(BA6:BI6,"×")) -> 敗 | BW6: =IF(BU6="","",VLOOKUP(BU6,登録No.!$A$3:$N$508,2,FALSE)) | BY6: =IF(BU7="","",VLOOKUP(BU7,登録No.!$A$3:$N$508,2,FALSE)) | CD6: =IF(CE6="","①",IF(CE6>CF6,"〇","×")) -> ① | CG6: ④ | CJ6: ⑦ | CM6: ⑩ | CP6: ⑮ | CS6: =IF(CE6="","勝",COUNTIF(CD6:CO6,"〇")) -> 勝 | CU6: =IF(CE6="","敗",COUNTIF(CD6:CO6,"×")) -> 敗
A7: う１４ | C7: =IF(A6="","",VLOOKUP(A6,登録No.!$A$3:$N$508,4,FALSE)) -> うさかめ | E7: =IF(A7="","",VLOOKUP(A7,登録No.!$A$3:$N$508,4,FALSE)) -> うさかめ | P7: =IF(K6="","ゲーム取得率",SUM(K6,N6)/SUM(G6:O6)) -> ゲーム取得率 | R7: 順位 | AW7: =IF(AU6="","",VLOOKUP(AU6,登録No.!$A$3:$N$508,4,FALSE)) | AY7: =IF(AU7="","",VLOOKUP(AU7,登録No.!$A$3:$N$508,4,FALSE)) | BJ7: =IF(BE6="","ゲーム取得率",SUM(BE6,BH6)/SUM(BA6:BI6)) -> ゲーム取得率 | BL7: 順位 | BW7: =IF(BU6="","",VLOOKUP(BU6,登録No.!$A$3:$N$508,4,FALSE)) | BY7: =IF(BU7="","",VLOOKUP(BU7,登録No.!$A$3:$N$508,4,FALSE)) | CS7: =IF(CH6="","ゲーム取得率",SUM(CE6,CH6,CK6,CN6)/SUM(CD6:CO6)) -> ゲーム取得率 | CU7: 順位
A8: ふ１０ | C8: =IF(A8="","",VLOOKUP(A8,登録No.!$A$3:$N$508,2,FALSE)) -> 井上 | E8: =IF(A9="","",VLOOKUP(A9,登録No.!$A$3:$N$508,2,FALSE)) -> 岩花 | G8: =IF(J6="③","",IF(J6="〇","×","〇")) | H8: =IF(L6="","",L6) | I8: =IF(K6="","",K6) | M8: =IF(N8="","①",IF(N8>O8,"〇","×")) -> ① | P8: =IF(G8="","勝",COUNTIF(G8:O8,"〇")) -> 勝 | R8: =IF(G8="","敗",COUNTIF(G8:O8,"×")) -> 敗 | AW8: =IF(AU8="","",VLOOKUP(AU8,登録No.!$A$3:$N$508,2,FALSE)) | AY8: =IF(AU9="","",VLOOKUP(AU9,登録No.!$A$3:$N$508,2,FALSE)) | BA8: =IF(BE6="","",IF(BD6="〇","×","〇")) | BB8: =IF(BF6="","",BF6) | BC8: =IF(BE6="","",BE6) | BG8: =IF(BH8="","①",IF(BH8>BI8,"〇","×")) -> ① | BJ8: =IF(BA8="","勝",COUNTIF(BA8:BI8,"〇")) -> 勝 | BL8: =IF(BA8="","敗",COUNTIF(BA8:BI8,"×")) -> 敗 | BW8: =IF(BU8="","",VLOOKUP(BU8,登録No.!$A$3:$N$508,2,FALSE)) | BY8: =IF(BU9="","",VLOOKUP(BU9,登録No.!$A$3:$N$508,2,FALSE)) | CA8: =IF(CE6="","",IF(CD6="〇","×","〇")) | CB8: =IF(CF6="","",CF6) | CC8: =IF(CE6="","",CE6) | CG8: ⑪ | CJ8: ⑭ | CM8: ⑧ | CP8: ⑥ | CS8: =IF(CA8="","勝",COUNTIF(CA8:CO8,"〇")) -> 勝 | CU8: =IF(CB8="","敗",COUNTIF(CA8:CO8,"×")) -> 敗
A9: う０１ | C9: =IF(A8="","",VLOOKUP(A8,登録No.!$A$3:$N$508,4,FALSE)) -> フレンズ | E9: =IF(A9="","",VLOOKUP(A9,登録No.!$A$3:$N$508,4,FALSE)) -> うさかめ | P9: =IF(H8="","ゲーム取得率",SUM(H8,N8)/SUM(G8:O8)) -> ゲーム取得率 | R9: 順位 | AW9: =IF(AU8="","",VLOOKUP(AU8,登録No.!$A$3:$N$508,4,FALSE)) | AY9: =IF(AU9="","",VLOOKUP(AU9,登録No.!$A$3:$N$508,4,FALSE)) | BJ9: =IF(BB8="","ゲーム取得率",SUM(BB8,BH8)/SUM(BA8:BI8)) -> ゲーム取得率 | BL9: 順位 | BW9: =IF(BU8="","",VLOOKUP(BU8,登録No.!$A$3:$N$508,4,FALSE)) | BY9: =IF(BU9="","",VLOOKUP(BU9,登録No.!$A$3:$N$508,4,FALSE)) | CS9: =IF(CH8="","ゲーム取得率",SUM(CB8,CH8,CK8,CN8)/SUM(CA8:CO8)) -> ゲーム取得率 | CU9: 順位
A10: あ０３ | C10: =IF(A10="","",VLOOKUP(A10,登録No.!$A$3:$N$508,2,FALSE)) -> 安達 | E10: 中川 | G10: =IF(N6="","",IF(M6="〇","×","〇")) | H10: =IF(O6="","",O6) | I10: =IF(N6="","",N6) | J10: =IF(N8="","",IF(M8="〇","×","〇")) | K10: =IF(O8="","",O8) | L10: =IF(N8="","",N8) | P10: =IF(G10="","勝",COUNTIF(G10:O10,"〇")) -> 勝 | R10: =IF(G10="","敗",COUNTIF(G10:O10,"×")) -> 敗 | AW10: =IF(AU10="","",VLOOKUP(AU10,登録No.!$A$3:$N$508,2,FALSE)) | AY10: =IF(AU11="","",VLOOKUP(AU11,登録No.!$A$3:$N$508,2,FALSE)) | BA10: =IF(BH6="","",IF(BG6="〇","×","〇")) | BB10: =IF(BI6="","",BI6) | BC10: =IF(BH6="","",BH6) | BD10: =IF(BH8="","",IF(BG8="〇","×","〇")) | BE10: =IF(BI8="","",BI8) | BF10: =IF(BH8="","",BH8) | BJ10: =IF(BA10="","勝",COUNTIF(BA10:BI10,"〇")) -> 勝 | BL10: =IF(BA10="","敗",COUNTIF(BA10:BI10,"×")) -> 敗 | BW10: =IF(BU10="","",VLOOKUP(BU10,登録No.!$A$3:$N$508,2,FALSE)) | BY10: =IF(BU11="","",VLOOKUP(BU11,登録No.!$A$3:$N$508,2,FALSE)) | CA10: =IF(CH6="","",IF(CG6="〇","×","〇")) | CB10: =IF(CI6="","",CI6) | CC10: =IF(CH6="","",CH6) | CD10: =IF(CH8="","",IF(CG8="〇","×","〇")) | CE10: =IF(CI8="","",CI8) | CF10: =IF(CH8="","",CH8) | CJ10: =IF(CK10="","②",IF(CK10>CL10,"〇","×")) -> ② | CM10: ⑬ | CP10: ⑨ | CS10: =IF(CB10="","勝",COUNTIF(CA10:CO10,"〇")) -> 勝 | CU10: =IF(CB10="","敗",COUNTIF(CA10:CO10,"×")) -> 敗
C11: =IF(A10="","",VLOOKUP(A10,登録No.!$A$3:$N$508,4,FALSE)) -> アビックBB | E11: 一般 | P11: =IF(G10="","ゲーム取得率",SUM(H10,K10)/SUM(G10:O10)) -> ゲーム取得率 | R11: 順位 | AW11: =IF(AU10="","",VLOOKUP(AU10,登録No.!$A$3:$N$508,4,FALSE)) | AY11: =IF(AU11="","",VLOOKUP(AU11,登録No.!$A$3:$N$508,4,FALSE)) | BJ11: =IF(BA10="","ゲーム取得率",SUM(BB10,BE10)/SUM(BA10:BI10)) -> ゲーム取得率 | BL11: 順位 | BW11: =IF(BU10="","",VLOOKUP(BU10,登録No.!$A$3:$N$508,4,FALSE)) | BY11: =IF(BU11="","",VLOOKUP(BU11,登録No.!$A$3:$N$508,4,FALSE)) | CS11: =IF(CB10="","ゲーム取得率",SUM(CB10,CE10,CK10,CN10)/SUM(CA10:CO10)) -> ゲーム取得率 | CU11: 順位
C12: 順位決定方法 ①完了試合数 ②勝数 ③直接対決 ④取得ゲーム率（取得ゲーム数/全ゲーム数）
C14: ↓コート・集合時間（すこやかの杜 ・ 8：45までにすこやか本部に出席を届ける） | AW14: ↓コート・集合時間（ひばり公園 外A 8：45までに本部に出席を届ける） | BW14: =IF(#REF!="","",VLOOKUP(#REF!,登録No.!$A$3:$N$508,4,FALSE)) -> #REF! | BY14: =IF(BU14="","",VLOOKUP(BU14,登録No.!$A$3:$N$508,4,FALSE)) | CS14: =IF(#REF!="","ゲーム取得率",SUM(#REF!,#REF!,#REF!,#REF!)/SUM(#REF!)) -> #REF! | CU14: 順位
A15: 3人リーグ | C15: リーグ2 | G15: =C16 -> 片岡 | H15: ・ | I15: =E16 -> 山本 | J15: =C18 -> 中田 | K15: ・ | L15: =E18 -> 安井 | M15: =C20 -> 平塚 | N15: ・ | O15: =E20 -> 東 | P15: 成績／順位 | AU15: 4人リーグ | AW15: リーグ | BA15: =AW16 | BB15: ・ | BC15: =AY16 | BD15: =AW18 | BE15: ・ | BF15: =AY18 | BG15: =AW20 | BH15: ・ | BI15: =AY20 | BJ15: =#REF! -> #REF! | BK15: ・ | BL15: =#REF! -> #REF! | BM15: 成績／順位 | BW15: =IF(BU15="","",VLOOKUP(BU15,登録No.!$A$3:$N$508,2,FALSE)) | BY15: =IF(BU16="","",VLOOKUP(BU16,登録No.!$A$3:$N$508,2,FALSE)) | CA15: =IF(CN6="","",IF(CM6="〇","×","〇")) | CB15: =IF(CO6="","",CO6) | CC15: =IF(CN6="","",CN6) | CD15: =IF(CN8="","",IF(CM8="〇","×","〇")) | CE15: =IF(CO8="","",CO8) | CF15: =IF(CN8="","",CN8) | CG15: =IF(CN10="","",IF(CM10="〇","×","〇")) | CH15: =IF(CO10="","",CO10) | CI15: =IF(CN10="","",CN10) | CJ15: =IF(#REF!="","",IF(#REF!="〇","×","〇")) -> #REF! | CK15: =IF(#REF!="","",#REF!) -> #REF! | CL15: =IF(#REF!="","",#REF!) -> #REF! | CP15: ③ | CS15: =IF(CB15="","勝",COUNTIF(CA15:CO15,"〇")) -> 勝 | CU15: =IF(CB15="","敗",COUNTIF(CA15:CO15,"×")) -> 敗
A16: う０６ | C16: =IF(A16="","",VLOOKUP(A16,登録No.!$A$3:$N$508,2,FALSE)) -> 片岡 | E16: =IF(A17="","",VLOOKUP(A17,登録No.!$A$3:$N$508,2,FALSE)) -> 山本 | J16: =IF(K16="","③",IF(K16>L16,"〇","×")) -> ③ | M16: =IF(N16="","②",IF(N16>O16,"〇","×")) -> ② | P16: =IF(K16="","勝",COUNTIF(G16:O16,"〇")) -> 勝 | R16: =IF(K16="","敗",COUNTIF(G16:O16,"×")) -> 敗 | AW16: =IF(AU16="","",VLOOKUP(AU16,登録No.!$A$3:$N$508,2,FALSE)) | AY16: =IF(AU17="","",VLOOKUP(AU17,登録No.!$A$3:$N$508,2,FALSE)) | BD16: =IF(BE16="","⑥",IF(BE16>BF16,"〇","×")) -> ⑥ | BG16: =IF(BH16="","④",IF(BH16>BI16,"〇","×")) -> ④ | BJ16: =IF(BK16="","②",IF(BK16>BL16,"〇","×")) -> ② | BM16: =IF(BE16="","勝",COUNTIF(BA16:BL16,"〇")) -> 勝 | BO16: =IF(BE16="","敗",COUNTIF(BA16:BL16,"×")) -> 敗 | BW16: =IF(BU15="","",VLOOKUP(BU15,登録No.!$A$3:$N$508,4,FALSE)) | BY16: =IF(BU16="","",VLOOKUP(BU16,登録No.!$A$3:$N$508,4,FALSE)) | CS16: =IF(CB15="","ゲーム取得率",SUM(CB15,CE15,CH15,CK15)/SUM(CA15:CO15)) -> ゲーム取得率 | CU16: 順位
A17: う１３ | C17: =IF(A16="","",VLOOKUP(A16,登録No.!$A$3:$N$508,4,FALSE)) -> うさかめ | E17: =IF(A17="","",VLOOKUP(A17,登録No.!$A$3:$N$508,4,FALSE)) -> うさかめ | P17: =IF(K16="","ゲーム取得率",SUM(K16,N16)/SUM(G16:O16)) -> ゲーム取得率 | R17: 順位 | AW17: =IF(AU16="","",VLOOKUP(AU16,登録No.!$A$3:$N$508,4,FALSE)) | AY17: =IF(AU17="","",VLOOKUP(AU17,登録No.!$A$3:$N$508,4,FALSE)) | BM17: =IF(BE16="","ゲーム取得率",SUM(BE16,BH16,BK16)/SUM(BD16:BL16)) -> ゲーム取得率 | BO17: 順位 | BW17: =IF(BU17="","",VLOOKUP(BU17,登録No.!$A$3:$N$508,2,FALSE)) | BY17: =IF(BU18="","",VLOOKUP(BU18,登録No.!$A$3:$N$508,2,FALSE)) | CA17: =IF(CQ6="","",IF(CP6="〇","×","〇")) | CB17: =IF(CR8="","",CR8) | CC17: =IF(CQ8="","",CQ8) | CD17: =IF(CQ8="","",IF(CP8="〇","×","〇")) | CE17: =IF(CR8="","",CR8) | CF17: =IF(CQ8="","",CQ8) | CG17: =IF(CQ10="","",IF(CP10="〇","×","〇")) | CH17: =IF(CR10="","",CR10) | CI17: =IF(CQ10="","",CQ10) | CJ17: =IF(#REF!="","",IF(#REF!="〇","×","〇")) -> #REF! | CK17: =IF(#REF!="","",#REF!) -> #REF! | CL17: =IF(#REF!="","",#REF!) -> #REF! | CM17: =IF(CQ15="","",IF(CP15="〇","×","〇")) | CN17: =IF(CR15="","",CR15) | CO17: =IF(CQ15="","",CQ15) | CS17: =IF(CB17="","勝",COUNTIF(CA17:CO17,"〇")) -> 勝 | CU17: =IF(CB17="","敗",COUNTIF(CA17:CO17,"×")) -> 敗
A18: う１８ | C18: =IF(A18="","",VLOOKUP(A18,登録No.!$A$3:$N$508,2,FALSE)) -> 中田 | E18: =IF(A19="","",VLOOKUP(A19,登録No.!$A$3:$N$508,2,FALSE)) -> 安井 | G18: =IF(J16="③","",IF(J16="〇","×","〇")) | H18: =IF(L16="","",L16) | I18: =IF(K16="","",K16) | M18: =IF(N18="","①",IF(N18>O18,"〇","×")) -> ① | P18: =IF(G18="","勝",COUNTIF(G18:O18,"〇")) -> 勝 | R18: =IF(G18="","敗",COUNTIF(G18:O18,"×")) -> 敗 | AW18: =IF(AU18="","",VLOOKUP(AU18,登録No.!$A$3:$N$508,2,FALSE)) | AY18: =IF(AU19="","",VLOOKUP(AU19,登録No.!$A$3:$N$508,2,FALSE)) | BA18: =IF(BE16="","",IF(BD16="〇","×","〇")) | BB18: =IF(BF16="","",BF16) | BC18: =IF(BE16="","",BE16) | BG18: =IF(BH18="","①",IF(BH18>BI18,"〇","×")) -> ① | BJ18: =IF(BK18="","③",IF(BK18>BL18,"〇","×")) -> ③ | BM18: =IF(BA18="","勝",COUNTIF(BA18:BL18,"〇")) -> 勝 | BO18: =IF(BA18="","敗",COUNTIF(BA18:BL18,"×")) -> 敗 | BW18: =IF(BU17="","",VLOOKUP(BU17,登録No.!$A$3:$N$508,4,FALSE)) | BY18: =IF(BU18="","",VLOOKUP(BU18,登録No.!$A$3:$N$508,4,FALSE)) | CS18: =IF(CB17="","ゲーム取得率",SUM(CB17,CE17,CH17,CK17)/SUM(CA17:CO17)) -> ゲーム取得率 | CU18: 順位
A19: う３５ | C19: =IF(A18="","",VLOOKUP(A18,登録No.!$A$3:$N$508,4,FALSE)) -> うさかめ | E19: =IF(A19="","",VLOOKUP(A19,登録No.!$A$3:$N$508,4,FALSE)) -> うさかめ | P19: =IF(H18="","ゲーム取得率",SUM(H18,N18)/SUM(G18:O18)) -> ゲーム取得率 | R19: 順位 | AW19: =IF(AU18="","",VLOOKUP(AU18,登録No.!$A$3:$N$508,4,FALSE)) | AY19: =IF(AU19="","",VLOOKUP(AU19,登録No.!$A$3:$N$508,4,FALSE)) | BM19: =IF(BA18="","ゲーム取得率",SUM(BB18,BH18,BK18)/SUM(BA18:BL18)) -> ゲーム取得率 | BO19: 順位
A20: ふ０７ | C20: =IF(A20="","",VLOOKUP(A20,登録No.!$A$3:$N$508,2,FALSE)) -> 平塚 | E20: =IF(A21="","",VLOOKUP(A21,登録No.!$A$3:$N$508,2,FALSE)) -> 東 | G20: =IF(N16="","",IF(M16="〇","×","〇")) | H20: =IF(O16="","",O16) | I20: =IF(N16="","",N16) | J20: =IF(N18="","",IF(M18="〇","×","〇")) | K20: =IF(O18="","",O18) | L20: =IF(N18="","",N18) | P20: =IF(G20="","勝",COUNTIF(G20:O20,"〇")) -> 勝 | R20: =IF(G20="","敗",COUNTIF(G20:O20,"×")) -> 敗 | AW20: =IF(AU20="","",VLOOKUP(AU20,登録No.!$A$3:$N$508,2,FALSE)) | AY20: =IF(AU21="","",VLOOKUP(AU21,登録No.!$A$3:$N$508,2,FALSE)) | BA20: =IF(BH16="","",IF(BG16="〇","×","〇")) | BB20: =IF(BI16="","",BI16) | BC20: =IF(BH16="","",BH16) | BD20: =IF(BH18="","",IF(BG18="〇","×","〇")) | BE20: =IF(BI18="","",BI18) | BF20: =IF(BH18="","",BH18) | BJ20: =IF(BK20="","⑤",IF(BK20>BL20,"〇","×")) -> ⑤ | BM20: =IF(BE20="","勝",COUNTIF(BA20:BL20,"〇")) -> 勝 | BO20: =IF(BD20="","敗",COUNTIF(BA20:BL20,"×")) -> 敗
A21: あぷ１３ | C21: =IF(A20="","",VLOOKUP(A20,登録No.!$A$3:$N$508,4,FALSE)) -> フレンズ | E21: =IF(A21="","",VLOOKUP(A21,登録No.!$A$3:$N$508,4,FALSE)) -> アプストTC | P21: =IF(G20="","ゲーム取得率",SUM(H20,K20)/SUM(G20:O20)) -> ゲーム取得率 | R21: 順位 | AW21: =IF(AU20="","",VLOOKUP(AU20,登録No.!$A$3:$N$508,4,FALSE)) | AY21: =IF(AU21="","",VLOOKUP(AU21,登録No.!$A$3:$N$508,4,FALSE)) | BM21: =IF(BA20="","ゲーム取得率",SUM(BB20,BE20,BK20)/SUM(BA20:BL20)) -> ゲーム取得率 | BO21: 順位
C22: 順位決定方法 ①完了試合数 ②勝数 ③直接対決 ④取得ゲーム率（取得ゲーム数/全ゲーム数） | AW22: =IF(#REF!="","",VLOOKUP(#REF!,登録No.!$A$3:$N$508,4,FALSE)) -> #REF! | AY22: =IF(AU22="","",VLOOKUP(AU22,登録No.!$A$3:$N$508,4,FALSE)) | BM22: =IF(#REF!="","ゲーム取得率",SUM(#REF!,#REF!,#REF!)/SUM(#REF!)) -> #REF! | BO22: 順位
C24: 決勝トーナメント
AW25: ↓コート・集合時間（ひばり公園 外A 8：45までに本部に出席を届ける）
C26: リーグ1・1位 | J26: 勝者 | P26: リーグ2・1位 | AU26: 5人リーグ | AW26: リーグ | BA26: =AW27 | BB26: ・ | BC26: =AY27 | BD26: =AW29 | BE26: ・ | BF26: =AY29 | BG26: =AW31 | BH26: ・ | BI26: =AY31 | BJ26: =AW33 | BK26: ・ | BL26: =AY33 | BM26: =AW35 | BN26: ・ | BO26: =AY35 | BP26: 成績／順位
J27: 結果 | AW27: =IF(AU27="","",VLOOKUP(AU27,登録No.!$A$3:$N$508,2,FALSE)) | AY27: =IF(AU28="","",VLOOKUP(AU28,登録No.!$A$3:$N$508,2,FALSE)) | BD27: =IF(BE27="","①",IF(BE27>BF27,"〇","×")) -> ① | BG27: =IF(BH27="","⑥",IF(BH27>BI27,"〇","×")) -> ⑥ | BJ27: =IF(BK27="","⑨",IF(BK27>BL27,"〇","×")) -> ⑨ | BM27: =IF(BN27="","③",IF(BN27>BO27,"〇","×")) -> ③ | BP27: =IF(BE27="","勝",COUNTIF(BD27:BO27,"〇")) -> 勝 | BR27: =IF(BE27="","敗",COUNTIF(BD27:BO27,"×")) -> 敗
AW28: =IF(AU27="","",VLOOKUP(AU27,登録No.!$A$3:$N$508,4,FALSE)) | AY28: =IF(AU28="","",VLOOKUP(AU28,登録No.!$A$3:$N$508,4,FALSE)) | BP28: =IF(BH27="","ゲーム取得率",SUM(BE27,BH27,BK27,BN27)/SUM(BD27:BO27)) -> ゲーム取得率 | BR28: 順位
AW29: =IF(AU29="","",VLOOKUP(AU29,登録No.!$A$3:$N$508,2,FALSE)) | AY29: =IF(AU30="","",VLOOKUP(AU30,登録No.!$A$3:$N$508,2,FALSE)) | BA29: =IF(BE27="","",IF(BD27="〇","×","〇")) | BB29: =IF(BF27="","",BF27) | BC29: =IF(BE27="","",BE27) | BG29: =IF(BH29="","④",IF(BH29>BI29,"〇","×")) -> ④ | BJ29: =IF(BK29="","⑦",IF(BK29>BL29,"〇","×")) -> ⑦ | BM29: =IF(BN29="","⑩",IF(BN29>BO29,"〇","×")) -> ⑩ | BP29: =IF(BA29="","勝",COUNTIF(BA29:BO29,"〇")) -> 勝 | BR29: =IF(BB29="","敗",COUNTIF(BA29:BO29,"×")) -> 敗
F30: 1 | H30: 勝者 | L30: 勝者 | N30: 2 | AW30: =IF(AU29="","",VLOOKUP(AU29,登録No.!$A$3:$N$508,4,FALSE)) | AY30: =IF(AU30="","",VLOOKUP(AU30,登録No.!$A$3:$N$508,4,FALSE)) | BP30: =IF(BH29="","ゲーム取得率",SUM(BB29,BH29,BK29,BN29)/SUM(BA29:BO29)) -> ゲーム取得率 | BR30: 順位
H31: 結果 | L31: 結果 | AW31: =IF(AU31="","",VLOOKUP(AU31,登録No.!$A$3:$N$508,2,FALSE)) | AY31: =IF(AU32="","",VLOOKUP(AU32,登録No.!$A$3:$N$508,2,FALSE)) | BA31: =IF(BH27="","",IF(BG27="〇","×","〇")) | BB31: =IF(BI27="","",BI27) | BC31: =IF(BH27="","",BH27) | BD31: =IF(BH29="","",IF(BG29="〇","×","〇")) | BE31: =IF(BI29="","",BI29) | BF31: =IF(BH29="","",BH29) | BJ31: =IF(BK31="","②",IF(BK31>BL31,"〇","×")) -> ② | BM31: =IF(BN31="","⑧",IF(BN31>BO31,"〇","×")) -> ⑧ | BP31: =IF(BB31="","勝",COUNTIF(BA31:BO31,"〇")) -> 勝 | BR31: =IF(BB31="","敗",COUNTIF(BA31:BO31,"×")) -> 敗
AW32: =IF(AU31="","",VLOOKUP(AU31,登録No.!$A$3:$N$508,4,FALSE)) | AY32: =IF(AU32="","",VLOOKUP(AU32,登録No.!$A$3:$N$508,4,FALSE)) | BP32: =IF(BB31="","ゲーム取得率",SUM(BB31,BE31,BK31,BN31)/SUM(BA31:BO31)) -> ゲーム取得率 | BR32: 順位
AW33: =IF(AU33="","",VLOOKUP(AU33,登録No.!$A$3:$N$508,2,FALSE)) | AY33: =IF(AU34="","",VLOOKUP(AU34,登録No.!$A$3:$N$508,2,FALSE)) | BA33: =IF(BK27="","",IF(BJ27="〇","×","〇")) | BB33: =IF(BL27="","",BL27) | BC33: =IF(BK27="","",BK27) | BD33: =IF(BK29="","",IF(BJ29="〇","×","〇")) | BE33: =IF(BL29="","",BL29) | BF33: =IF(BK29="","",BK29) | BG33: =IF(BK31="","",IF(BJ31="〇","×","〇")) | BH33: =IF(BL31="","",BL31) | BI33: =IF(BK31="","",BK31) | BM33: =IF(BN33="","⑤",IF(BN33>BO33,"〇","×")) -> ⑤ | BP33: =IF(BB33="","勝",COUNTIF(BA33:BO33,"〇")) -> 勝 | BR33: =IF(BB33="","敗",COUNTIF(BA33:BO33,"×")) -> 敗
C34: リーグ2・2位 | P34: リーグ1・2位 | AW34: =IF(AU33="","",VLOOKUP(AU33,登録No.!$A$3:$N$508,4,FALSE)) | AY34: =IF(AU34="","",VLOOKUP(AU34,登録No.!$A$3:$N$508,4,FALSE)) | BP34: =IF(BB33="","ゲーム取得率",SUM(BB33,BE33,BH33,BN33)/SUM(BA33:BO33)) -> ゲーム取得率 | BR34: 順位
AW35: =IF(AU35="","",VLOOKUP(AU35,登録No.!$A$3:$N$508,2,FALSE)) | AY35: =IF(AU36="","",VLOOKUP(AU36,登録No.!$A$3:$N$508,2,FALSE)) | BA35: =IF(BN27="","",IF(BM27="〇","×","〇")) | BB35: =IF(BO27="","",BO27) | BC35: =IF(BN27="","",BN27) | BD35: =IF(BM29="⑩","",IF(BM29="〇","×","〇")) | BE35: =IF(BO29="","",BO29) | BF35: =IF(BN29="","",BN29) | BG35: =IF(BN31="","",IF(BM31="〇","×","〇")) | BH35: =IF(BO31="","",BO31) | BI35: =IF(BN31="","",BN31) | BJ35: =IF(BN33="","",IF(BM33="〇","×","〇")) | BK35: =IF(BO33="","",BO33) | BL35: =IF(BN33="","",BN33) | BP35: =IF(BB35="","勝",COUNTIF(BA35:BO35,"〇")) -> 勝 | BR35: =IF(BB35="","敗",COUNTIF(BA35:BO35,"×")) -> 敗
AW36: =IF(AU35="","",VLOOKUP(AU35,登録No.!$A$3:$N$508,4,FALSE)) | AY36: =IF(AU36="","",VLOOKUP(AU36,登録No.!$A$3:$N$508,4,FALSE)) | BP36: =IF(BB35="","ゲーム取得率",SUM(BB35,BE35,BH35,BK35)/SUM(BA35:BO35)) -> ゲーム取得率 | BR36: 順位
C39: コンソレーション
C41: リーグ1・3位
F45: 試合順 | H45: 勝者
H46: 結果
C49: リーグ2・2位
A62: ↑ 印刷範囲

Sheet 女子A
C1: 第22回 東近江市秋季ダブルス大会
A2: 女子A級 | J2: 試合形式（1セットマッチ（６－６タイブレーク）ノーアド方式）
C4: ↓コート・集合時間（ひばり公園ドームA 8：45までに本部に出席を届ける）
A5: 4人リーグ | C5: リーグ | G5: =C6 -> 大野 | H5: ・ | I5: =E6 -> 西野 | J5: =C8 -> 苗村 | K5: ・ | L5: =E8 -> 宮村 | M5: =C10 -> 栗田 | N5: ・ | O5: =E10 -> 木村 | P5: =C12 -> 吉岡 | Q5: ・ | R5: =E12 -> 笹田 | S5: 成績／順位
A6: ふ１３ | C6: =IF(A6="","",VLOOKUP(A6,登録No.!$A$3:$N$508,2,FALSE)) -> 大野 | E6: =IF(A7="","",VLOOKUP(A7,登録No.!$A$3:$N$508,2,FALSE)) -> 西野 | J6: =IF(K6="","⑥",IF(K6>L6,"〇","×")) -> ⑥ | M6: =IF(N6="","④",IF(N6>O6,"〇","×")) -> ④ | P6: =IF(Q6="","②",IF(Q6>R6,"〇","×")) -> ② | S6: =IF(K6="","勝",COUNTIF(G6:R6,"〇")) -> 勝 | U6: =IF(K6="","敗",COUNTIF(G6:R6,"×")) -> 敗
A7: ぐ１９ | C7: =IF(A6="","",VLOOKUP(A6,登録No.!$A$3:$N$508,4,FALSE)) -> フレンズ | E7: =IF(A7="","",VLOOKUP(A7,登録No.!$A$3:$N$508,4,FALSE)) -> グリフィンズ | S7: =IF(K6="","ゲーム取得率",SUM(K6,N6,Q6)/SUM(J6:R6)) -> ゲーム取得率 | U7: 順位
A8: う４３ | C8: =IF(A8="","",VLOOKUP(A8,登録No.!$A$3:$N$508,2,FALSE)) -> 苗村 | E8: =IF(A9="","",VLOOKUP(A9,登録No.!$A$3:$N$508,2,FALSE)) -> 宮村 | G8: =IF(K6="","",IF(J6="〇","×","〇")) | H8: =IF(L6="","",L6) | I8: =IF(K6="","",K6) | M8: =IF(N8="","①",IF(N8>O8,"〇","×")) -> ① | P8: =IF(Q8="","③",IF(Q8>R8,"〇","×")) -> ③ | S8: =IF(G8="","勝",COUNTIF(G8:R8,"〇")) -> 勝 | U8: =IF(G8="","敗",COUNTIF(G8:R8,"×")) -> 敗
A9: あぷ２７ | C9: =IF(A8="","",VLOOKUP(A8,登録No.!$A$3:$N$508,4,FALSE)) -> うさかめ | E9: =IF(A9="","",VLOOKUP(A9,登録No.!$A$3:$N$508,4,FALSE)) -> アプストTC | S9: =IF(G8="","ゲーム取得率",SUM(H8,N8,Q8)/SUM(G8:R8)) -> ゲーム取得率 | U9: 順位
C10: 栗田 | E10: 木村 | G10: =IF(N6="","",IF(M6="〇","×","〇")) | H10: =IF(O6="","",O6) | I10: =IF(N6="","",N6) | J10: =IF(N8="","",IF(M8="〇","×","〇")) | K10: =IF(O8="","",O8) | L10: =IF(N8="","",N8) | P10: =IF(Q10="","⑤",IF(Q10>R10,"〇","×")) -> ⑤ | S10: =IF(K10="","勝",COUNTIF(G10:R10,"〇")) -> 勝 | U10: =IF(J10="","敗",COUNTIF(G10:R10,"×")) -> 敗
