Workbook
Name OLE_LINK1: 要項!$A$1

Sheet 要項
A1: 第１８回東近江市スーパーカップ 要項
A3: ■主 催 東近江市テニス協会 （担当クラブ：うさぎとかめの集い）
A5: ■会 場 ひばり公園6面 すこやかの杜2面（すべて砂入り人工芝）
A7: ■期 日 ２０２６年１１月２２日（日）
A9: ■種 目 団体戦（全種目）
A10: ダブルス：男子ダブルス1、女子ダブルス1、ミックスダブルス1
A11: シングルス：男子シングルス1、女子シングルス1
A12: ※男子は各対戦で１種目しか出場できません。女子は各対戦で２種目まで出場できます。
A14: ■参加資格 東近江市テニス協会会員
A15: 男子４名、女子２名以上を1チームとして申し込む。
A16: ※同一のクラブ員のみで編成する。
A18: ■試合方法 予選リーグ戦⇒決勝トーナメント形式（参加チーム数により変更の可能性あり）
... A51: ■次回案内 第２２回ウィンターシングルス 12/6（日） 開催予定

Sheet 申込書
B1: 第１８回 東近江市スーパーカップ 大会申込書
B2: 所属クラブ名 | D2: 代表者氏名
B3: 代表連絡先
B5: チーム名 | D5: 登録Noを入れると氏名が入力されます
B7: 登録No | C7: 男子 氏 名 | D7: 登録No | E7: 女子 氏 名
C8: =IF(B8="","",VLOOKUP(B8,登録ナンバー!$A$4:$I$571,7,0)) | E8: =IF(D8="","",VLOOKUP(D8,登録ナンバー!$A$4:$I$571,7,0))
C9: =IF(B9="","",VLOOKUP(B9,登録ナンバー!$A$4:$I$571,7,0)) | E9: =IF(D9="","",VLOOKUP(D9,登録ナンバー!$A$4:$I$571,7,0))
C10: =IF(B10="","",VLOOKUP(B10,登録ナンバー!$A$4:$I$571,7,0)) | E10: =IF(D10="","",VLOOKUP(D10,登録ナンバー!$A$4:$I$571,7,0))
C11: =IF(B11="","",VLOOKUP(B11,登録ナンバー!$A$4:$I$571,7,0)) | E11: =IF(D11="","",VLOOKUP(D11,登録ナンバー!$A$4:$I$571,7,0))
C12: =IF(B12="","",VLOOKUP(B12,登録ナンバー!$A$4:$I$571,7,0)) | E12: =IF(D12="","",VLOOKUP(D12,登録ナンバー!$A$4:$I$571,7,0))
B15: チーム名 | D15: 登録Noを入れると氏名が入力されます
B17: 登録No | C17: 男子 氏 名 | D17: 登録No | E17: 女子 氏 名
C18: =IF(B18="","",VLOOKUP(B18,登録ナンバー!$A$4:$I$571,7,0)) | E18: =IF(D18="","",VLOOKUP(D18,登録ナンバー!$A$4:$I$571,7,0))
C19: =IF(B19="","",VLOOKUP(B19,登録ナンバー!$A$4:$I$571,7,0)) | E19: =IF(D19="","",VLOOKUP(D19,登録ナンバー!$A$4:$I$571,7,0))
C20: =IF(B20="","",VLOOKUP(B20,登録ナンバー!$A$4:$I$571,7,0)) | E20: =IF(D20="","",VLOOKUP(D20,登録ナンバー!$A$4:$I$571,7,0))
C21: =IF(B21="","",VLOOKUP(B21,登録ナンバー!$A$4:$I$571,7,0)) | E21: =IF(D21="","",VLOOKUP(D21,登録ナンバー!$A$4:$I$571,7,0))
C22: =IF(B22="","",VLOOKUP(B22,登録ナンバー!$A$4:$I$571,7,0)) | E22: =IF(D22="","",VLOOKUP(D22,登録ナンバー!$A$4:$I$571,7,0))
B25: チーム名 | D25: 登録Noを入れると氏名が入力されます
B27: 登録No | C27: 男子 氏 名 | D27: 登録No | E27: 女子 氏 名
C28: =IF(B28="","",VLOOKUP(B28,登録ナンバー!$A$4:$I$571,7,0)) | E28: =IF(D28="","",VLOOKUP(D28,登録ナンバー!$A$4:$I$571,7,0))
C29: =IF(B29="","",VLOOKUP(B29,登録ナンバー!$A$4:$I$571,7,0)) | E29: =IF(D29="","",VLOOKUP(D29,登録ナンバー!$A$4:$I$571,7,0))
C30: =IF(B30="","",VLOOKUP(B30,登録ナンバー!$A$4:$I$571,7,0)) | E30: =IF(D30="","",VLOOKUP(D30,登録ナンバー!$A$4:$I$571,7,0))
C31: =IF(B31="","",VLOOKUP(B31,登録ナンバー!$A$4:$I$571,7,0)) | E31: =IF(D31="","",VLOOKUP(D31,登録ナンバー!$A$4:$I$571,7,0))
C32: =IF(B32="","",VLOOKUP(B32,登録ナンバー!$A$4:$I$571,7,0)) | E32: =IF(D32="","",VLOOKUP(D32,登録ナンバー!$A$4:$I$571,7,0))
B35: チーム名 | D35: 登録Noを入れると氏名が入力されます
B37: 登録No | C37: 男子 氏 名 | D37: 登録No | E37: 女子 氏 名
C38: =IF(B38="","",VLOOKUP(B38,登録ナンバー!$A$4:$I$571,7,0)) | E38: =IF(D38="","",VLOOKUP(D38,登録ナンバー!$A$4:$I$571,7,0))
C39: =IF(B39="","",VLOOKUP(B39,登録ナンバー!$A$4:$I$571,7,0)) | E39: =IF(D39="","",VLOOKUP(D39,登録ナンバー!$A$4:$I$571,7,0))
C40: =IF(B40="","",VLOOKUP(B40,登録ナンバー!$A$4:$I$571,7,0)) | E40: =IF(D40="","",VLOOKUP(D40,登録ナンバー!$A$4:$I$571,7,0))
C41: =IF(B41="","",VLOOKUP(B41,登録ナンバー!$A$4:$I$571,7,0)) | E41: =IF(D41="","",VLOOKUP(D41,登録ナンバー!$A$4:$I$571,7,0))
C42: =IF(B42="","",VLOOKUP(B42,登録ナンバー!$A$4:$I$571,7,0)) | E42: =IF(D42="","",VLOOKUP(D42,登録ナンバー!$A$4:$I$571,7,0))
C45: 参加費 | D45: チーム数 | E45: 合計
C46: 8,000円／チーム） | D46: 0 | E46: =8000*D46 -> 0

Sheet 登録ナンバー
B1: ２０２６年度東近江市テニス協会登録ナンバー | I1: 46327
B3: 1 | D3: ４４人
A4: あ０１ | B4: 青木 | C4: 重之 | D4: アビックBB | F4: =A4 -> あ０１ | G4: =B4&C4 -> 青木重之 | H4: =D4 -> アビックBB | I4: 男 | J4: 1971 | K4: =IF(J4="","",(2026-J4)) -> 55 | L4: =IF(G4="","",IF(COUNTIF($G$4:$G$109,G4)>1,"2重登録","OK")) -> OK | M4: 草津市
A5: あ０２ | B5: 西川 | C5: 昌一 | D5: アビックBB | F5: =A5 -> あ０２ | G5: =B5&C5 -> 西川昌一 | H5: =D5 -> アビックBB | I5: 男 | J5: 1970 | K5: =IF(J5="","",(2026-J5)) -> 56 | L5: =IF(G5="","",IF(COUNTIF($G$4:$G$109,G5)>1,"2重登録","OK")) -> OK | M5: 彦根市
A6: あ０３ | B6: 安達 | C6: 隆一 | D6: アビックBB | F6: =A6 -> あ０３ | G6: =B6&C6 -> 安達隆一 | H6: =D6 -> アビックBB | I6: 男 | J6: 1970 | K6: =IF(J6="","",(2026-J6)) -> 56 | L6: =IF(G6="","",IF(COUNTIF($G$4:$G$109,G6)>1,"2重登録","OK")) -> OK | M6: 甲賀市
A7: あ０４ | B7: 上原 | C7: 義弘 | D7: アビックBB | F7: =A7 -> あ０４ | G7: =B7&C7 -> 上原義弘 | H7: =D7 -> アビックBB | I7: 男 | J7: 1974 | K7: =IF(J7="","",(2026-J7)) -> 52 | L7: =IF(G7="","",IF(COUNTIF($G$4:$G$109,G7)>1,"2重登録","OK")) -> OK | M7: 彦根市
A8: あ０５ | B8: 寺村 | C8: 浩一 | D8: アビックBB | F8: =A8 -> あ０５ | G8: =B8&C8 -> 寺村浩一 | H8: =D8 -> アビックBB | I8: 男 | J8: 1968 | K8: =IF(J8="","",(2026-J8)) -> 58 | L8: =IF(G8="","",IF(COUNTIF($G$4:$G$109,G8)>1,"2重登録","OK")) -> OK | M8: 愛荘町
A9: あ０６ | B9: 平居 | C9: 崇 | D9: アビックBB | F9: =A9 -> あ０６ | G9: =B9&C9 -> 平居崇 | H9: =D9 -> アビックBB | I9: 男 | J9: 1972 | K9: =IF(J9="","",(2026-J9)) -> 54 | L9: =IF(G9="","",IF(COUNTIF($G$4:$G$109,G9)>1,"2重登録","OK")) -> OK | M9: 多賀町
A10: あ０７ | B10: 大林 | C10: 弘典 | D10: アビックBB | F10: =A10 -> あ０７ | G10: =B10&C10 -> 大林弘典 | H10: =D10 -> アビックBB | I10: 男 | J10: 1989 | K10: =IF(J10="","",(2026-J10)) -> 37 | L10: =IF(G10="","",IF(COUNTIF($G$4:$G$109,G10)>1,"2重登録","OK")) -> OK | M10: 長浜市
A11: あ０８ | B11: 福嶋 | C11: 亮 | D11: アビックBB | F11: =A11 -> あ０８ | G11: =B11&C11 -> 福嶋亮 | H11: =D11 -> アビックBB | I11: 男 | J11: 1961 | K11: =IF(J11="","",(2026-J11)) -> 65 | L11: =IF(G11="","",IF(COUNTIF($G$4:$G$109,G11)>1,"2重登録","OK")) -> OK | M11: 岐阜県
A12: あ０９ | B12: 落合 | C12: 良弘 | D12: アビックBB | F12: =A12 -> あ０９ | G12: =B12&C12 -> 落合良弘 | H12: =D12 -> アビックBB | I12: 男 | J12: 1968 | K12: =IF(J12="","",(2026-J12)) -> 58 | L12: =IF(G12="","",IF(COUNTIF($G$4:$G$109,G12)>1,"2重登録","OK")) -> OK | M12: 長浜市
A13: あ１０ | B13: 松井 | C13: 傳樹 | D13: アビックBB | F13: =A13 -> あ１０ | G13: =B13&C13 -> 松井傳樹 | H13: =D13 -> アビックBB | I13: 男 | J13: 1987 | K13: =IF(J13="","",(2026-J13)) -> 39 | L13: =IF(G13="","",IF(COUNTIF($G$4:$G$109,G13)>1,"2重登録","OK")) -> OK | M13: 彦根市
A14: あ１１ | B14: 長谷川 | C14: 優 | D14: アビックBB | F14: =A14 -> あ１１ | G14: =B14&C14 -> 長谷川優 | H14: =D14 -> アビックBB | I14: 男 | J14: 1973 | K14: =IF(J14="","",(2026-J14)) -> 53 | L14: =IF(G14="","",IF(COUNTIF($G$4:$G$109,G14)>1,"2重登録","OK")) -> OK | M14: 甲賀市
A15: あ１２ | B15: 草野 | C15: 活地 | D15: アビックBB | F15: =A15 -> あ１２ | G15: =B15&C15 -> 草野活地 | H15: =D15 -> アビックBB | I15: 男 | J15: 1974 | K15: =IF(J15="","",(2026-J15)) -> 52 | L15: =IF(G15="","",IF(COUNTIF($G$4:$G$109,G15)>1,"2重登録","OK")) -> OK | M15: 草津市
... A23: あ２０ | B23: 坪井 | C23: 徳寿 | D23: アビックBB | F23: =A23 -> あ２０ | G23: =B23&C23 -> 坪井徳寿 | H23: =D23 -> アビックBB | I23: 男 | J23: 1979 | K23: =IF(J23="","",(2026-J23)) -> 47 | L23: =IF(G23="","",IF(COUNTIF($G$4:$G$109,G23)>1,"2重登録","OK")) -> OK | M23: 草津市
A24: あ２１ | B24: 辻村 | C24: 惣一 | D24: アビックBB | E24: ｓｅ | F24: =A24 -> あ２１ | G24: =B24&C24 -> 辻村惣一 | H24: =D24 -> アビックBB | I24: 男 | J24: 1953 | K24: =IF(J24="","",(2026-J24)) -> 73 | L24: =IF(G24="","",IF(COUNTIF($G$4:$G$109,G24)>1,"2重登録","OK")) -> OK | M24: 長浜市
A25: あ２２ | B25: 槇田 | C25: 学 | D25: アビックBB | F25: =A25 -> あ２２ | G25: =B25&C25 -> 槇田学 | H25: =D25 -> アビックBB | I25: 男 | J25: 1965 | K25: =IF(J25="","",(2026-J25)) -> 61 | L25: =IF(G25="","",IF(COUNTIF($G$4:$G$109,G25)>1,"2重登録","OK")) -> OK | M25: 彦根市
A26: あ２３ | B26: 武久 | C26: 真也 | D26: アビックBB | F26: =A26 -> あ２３ | G26: =B26&C26 -> 武久真也 | H26: =D26 -> アビックBB | I26: 男 | J26: 1982 | K26: =IF(J26="","",(2026-J26)) -> 44 | L26: =IF(G26="","",IF(COUNTIF($G$4:$G$109,G26)>1,"2重登録","OK")) -> OK | M26: 近江八幡市
A27: あ２４ | B27: 大脇 | C27: 和世 | D27: アビックBB | F27: =A27 -> あ２４ | G27: =B27&C27 -> 大脇和世 | H27: =D27 -> アビックBB | I27: 女 | J27: 1970 | K27: =IF(J27="","",(2026-J27)) -> 56 | L27: =IF(G27="","",IF(COUNTIF($G$4:$G$109,G27)>1,"2重登録","OK")) -> OK | M27: 愛荘町
A28: あ２５ | B28: 西山 | C28: 抄千代 | D28: アビックBB | F28: =A28 -> あ２５ | G28: =B28&C28 -> 西山抄千代 | H28: =D28 -> アビックBB | I28: 女 | J28: 1972 | K28: =IF(J28="","",(2026-J28)) -> 54 | L28: =IF(G28="","",IF(COUNTIF($G$4:$G$109,G28)>1,"2重登録","OK")) -> OK | M28: 米原市
A29: あ２６ | B29: 齋田 | C29: 優子 | D29: アビックBB | F29: =A29 -> あ２６ | G29: =B29&C29 -> 齋田優子 | H29: =D29 -> アビックBB | I29: 女 | J29: 1983 | K29: =IF(J29="","",(2026-J29)) -> 43 | L29: =IF(G29="","",IF(COUNTIF($G$4:$G$109,G29)>1,"2重登録","OK")) -> OK | M29: 長浜市
A30: あ２７ | B30: 中村 | C30: 紗映子 | D30: アビックBB | F30: =A30 -> あ２７ | G30: =B30&C30 -> 中村紗映子 | H30: =D30 -> アビックBB | I30: 女 | J30: 1983 | K30: =IF(J30="","",(2026-J30)) -> 43 | L30: =IF(G30="","",IF(COUNTIF($G$4:$G$109,G30)>1,"2重登録","OK")) -> OK | M30: 長浜市
A31: あ２８ | B31: 松本 | C31: 光美 | D31: アビックBB | F31: =A31 -> あ２８ | G31: =B31&C31 -> 松本光美 | H31: =D31 -> アビックBB | I31: 女 | J31: 1971 | K31: =IF(J31="","",(2026-J31)) -> 55 | L31: =IF(G31="","",IF(COUNTIF($G$4:$G$109,G31)>1,"2重登録","OK")) -> OK | M31: 草津市
A32: あ２９ | B32: 堅田 | C32: 瑞木 | D32: アビックBB | F32: =A32 -> あ２９ | G32: =B32&C32 -> 堅田瑞木 | H32: =D32 -> アビックBB | I32: 女 | J32: 1996 | K32: =IF(J32="","",(2026-J32)) -> 30 | L32: =IF(G32="","",IF(COUNTIF($G$4:$G$109,G32)>1,"2重登録","OK")) -> OK | M32: 京都府
A33: あ３０ | B33: 堀田 | C33: 明子 | D33: アビックBB | F33: =A33 -> あ３０ | G33: =B33&C33 -> 堀田明子 | H33: =D33 -> アビックBB | I33: 女 | J33: 1970 | K33: =IF(J33="","",(2026-J33)) -> 56 | L33: =IF(G33="","",IF(COUNTIF($G$4:$G$109,G33)>1,"2重登録","OK")) -> OK | M33: 東近江市
A34: あ３１ | B34: 佐野 | C34: 直美 | D34: アビックBB | F34: =A34 -> あ３１ | G34: =B34&C34 -> 佐野直美 | H34: =D34 -> アビックBB | I34: 女 | J34: 1975 | K34: =IF(J34="","",(2026-J34)) -> 51 | L34: =IF(G34="","",IF(COUNTIF($G$4:$G$109,G34)>1,"2重登録","OK")) -> OK | M34: 京都府
A35: あ３２ | B35: 千代 | C35: 美由紀 | D35: アビックBB | F35: =A35 -> あ３２ | G35: =B35&C35 -> 千代美由紀 | H35: =D35 -> アビックBB | I35: 女 | J35: 1972 | K35: =IF(J35="","",(2026-J35)) -> 54 | L35: =IF(G35="","",IF(COUNTIF($G$4:$G$109,G35)>1,"2重登録","OK")) -> OK | M35: 京都府
A36: あ３３ | B36: 小西 | C36: 由美子 | D36: アビックBB | F36: =A36 -> あ３３ | G36: =B36&C36 -> 小西由美子 | H36: =D36 -> アビックBB | I36: 女 | J36: 1968 | K36: =IF(J36="","",(2026-J36)) -> 58 | L36: =IF(G36="","",IF(COUNTIF($G$4:$G$109,G36)>1,"2重登録","OK")) -> OK | M36: 近江八幡市
... A47: あ４４ | B47: 長瀬 | C47: 圭音 | D47: アビックBB | F47: =A47 -> あ４４ | G47: =B47&C47 -> 長瀬圭音 | H47: =D47 -> アビックBB | I47: 女 | J47: 2007 | K47: =IF(J47="","",(2026-J47)) -> 19 | L47: =IF(G47="","",IF(COUNTIF($G$4:$G$109,G47)>1,"2重登録","OK")) -> OK | M47: 東近江市
B48: 2 | D48: ３３人 | K48: =IF(J48="","",(2026-J48))
A49: あぷ０１ | B49: 杉山 | C49: 邦夫 | D49: アプストTC | E49: ｓｅ | F49: =A49 -> あぷ０１ | G49: =B49&C49 -> 杉山邦夫 | H49: =D49 -> アプストTC | I49: 男 | J49: 1950 | K49: =IF(J49="","",(2026-J49)) -> 76 | L49: =IF(G49="","",IF(COUNTIF($G$4:$G$117,G49)>1,"2重登録","OK")) -> OK | M49: 多賀町
A50: あぷ０２ | B50: 川上 | C50: 英二 | D50: アプストTC | F50: =A50 -> あぷ０２ | G50: =B50&C50 -> 川上英二 | H50: =D50 -> アプストTC | I50: 男 | J50: 1963 | K50: =IF(J50="","",(2026-J50)) -> 63 | L50: =IF(G50="","",IF(COUNTIF($G$4:$G$117,G50)>1,"2重登録","OK")) -> OK | M50: 東近江市
A51: あぷ０３ | B51: 浅田 | C51: 隆昭 | D51: アプストTC | F51: =A51 -> あぷ０３ | G51: =B51&C51 -> 浅田隆昭 | H51: =D51 -> アプストTC | I51: 男 | J51: 1964 | K51: =IF(J51="","",(2026-J51)) -> 62 | L51: =IF(G51="","",IF(COUNTIF($G$4:$G$117,G51)>1,"2重登録","OK")) -> OK | M51: 守山市
A52: あぷ０４ | B52: 森永 | C52: 洋介 | D52: アプストTC | F52: =A52 -> あぷ０４ | G52: =B52&C52 -> 森永洋介 | H52: =D52 -> アプストTC | I52: 男 | J52: 1986 | K52: =IF(J52="","",(2026-J52)) -> 40 | L52: =IF(G52="","",IF(COUNTIF($G$4:$G$117,G52)>1,"2重登録","OK")) -> OK | M52: 近江八幡市
A53: あぷ０５ | B53: 辰巳 | C53: 悟朗 | D53: アプストTC | F53: =A53 -> あぷ０５ | G53: =B53&C53 -> 辰巳悟朗 | H53: =D53 -> アプストTC | I53: 男 | J53: 1974 | K53: =IF(J53="","",(2026-J53)) -> 52 | L53: =IF(G53="","",IF(COUNTIF($G$4:$G$117,G53)>1,"2重登録","OK")) -> OK | M53: 彦根市
A54: あぷ０６ | B54: 川上 | C54: 美弥子 | D54: アプストTC | F54: =A54 -> あぷ０６ | G54: =B54&C54 -> 川上美弥子 | H54: =D54 -> アプストTC | I54: 女 | J54: 1971 | K54: =IF(J54="","",(2026-J54)) -> 55 | L54: =IF(G54="","",IF(COUNTIF($G$4:$G$117,G54)>1,"2重登録","OK")) -> OK | M54: 東近江市
A55: あぷ０７ | B55: 山内 | C55: 雄平 | D55: アプストTC | F55: =A55 -> あぷ０７ | G55: =B55&C55 -> 山内雄平 | H55: =D55 -> アプストTC | I55: 男 | J55: 1989 | K55: =IF(J55="","",(2026-J55)) -> 37 | L55: =IF(G55="","",IF(COUNTIF($G$4:$G$117,G55)>1,"2重登録","OK")) -> OK | M55: 東近江市
A56: あぷ０８ | B56: 木村 | C56: 美香 | D56: アプストTC | F56: =A56 -> あぷ０８ | G56: =B56&C56 -> 木村美香 | H56: =D56 -> アプストTC | I56: 女 | J56: 1962 | K56: =IF(J56="","",(2026-J56)) -> 64 | L56: =IF(G56="","",IF(COUNTIF($G$4:$G$117,G56)>1,"2重登録","OK")) -> OK | M56: 米原市
A57: あぷ０９ | B57: 日高 | C57: 眞規子 | D57: アプストTC | F57: =A57 -> あぷ０９ | G57: =B57&C57 -> 日高眞規子 | H57: =D57 -> アプストTC | I57: 女 | J57: 1963 | K57: =IF(J57="","",(2026-J57)) -> 63 | L57: =IF(G57="","",IF(COUNTIF($G$4:$G$117,G57)>1,"2重登録","OK")) -> OK | M57: 長浜市
A58: あぷ１０ | B58: 長谷出 | C58: 浩 | D58: アプストTC | F58: =A58 -> あぷ１０ | G58: =B58&C58 -> 長谷出浩 | H58: =D58 -> アプストTC | I58: 男 | J58: 1960 | K58: =IF(J58="","",(2026-J58)) -> 66 | L58: =IF(G58="","",IF(COUNTIF($G$4:$G$117,G58)>1,"2重登録","OK")) -> OK | M58: 東近江市
A59: あぷ１１ | B59: 奥田 | C59: 純也 | D59: アプストTC | F59: =A59 -> あぷ１１ | G59: =B59&C59 -> 奥田純也 | H59: =D59 -> アプストTC | I59: 男 | J59: 1963 | K59: =IF(J59="","",(2026-J59)) -> 63 | L59: =IF(G59="","",IF(COUNTIF($G$4:$G$117,G59)>1,"2重登録","OK")) -> OK | M59: 東近江市
A60: あぷ１２ | B60: 村田 | C60: 理恵子 | D60: アプストTC | F60: =A60 -> あぷ１２ | G60: =B60&C60 -> 村田理恵子 | H60: =D60 -> アプストTC | I60: 女 | J60: 1979 | K60: =IF(J60="","",(2026-J60)) -> 47 | L60: =IF(G60="","",IF(COUNTIF($G$4:$G$117,G60)>1,"2重登録","OK")) -> OK | M60: 東近江市
A61: あぷ１３ | B61: 東 | C61: 正隆 | D61: アプストTC | F61: =A61 -> あぷ１３ | G61: =B61&C61 -> 東正隆 | H61: =D61 -> アプストTC | I61: 男 | J61: 1965 | K61: =IF(J61="","",(2026-J61)) -> 61 | L61: =IF(G61="","",IF(COUNTIF($G$4:$G$117,G61)>1,"2重登録","OK")) -> OK | M61: 彦根市
... A81: あぷ３３ | B81: 赤木 | C81: 拓 | D81: アプストTC | F81: =A81 -> あぷ３３ | G81: =B81&C81 -> 赤木拓 | H81: =D81 -> アプストTC | I81: 男 | J81: 1979 | K81: =IF(J81="","",(2026-J81)) -> 47 | L81: =IF(G81="","",IF(COUNTIF($G$4:$G$117,G81)>1,"2重登録","OK")) -> OK | M81: 近江八幡市
B82: 3 | D82: ２７人 | H82: =D82 -> ２７人 | K82: =IF(J82="","",(2026-J82))
A83: あん０１ | B83: 上津 | C83: 慶和 | D83: アンヴァース | F83: =A83 -> あん０１ | G83: =B83&C83 -> 上津慶和 | H83: =D83 -> アンヴァース | I83: 男 | J83: 1993 | K83: =IF(J83="","",(2026-J83)) -> 33 | L83: =IF(G83="","",IF(COUNTIF($G$5:$G$632,G83)>1,"2重登録","OK")) -> OK | M83: 大津市
A84: あん０２ | B84: 脇坂 | C84: 和樹 | D84: アンヴァース | F84: =A84 -> あん０２ | G84: =B84&C84 -> 脇坂和樹 | H84: =D84 -> アンヴァース | I84: 男 | J84: 1992 | K84: =IF(J84="","",(2026-J84)) -> 34 | L84: =IF(G84="","",IF(COUNTIF($G$5:$G$632,G84)>1,"2重登録","OK")) -> OK | M84: 彦根市
A85: あん０３ | B85: 小田 | C85: 紀彦 | D85: アンヴァース | F85: =A85 -> あん０３ | G85: =B85&C85 -> 小田紀彦 | H85: =D85 -> アンヴァース | I85: 男 | J85: 1984 | K85: =IF(J85="","",(2026-J85)) -> 42 | L85: =IF(G85="","",IF(COUNTIF($G$5:$G$632,G85)>1,"2重登録","OK")) -> OK | M85: 野洲市
A86: あん０４ | B86: 越智 | C86: 友基 | D86: アンヴァース | F86: =A86 -> あん０４ | G86: =B86&C86 -> 越智友基 | H86: =D86 -> アンヴァース | I86: 男 | J86: 1987 | K86: =IF(J86="","",(2026-J86)) -> 39 | L86: =IF(G86="","",IF(COUNTIF($G$5:$G$632,G86)>1,"2重登録","OK")) -> OK | M86: 野洲市
A87: あん０５ | B87: 辻本 | C87: 将士 | D87: アンヴァース | F87: =A87 -> あん０５ | G87: =B87&C87 -> 辻本将士 | H87: =D87 -> アンヴァース | I87: 男 | J87: 1986 | K87: =IF(J87="","",(2026-J87)) -> 40 | L87: =IF(G87="","",IF(COUNTIF($G$5:$G$632,G87)>1,"2重登録","OK")) -> OK | M87: 東近江市
A88: あん０６ | B88: 津曲 | C88: 崇志 | D88: アンヴァース | F88: =A88 -> あん０６ | G88: =B88&C88 -> 津曲崇志 | H88: =D88 -> アンヴァース | I88: 男 | J88: 1989 | K88: =IF(J88="","",(2026-J88)) -> 37 | L88: =IF(G88="","",IF(COUNTIF($G$5:$G$632,G88)>1,"2重登録","OK")) -> OK | M88: 湖南市
A89: あん０７ | B89: 鍋内 | C89: 雄樹 | D89: アンヴァース | F89: =A89 -> あん０７ | G89: =B89&C89 -> 鍋内雄樹 | H89: =D89 -> アンヴァース | I89: 男 | J89: 1990 | K89: =IF(J89="","",(2026-J89)) -> 36 | L89: =IF(G89="","",IF(COUNTIF($G$5:$G$632,G89)>1,"2重登録","OK")) -> OK | M89: 湖南市
A90: あん０８ | B90: 桐原 | C90: 昇汰 | D90: アンヴァース | F90: =A90 -> あん０８ | G90: =B90&C90 -> 桐原昇汰 | H90: =D90 -> アンヴァース | I90: 男 | J90: 1994 | K90: =IF(J90="","",(2026-J90)) -> 32 | L90: =IF(G90="","",IF(COUNTIF($G$5:$G$632,G90)>1,"2重登録","OK")) -> OK | M90: 守山市
A91: あん０９ | B91: 松村 | C91: 友喜 | D91: アンヴァース | F91: =A91 -> あん０９ | G91: =B91&C91 -> 松村友喜 | H91: =D91 -> アンヴァース | I91: 男 | J91: 1988 | K91: =IF(J91="","",(2026-J91)) -> 38 | L91: =IF(G91="","",IF(COUNTIF($G$5:$G$632,G91)>1,"2重登録","OK")) -> OK | M91: 彦根市
A92: あん１０ | B92: 薮内 | C92: 豪 | D92: アンヴァース | F92: =A92 -> あん１０ | G92: =B92&C92 -> 薮内豪 | H92: =D92 -> アンヴァース | I92: 男 | J92: 1986 | K92: =IF(J92="","",(2026-J92)) -> 40 | L92: =IF(G92="","",IF(COUNTIF($G$5:$G$632,G92)>1,"2重登録","OK")) -> OK | M92: 長浜市
A93: あん１１ | B93: 山田 | C93: 佳明 | D93: アンヴァース | F93: =A93 -> あん１１ | G93: =B93&C93 -> 山田佳明 | H93: =D93 -> アンヴァース | I93: 男 | J93: 1986 | K93: =IF(J93="","",(2026-J93)) -> 40 | L93: =IF(G93="","",IF(COUNTIF($G$5:$G$632,G93)>1,"2重登録","OK")) -> OK | M93: 京都府
A94: あん１２ | B94: 政田 | C94: 秀栄 | D94: アンヴァース | F94: =A94 -> あん１２ | G94: =B94&C94 -> 政田秀栄 | H94: =D94 -> アンヴァース | I94: 男 | J94: 1982 | K94: =IF(J94="","",(2026-J94)) -> 44 | L94: =IF(G94="","",IF(COUNTIF($G$5:$G$632,G94)>1,"2重登録","OK")) -> OK | M94: 栗東市
... A109: あん２７ | B109: 青木 | C109: 奈菜 | D109: アンヴァース | F109: =A109 -> あん２７ | G109: =B109&C109 -> 青木奈菜 | H109: =D109 -> アンヴァース | I109: 女 | J109: 2006 | K109: =IF(J109="","",(2026-J109)) -> 20 | L109: =IF(G109="","",IF(COUNTIF($G$5:$G$632,G109)>1,"2重登録","OK")) -> OK | M109: 岐阜県
B110: 4 | D110: ３０人 | H110: =D110 -> ３０人 | K110: =IF(J110="","",(2026-J110))
A111: け０１ | B111: 稲岡 | C111: 和紀 | D111: Kテニス | F111: =A111 -> け０１ | G111: =B111&C111 -> 稲岡和紀 | H111: Ｋテニスカレッジ | I111: 男 | J111: 1978 | K111: =IF(J111="","",(2026-J111)) -> 48 | L111: =IF(G111="","",IF(COUNTIF($G$4:$G$109,G111)>1,"2重登録","OK")) -> OK | M111: 東近江市
A112: け０２ | B112: 上村 | C112: 武 | D112: Kテニス | F112: =A112 -> け０２ | G112: =B112&C112 -> 上村 武 | H112: Ｋテニスカレッジ | I112: 男 | J112: 1978 | K112: =IF(J112="","",(2026-J112)) -> 48 | L112: =IF(G112="","",IF(COUNTIF($G$4:$G$109,G112)>1,"2重登録","OK")) -> OK | M112: 彦根市
A113: け０３ | B113: 川上 | C113: 悠作 | D113: Kテニス | F113: =A113 -> け０３ | G113: =B113&C113 -> 川上悠作 | H113: Ｋテニスカレッジ | I113: 男 | J113: 2000 | K113: =IF(J113="","",(2026-J113)) -> 26 | L113: =IF(G113="","",IF(COUNTIF($G$4:$G$109,G113)>1,"2重登録","OK")) -> OK | M113: 東近江市
A114: け０４ | B114: 坪田 | C114: 真嘉 | D114: Kテニス | F114: =A114 -> け０４ | G114: =B114&C114 -> 坪田真嘉 | H114: Ｋテニスカレッジ | I114: 男 | J114: 1976 | K114: =IF(J114="","",(2026-J114)) -> 50 | L114: =IF(G114="","",IF(COUNTIF($G$4:$G$109,G114)>1,"2重登録","OK")) -> OK | M114: 東近江市
A115: け０５ | B115: 山口 | C115: 直彦 | D115: Kテニス | F115: =A115 -> け０５ | G115: =B115&C115 -> 山口直彦 | H115: Ｋテニスカレッジ | I115: 男 | J115: 1986 | K115: =IF(J115="","",(2026-J115)) -> 40 | L115: =IF(G115="","",IF(COUNTIF($G$4:$G$109,G115)>1,"2重登録","OK")) -> OK | M115: 東近江市
A116: け０６ | B116: 福永 | C116: 裕美 | D116: Kテニス | F116: =A116 -> け０６ | G116: =B116&C116 -> 福永裕美 | H116: Ｋテニスカレッジ | I116: 女 | J116: 1963 | K116: =IF(J116="","",(2026-J116)) -> 63 | L116: =IF(G116="","",IF(COUNTIF($G$4:$G$109,G116)>1,"2重登録","OK")) -> OK | M116: 東近江市
A117: け０７ | B117: 福永 | C117: 一典 | D117: Kテニス | F117: =A117 -> け０７ | G117: =B117&C117 -> 福永一典 | H117: Ｋテニスカレッジ | I117: 男 | J117: 1967 | K117: =IF(J117="","",(2026-J117)) -> 59 | L117: =IF(G117="","",IF(COUNTIF($G$4:$G$109,G117)>1,"2重登録","OK")) -> OK | M117: 近江八幡市
A118: け０８ | B118: 小澤 | C118: 藤信 | D118: Kテニス | F118: =A118 -> け０８ | G118: =B118&C118 -> 小澤藤信 | H118: Ｋテニスカレッジ | I118: 男 | J118: 1964 | K118: =IF(J118="","",(2026-J118)) -> 62 | L118: =IF(G118="","",IF(COUNTIF($G$4:$G$109,G118)>1,"2重登録","OK")) -> OK | M118: 彦根市
A119: け０９ | B119: 朝日 | C119: 尚紀 | D119: Kテニス | F119: =A119 -> け０９ | G119: =B119&C119 -> 朝日尚紀 | H119: Ｋテニスカレッジ | I119: 男 | J119: 1983 | K119: =IF(J119="","",(2026-J119)) -> 43 | L119: =IF(G119="","",IF(COUNTIF($G$4:$G$109,G119)>1,"2重登録","OK")) -> OK | M119: 三重県
A120: け１０ | B120: 朝日 | C120: 智美 | D120: Kテニス | F120: =A120 -> け１０ | G120: =B120&C120 -> 朝日智美 | H120: Ｋテニスカレッジ | I120: 女 | J120: 1983 | K120: =IF(J120="","",(2026-J120)) -> 43 | L120: =IF(G120="","",IF(COUNTIF($G$4:$G$109,G120)>1,"2重登録","OK")) -> OK | M120: 三重県
A121: け１１ | B121: 本多 | C121: 勇輝 | D121: Kテニス | F121: =A121 -> け１１ | G121: =B121&C121 -> 本多勇輝 | H121: Ｋテニスカレッジ | I121: 男 | J121: 1989 | K121: =IF(J121="","",(2026-J121)) -> 37 | L121: =IF(G121="","",IF(COUNTIF($G$4:$G$109,G121)>1,"2重登録","OK")) -> OK | M121: 守山市
A122: け１２ | B122: 堤 | C122: 泰彦 | D122: Kテニス | F122: =A122 -> け１２ | G122: =B122&C122 -> 堤泰彦 | H122: Ｋテニスカレッジ | I122: 男 | J122: 1987 | K122: =IF(J122="","",(2026-J122)) -> 39 | L122: =IF(G122="","",IF(COUNTIF($G$4:$G$109,G122)>1,"2重登録","OK")) -> OK | M122: 東近江市
... A134: け２４ | B134: 中島 | C134: 康之 | D134: Kテニス | F134: =A134 -> け２４ | G134: =B134&C134 -> 中島康之 | H134: Ｋテニスカレッジ | I134: 男 | J134: 1980 | K134: =IF(J134="","",(2026-J134)) -> 46 | L134: =IF(G134="","",IF(COUNTIF($G$4:$G$109,G134)>1,"2重登録","OK")) -> OK | M134: 東近江市
A135: け２５ | B135: 山口 | C135: 希子 | D135: Kテニス | E135: ｊｒ | F135: =A135 -> け２５ | G135: =B135&C135 -> 山口希子 | H135: Ｋテニスカレッジ | I135: 女 | J135: 2014 | K135: =IF(J135="","",(2026-J135)) -> 12 | L135: =IF(G135="","",IF(COUNTIF($G$4:$G$109,G135)>1,"2重登録","OK")) -> OK | M135: 東近江市
A136: け２６ | B136: 𠮷越 | C136: 洋一 | D136: Kテニス | F136: =A136 -> け２６ | G136: =B136&C136 -> 𠮷越洋一 | H136: Ｋテニスカレッジ | I136: 男 | J136: 1977 | K136: =IF(J136="","",(2026-J136)) -> 49 | L136: =IF(G136="","",IF(COUNTIF($G$4:$G$109,G136)>1,"2重登録","OK")) -> OK | M136: 大阪府
A137: け２７ | B137: 稲岡 | C137: 沙良 | D137: Kテニス | E137: ｊｒ | F137: =A137 -> け２７ | G137: =B137&C137 -> 稲岡沙良 | H137: Ｋテニスカレッジ | I137: 女 | J137: 2012 | K137: =IF(J137="","",(2026-J137)) -> 14 | L137: =IF(G137="","",IF(COUNTIF($G$4:$G$109,G137)>1,"2重登録","OK")) -> OK | M137: 東近江市
A138: け２８ | B138: 大橋 | C138: 凛斗 | D138: Kテニス | E138: ｊｒ | F138: =A138 -> け２８ | G138: =B138&C138 -> 大橋凛斗 | H138: Ｋテニスカレッジ | I138: 男 | J138: 2015 | K138: =IF(J138="","",(2026-J138)) -> 11 | L138: =IF(G138="","",IF(COUNTIF($G$4:$G$109,G138)>1,"2重登録","OK")) -> OK | M138: 栗東市
A139: け２９ | B139: 岡本 | C139: 隆之介 | D139: Kテニス | E139: ｊｒ | F139: =A139 -> け２９ | G139: =B139&C139 -> 岡本隆之介 | H139: Ｋテニスカレッジ | I139: 男 | J139: 2015 | K139: =IF(J139="","",(2026-J139)) -> 11 | L139: =IF(G139="","",IF(COUNTIF($G$4:$G$109,G139)>1,"2重登録","OK")) -> OK | M139: 大津市
A140: け３０ | B140: 山口 | C140: 美由希 | D140: Kテニス | F140: =A140 -> け３０ | G140: =B140&C140 -> 山口美由希 | H140: Ｋテニスカレッジ | I140: 女 | J140: 1988 | K140: =IF(J140="","",(2026-J140)) -> 38 | L140: =IF(G140="","",IF(COUNTIF($G$4:$G$109,G140)>1,"2重登録","OK")) -> OK | M140: 東近江市
B141: 5 | D141: ３４人 | K141: =IF(J141="","",(2026-J141))
A142: き０１ | B142: 荒浪 | C142: 順次 | D142: 京セラTC | F142: =A142 -> き０１ | G142: =B142&C142 -> 荒浪順次 | H142: =D142 -> 京セラTC | I142: 男 | J142: 1977 | K142: =IF(J142="","",(2026-J142)) -> 49 | L142: =IF(G142="","",IF(COUNTIF($G$4:$G$109,G142)>1,"2重登録","OK")) -> OK | M142: 大津市
A143: き０２ | B143: 井澤 | C143: 匡志 | D143: 京セラTC | F143: =A143 -> き０２ | G143: =B143&C143 -> 井澤 匡志 | H143: =D143 -> 京セラTC | I143: 男 | J143: 1967 | K143: =IF(J143="","",(2026-J143)) -> 59 | L143: =IF(G143="","",IF(COUNTIF($G$4:$G$109,G143)>1,"2重登録","OK")) -> OK | M143: 東近江市
A144: き０３ | B144: 石井 | C144: 耶真斗 | D144: 京セラTC | F144: =A144 -> き０３ | G144: =B144&C144 -> 石井耶真斗 | H144: =D144 -> 京セラTC | I144: 男 | J144: 1995 | K144: =IF(J144="","",(2026-J144)) -> 31 | L144: =IF(G144="","",IF(COUNTIF($G$4:$G$109,G144)>1,"2重登録","OK")) -> OK | M144: 東近江市
A145: き０４ | B145: 石川 | C145: 和洋 | D145: 京セラTC | F145: =A145 -> き０４ | G145: =B145&C145 -> 石川和洋 | H145: =D145 -> 京セラTC | I145: 男 | J145: 1978 | K145: =IF(J145="","",(2026-J145)) -> 48 | L145: =IF(G145="","",IF(COUNTIF($G$4:$G$109,G145)>1,"2重登録","OK")) -> OK | M145: 竜王町
A146: き０５ | B146: 石田 | C146: 文彦 | D146: 京セラTC | F146: =A146 -> き０５ | G146: =B146&C146 -> 石田文彦 | H146: =D146 -> 京セラTC | I146: 男 | J146: 1993 | K146: =IF(J146="","",(2026-J146)) -> 33 | L146: =IF(G146="","",IF(COUNTIF($G$4:$G$109,G146)>1,"2重登録","OK")) -> OK | M146: 近江八幡市
A147: き０６ | B147: 一色 | C147: 翼 | D147: 京セラTC | F147: =A147 -> き０６ | G147: =B147&C147 -> 一色翼 | H147: =D147 -> 京セラTC | I147: 男 | J147: 1984 | K147: =IF(J147="","",(2026-J147)) -> 42 | L147: =IF(G147="","",IF(COUNTIF($G$4:$G$109,G147)>1,"2重登録","OK")) -> OK | M147: 東近江市
A148: き０７ | B148: 牛尾 | C148: 紳之介 | D148: 京セラTC | F148: =A148 -> き０７ | G148: =B148&C148 -> 牛尾紳之介 | H148: =D148 -> 京セラTC | I148: 男 | J148: 1984 | K148: =IF(J148="","",(2026-J148)) -> 42 | L148: =IF(G148="","",IF(COUNTIF($G$4:$G$109,G148)>1,"2重登録","OK")) -> OK | M148: 東近江市
A149: き０８ | B149: 太田 | C149: 圭亮 | D149: 京セラTC | F149: =A149 -> き０８ | G149: =B149&C149 -> 太田圭亮 | H149: =D149 -> 京セラTC | I149: 男 | J149: 1981 | K149: =IF(J149="","",(2026-J149)) -> 45 | L149: =IF(G149="","",IF(COUNTIF($G$4:$G$109,G149)>1,"2重登録","OK")) -> OK | M149: 近江八幡市
A150: き０９ | B150: 奥田 | C150: 司 | D150: 京セラTC | F150: =A150 -> き０９ | G150: =B150&C150 -> 奥田司 | H150: =D150 -> 京セラTC | I150: 男 | J150: 1997 | K150: =IF(J150="","",(2026-J150)) -> 29 | L150: =IF(G150="","",IF(COUNTIF($G$4:$G$109,G150)>1,"2重登録","OK")) -> OK | M150: 東近江市
A151: き１０ | B151: 木村 | C151: 圭 | D151: 京セラTC | F151: =A151 -> き１０ | G151: =B151&C151 -> 木村圭 | H151: =D151 -> 京セラTC | I151: 男 | J151: 1968 | K151: =IF(J151="","",(2026-J151)) -> 58 | L151: =IF(G151="","",IF(COUNTIF($G$4:$G$109,G151)>1,"2重登録","OK")) -> OK | M151: 大津市
A152: き１１ | B152: 栗山 | C152: 飛鳥 | D152: 京セラTC | F152: =A152 -> き１１ | G152: =B152&C152 -> 栗山飛鳥 | H152: =D152 -> 京セラTC | I152: 男 | J152: 1997 | K152: =IF(J152="","",(2026-J152)) -> 29 | L152: =IF(G152="","",IF(COUNTIF($G$4:$G$109,G152)>1,"2重登録","OK")) -> OK | M152: 東近江市
A153: き１２ | B153: 清水 | C153: 陽介 | D153: 京セラTC | F153: =A153 -> き１２ | G153: =B153&C153 -> 清水陽介 | H153: =D153 -> 京セラTC | I153: 男 | J153: 1991 | K153: =IF(J153="","",(2026-J153)) -> 35 | L153: =IF(G153="","",IF(COUNTIF($G$4:$G$109,G153)>1,"2重登録","OK")) -> OK | M153: 守山市
... A177: き３６ | B177: 曽我 | C177: 優斗 | D177: 京セラTC | F177: =A177 -> き３６ | G177: =B177&C177 -> 曽我優斗 | H177: =D177 -> 京セラTC | I177: 男 | J177: 2014 | K177: =IF(J177="","",(2026-J177)) -> 12 | L177: =IF(G177="","",IF(COUNTIF($G$4:$G$109,G177)>1,"2重登録","OK")) -> OK | M177: 東近江市
B178: 6 | D178: ４１人 | H178: =D178 -> ４１人 | K178: =IF(J178="","",(2026-J178)) | L178: =IF(G178="","",IF(COUNTIF($G$5:$G$707,G178)>1,"2重登録","OK"))
A179: ぐ０１ | B179: 鍵谷 | C179: 浩太 | D179: グリフィンズ | F179: =A179 -> ぐ０１ | G179: =B179&C179 -> 鍵谷浩太 | H179: 東近江グリフィンズ | I179: 男 | J179: 1991 | K179: =IF(J179="","",(2026-J179)) -> 35 | L179: =IF(G179="","",IF(COUNTIF($G$5:$G$707,G179)>1,"2重登録","OK")) -> OK | M179: 彦根市
A180: ぐ０２ | B180: 中西 | C180: 泰輝 | D180: グリフィンズ | F180: =A180 -> ぐ０２ | G180: =B180&C180 -> 中西泰輝 | H180: 東近江グリフィンズ | I180: 男 | J180: 1992 | K180: =IF(J180="","",(2026-J180)) -> 34 | L180: =IF(G180="","",IF(COUNTIF($G$5:$G$707,G180)>1,"2重登録","OK")) -> OK | M180: 守山市
A181: ぐ０３ | B181: 井ノ口 | C181: 幹也 | D181: グリフィンズ | F181: =A181 -> ぐ０３ | G181: =B181&C181 -> 井ノ口幹也 | H181: 東近江グリフィンズ | I181: 男 | J181: 1990 | K181: =IF(J181="","",(2026-J181)) -> 36 | L181: =IF(G181="","",IF(COUNTIF($G$5:$G$707,G181)>1,"2重登録","OK")) -> OK | M181: 東近江市
A182: ぐ０４ | B182: 久保村 | C182: 悠史 | D182: グリフィンズ | F182: =A182 -> ぐ０４ | G182: =B182&C182 -> 久保村悠史 | H182: 東近江グリフィンズ | I182: 男 | J182: 1990 | K182: =IF(J182="","",(2026-J182)) -> 36 | L182: =IF(G182="","",IF(COUNTIF($G$5:$G$707,G182)>1,"2重登録","OK")) -> OK | M182: 京都府
A183: ぐ０５ | B183: 漆原 | C183: 大介 | D183: グリフィンズ | F183: =A183 -> ぐ０５ | G183: =B183&C183 -> 漆原大介 | H183: 東近江グリフィンズ | I183: 男 | J183: 1988 | K183: =IF(J183="","",(2026-J183)) -> 38 | L183: =IF(G183="","",IF(COUNTIF($G$5:$G$707,G183)>1,"2重登録","OK")) -> OK | M183: 彦根市
A184: ぐ０６ | B184: 土田 | C184: 哲也 | D184: グリフィンズ | F184: =A184 -> ぐ０６ | G184: =B184&C184 -> 土田哲也 | H184: 東近江グリフィンズ | I184: 男 | J184: 1990 | K184: =IF(J184="","",(2026-J184)) -> 36 | L184: =IF(G184="","",IF(COUNTIF($G$5:$G$707,G184)>1,"2重登録","OK")) -> OK | M184: 長浜市
A185: ぐ０７ | B185: 金谷 | C185: 太郎 | D185: グリフィンズ | F185: =A185 -> ぐ０７ | G185: =B185&C185 -> 金谷太郎 | H185: 東近江グリフィンズ | I185: 男 | J185: 1976 | K185: =IF(J185="","",(2026-J185)) -> 50 | L185: =IF(G185="","",IF(COUNTIF($G$5:$G$707,G185)>1,"2重登録","OK")) -> OK | M185: 彦根市
...

Sheet 歴代入賞チーム
B2: 東近江市スーパーカップ 歴代入賞チーム
D6: 優 勝 | F6: 準優勝 | H6: 3 位
B8: 第1回 2009年 | D8: ぼんズ | F8: ドラゴンワン | H8: ＫテニスカレッジＡ
D10: 小菅真一 | E10: 藤田博美 | F10: 由利 亨 | G10: 矢花万里 | H10: 川並和之 | I10: 田中和枝
B11: 40897 | D11: 橋本 | E11: 橋本 | F11: 鈴木英夫 | G11: 土肥祐子 | H11: 坪田真嘉 | I11: 石原はる美
D12: 辻 義規 | E12: 佐竹昌子 | F12: 藤田 諭 | G12: 三代梨絵 | H12: 宮村知宏 | I12: 永松貴子
D13: 古市卓志 | E13: 森 薫史 | H13: 村地直也 | I13: 宮村朋子
B14: 第2回 2010年 | D14: ＫテニスカレッジＡ | F14: ぼんズ | H14: ドラゴンワン
D16: 川並和之 | E16: 田中和枝 | F16: 小菅真一 | G16: 藤田博美 | H16: 由利 亨 | I16: 今井順子
D17: 坪田真嘉 | E17: 石原はる美 | F17: 池端誠治 | G17: 伊吹邦子 | H17: 鈴木英夫 | I17: 土肥祐子
D18: 山口直彦 | E18: 永松貴子 | F18: 辻 義規 | G18: 佐竹昌子 | H18: 山崎正雄 | I18: 藤川和美
D19: 宮嶋利行 | E19: 浅田亜祐子 | F19: 古市卓志 | G19: 森 薫史 | H19: 津田侑季
B20: 第3回 2011年 | D20: ＫテニスカレッジＡ | F20: ドラゴンワンA | H20: ぼんズ
D22: 川並和之 | E22: 田中和枝 | F22: 三代康成 | G22: 三代梨絵 | H22: 小菅真一 | I22: 藤田博美
B23: 40874 | D23: 坪田真嘉 | E23: 石原はる美 | F23: 清水善弘 | G23: 土肥祐子 | H23: 八木篤司 | I23: 伊吹邦子
D24: 山口真彦 | E24: 永松貴子 | F24: 山崎正雄 | G24: 藤川和美 | H24: 辻 義規 | I24: 佐竹昌子
D25: 上原悠希 | E25: 浅田亜祐子 | F25: 水本淳史 | H25: 古市卓志 | I25: 藤田泰子
B26: 第４回 2012年 | D26: ＫテニスカレッジＡ | F26: ぼんズ | H26: ドラゴンワンA
D28: 川並和之 | E28: 田中和枝 | F28: 小菅真一 | G28: 藤田博美 | H28: 三代康成 | I28: 三代梨絵
B29: 40872 | D29: 坪田真嘉 | E29: 石原はる美 | F29: 八木篤司 | G29: 松本麻由 | H29: 清水善弘 | I29: 土肥祐子
D30: 山口真彦 | E30: 永松貴子 | F30: 辻 義規 | G30: 佐竹昌子 | H30: 塩田浩三 | I30: 藤川和美
D31: 永里裕次 | E31: 浅野木奈子 | F31: 松本啓吾 | H31: 水本淳史
B32: 第5回 2013年 | D32: フレンズA | F32: グリフィンズK | H32: ぼんズF
D34: 清水善弘 | E34: 三代梨絵 | F34: 北村 健 | G34: 福島麻公 | H34: 佐野 望 | I34: 藤田博美
B35: 40871 | D35: 三代康成 | E35: 土肥祐子 | F35: 岡 仁史 | G35: 山本あづさ | H35: 古市卓志 | I35: 伊吹邦子
D36: 長谷出 浩 | E36: 奥内菜々 | F36: 遠地建介 | G36: 深尾純子 | H36: 池端誠治 | I36: 橋本真里
D37: 水本淳史 | F37: 石橋和基 | H37: 金谷太郎 | I37: 田端加津子
B38: 第6回 2014年 | D38: グリフィンズ | F38: フレンズA | H38: ぼんズ
D40: 北村 健 | E40: 福島麻公 | F40: 清水善弘 | G40: 三代梨絵 | H40: 佐野 望 | I40: 佐竹昌子
B41: 40870 | D41: 岡田真樹 | E41: 山本あづさ | F41: 三代康成 | G41: 土肥祐子 | H41: 古市卓志 | I41: 藤原泰子
D42: 飛鷹強志 | E42: 深尾純子 | F42: 長谷出 浩 | G42: 奥内菜々 | H42: 土田哲也 | I42: 木村美香
D43: 岡 仁史 | F43: 水本淳史 | G43: 土肥将博 | H43: 西川昌一 | I43: 日高真規子
B44: 第7回 2015年 | D44: グリフィンズＢ | F44: フレンズＡ | H44: ぼんズ
D46: 吉野淳也 | E46: 山下莉沙 | F46: 三代康成 | G46: 三代梨絵 | H46: 金谷太郎 | I46: 佐竹昌子
B47: 40869 | D47: 岩本龍 | E47: 和田桃子 | F47: 奥内栄治 | G47: 土肥祐子 | H47: 古市卓志 | I47: 藤原泰子
D48: 浅田恵亮 | E48: 中村遥華 | F48: 清水善弘 | G48: 奥内奈々 | H48: 土田哲也 | I48: 木村美香
D49: 浅田洋史 | F49: 水本淳史 | G49: 鍵谷初美 | H49: 成宮康弘 | I49: 筒井珠世
B50: 第8回 2016年 | D50: ＫテニスカレッジＡ | F50: グリフィンズＡ | H50: フレンズＡ
D52: 吉野淳也 | E52: 津田悠花 | F52: 井ノ口幹也 | G52: 金武 恵 | H52: 山崎 豊 | I52: 三代梨絵
B53: 40874 | D53: 岩渕光紀 | E53: 稲継 馨 | F53: 金武寿憲 | G53: 佐々木恵子 | H53: 三代康成 | I53: 土肥祐子
D54: 中西泰輝 | E54: 池尻陽香 | F54: 北村 健 | G54: 山本あづさ | H54: 水本淳史 | I54: 奥内菜々
D55: 梅津 圭 | F55: 久保侑暉 | G55: 高田貴代美 | H55: 清水善弘
B56: 第9回 2017年 | D56: グリフィンズＡ | F56: フレンズＡ | H56: グリフィンズＢ
D58: 井ノ口幹也 | E58: 金武 恵 | F58: 平塚聡 | G58: 三代梨絵 | H58: 藤井正和 | I58: 濱田晴香
B59: 40873 | D59: 金武寿憲 | E59: 内田理沙 | F59: 三代康成 | G59: 土肥祐子 | H59: 中根啓伍 | I59: 岩崎順子
D60: 鵜飼元一 | E60: 西尾悠莉 | F60: 水本淳史 | G60: 奥内菜々 | H60: 小出周平 | I60: 吉村安梨佐
D61: 漆原大介 | F61: 水本佑人 | G61: 松村明香 | H61: 濱田彬弘 | I61: 和田桃子
D62: 久保侑暉 | F62: 清水善弘 | I62: 藤岡美智子
B63: 第10回記念 2018年 | D63: ＫテニスカレッジＡ | F63: ぼんズ | H63: フレンズ
D65: 吉野淳也 | E65: 山口美由希 | F65: 金谷太郎 | G65: 佐竹昌子 | H65: 山崎 豊 | I65: 三代梨絵
B66: 40865 | D66: 山口直彦 | E66: 東 恵 | F66: 古市卓志 | G66: 橋本真理 | H66: 水本佑人 | I66: 松井美和子
D67: 岸田直也 | E67: 池尻陽香 | F67: 池端誠治 | G67: 木村美香 | H67: 三代康成 | I67: 大野美南
D68: 山下 歩 | F68: 八木篤司 | G68: 筒井珠世 | H68: 水本淳史 | I68: 吉岡京子
B70: 第11回 2019年 | D70: グリフィンズＡ | F70: ＫテニスカレッジＡ | H70: フレンズ
D72: 中根啓伍 | E72: 荒木麻友 | F72: 坪田真嘉 | G72: 永松貴子 | H72: 水本淳史 | I72: 三代梨絵
B73: 40857 | D73: 瀬古悠貴 | E73: 吉村安梨佐 | F73: 山口直彦 | G73: 池尻姫欧 | H73: 成宮康弘 | I73: 土肥祐子
D74: 小出周平 | E74: 濱田晴香 | F74: 川上悠作 | G74: 池尻陽香 | H74: 水本佑人 | I74: 大野美南
D75: 菊池健太郎 | E75: 岩崎順子 | F75: 永里祐次 | G75: 山口美由希 | H75: 池端誠治 | I75: 鍵弥初美
D76: 濱田彬弘 | E76: 藤井正和 | H76: 三代康成
B77: 第12回 2020年 市民大会 | D77: Ｋテニスカレッジ | F77: フレンズA | H77: うさかめA
D79: 山口直彦 | E79: 本多姫欧 | F79: 三代康成 | G79: 三代梨絵 | H79: 竹田圭佑 | I79: 今井順子
B80: 40855 | D80: 川上悠作 | E80: 池尻陽香 | F80: 成宮康弘 | G80: 土肥祐子 | H80: 渡辺哲 | I80: 藤村加代子
D81: 本多勇輝 | E81: 山口美由希 | F81: 平塚聡 | G81: 大野美南 | H81: 牛道雄介 | I81: 田中由紀
D82: 木村善和 | F82: 古市卓志 | G82: 鍵弥初美 | H82: 松本啓吾
B84: 第13回 202１年 市民大会 | D84: うさかめＡ | F84: アンヴァ―ス | H84: 村田八日市ＴＣ
D86: 竹田圭祐 | E86: 辻佳子 | F86: 上津慶和 | G86: 青木知里 | H86: 川上英二 | I86: 村田彩子
B87: 40861 | D87: 松本啓吾 | E87: 竹下光代 | F87: 猪飼尚輝 | G87: 片桐美里 | H87: 杉山邦夫 | I87: 村川庸子
D88: 林哲学 | E88: 田中有紀 | F88: 鈴木智彦 | G88: 西野美恵 | H88: 土田典人 | I88: 本池清子
D89: 池本淳貴 | F89: 松村友喜 | G89: 高松史佳 | H89: 大塚陽 | I89: 中野美和
F90: 高松恭平
B91: 第14回 2022年 市民大会 | D91: アンヴァ―ス | F91: フレンズＡ | H91: うさかめB
D93: 上津慶和 | E93: 青木知里 | F93: 三代康成 | G93: 三代梨絵 | H93: 山本浩之 | I93: 田中 都
B94: 40860 | D94: 猪飼尚輝 | E94: 片桐美里 | F94: 平塚聡 | G94: 土肥祐子 | H94: 牛道雄介 | I94: 藤田博美
D95: 鈴木智彦 | E95: 西野美恵 | F95: 池端誠治 | G95: 大野美南 | H95: 峰 祥靖 | I95: 谷口美佳
D96: 松村友喜 | E96: 植田早耶 | F96: 岡本大樹 | G96: 鍵弥初美 | H96: 竹下恭平
D97: 寺元翔太 | F97: 水本淳史 | G97: 松村明香
B98: 第15回 2023年 | D98: フレンズ | F98: アンヴァ―スＡ | H98: うさかめＡ
D100: 池端誠治 | E100: 三代梨絵 | F100: 辻本将士 | G100: 片桐美里 | H100: 垣内義則 | I100: 牛道心
B101: 40866 | D101: 平塚聡 | E101: 土肥祐子 | F101: 松村友喜 | G101: 西野美恵 | H101: 牛道雄介 | I101: 垣内美香
D102: 岡本大樹 | E102: 大野美南 | F102: 猪飼尚輝 | H102: 竹田圭佑 | I102: 藤田博美
D103: 成宮康弘 | E103: 筒井珠世 | F103: 寺元翔太 | H103: 松本啓吾 | I103: 田中都
I104: 永松貴子
B105: 第1６回 202４年 | D105: グリフィンズA | F105: フレンズ | H105: アンヴァース
D107: 鍵谷浩太 | E107: 漆原友里 | F107: 池端誠治 | G107: 三代梨絵 | H107: 森寿人 | I107: 山口千恵
B108: 45620 | D108: 漆原大介 | E108: 谷優香 | F108: 増田剛士 | G108: 大野美南 | H108: 山田佳明 | I108: 福元さち
D109: 土田哲也 | F109: 岡本大樹 | G109: 筒井珠世 | H109: 澤田純兵
D110: 平野優也 | F110: 成宮康弘 | H110: 愛原里樹
B112: 第17回 2025年 | D112: グリフィンズ | F112: フレンズ | H112: アンヴァースB
D114: 鍵谷浩太 | E114: 漆原友里 | F114: 池端誠治 | G114: 三代梨絵 | H114: 片桐靖之 | I114: 片桐美里
B115: 45984 | D115: 漆原大介 | E115: 谷優果 | F115: 増田剛士 | G115: 大野美南 | H115: 杉健次 | I115: 大賀華子
D116: 土田哲也 | E116: 西野美恵 | F116: 岡本大樹 | G116: 筒井珠世 | H116: 横井広渡 | I116: 小野木萌香
D117: 平野優也 | E117: 鍵弥初美 | F117: 成宮康弘 | H117: 小澤聖輝
E118: 日下部佑奈 | F118: 古市卓志 | H118: 松尾𠮷峰

Sheet ひばり公園

Sheet すこやかの杜
