Workbook
Name OLE_LINK1: 要項!$A$1

Sheet 要項
A1: 第１８回東近江市スーパーカップ 要項
A3: ■主 催 東近江市テニス協会 （担当クラブ：うさぎとかめの集い）
A5: ■会 場 ひばり公園6面 すこやかの杜2面（すべて砂入り人工芝）
A7: ■期 日 ２０２６年１１月２２日（日）
A9: ■種 目 団体戦（全種目）
A10: ダブルス：男子ダブルス1、女子ダブルス1、ミックスダブルス1
A11: シングルス：男子シングルス1、女子シングルス1
A12: ※男子は各対戦で１種目しか出場できません。女子は各対戦で２種目まで出場できます。
A14: ■参加資格 東近江市テニス協会会員
A15: 男子４名、女子２名以上を1チームとして申し込む。
A16: ※同一のクラブ員のみで編成する。
A18: ■試合方法 予選リーグ戦⇒決勝トーナメント形式（参加チーム数により変更の可能性あり）
... A51: ■次回案内 第２２回ウィンターシングルス 12/6（日） 開催予定

Sheet 申込書
B1: 第１８回 東近江市スーパーカップ 大会申込書
B2: 所属クラブ名 | D2: 代表者氏名
B3: 代表連絡先
B5: チーム名 | D5: 登録Noを入れると氏名が入力されます
B7: 登録No | C7: 男子 氏 名 | D7: 登録No | E7: 女子 氏 名
C8: =IF(B8="","",VLOOKUP(B8,登録ナンバー!$A$4:$I$571,7,0)) | E8: =IF(D8="","",VLOOKUP(D8,登録ナンバー!$A$4:$I$571,7,0))
C9: =IF(B9="","",VLOOKUP(B9,登録ナンバー!$A$4:$I$571,7,0)) | E9: =IF(D9="","",VLOOKUP(D9,登録ナンバー!$A$4:$I$571,7,0))
C10: =IF(B10="","",VLOOKUP(B10,登録ナンバー!$A$4:$I$571,7,0)) | E10: =IF(D10="","",VLOOKUP(D10,登録ナンバー!$A$4:$I$571,7,0))
C11: =IF(B11="","",VLOOKUP(B11,登録ナンバー!$A$4:$I$571,7,0)) | E11: =IF(D11="","",VLOOKUP(D11,登録ナンバー!$A$4:$I$571,7,0))
C12: =IF(B12="","",VLOOKUP(B12,登録ナンバー!$A$4:$I$571,7,0)) | E12: =IF(D12="","",VLOOKUP(D12,登録ナンバー!$A$4:$I$571,7,0))
B15: チーム名 | D15: 登録Noを入れると氏名が入力されます
B17: 登録No | C17: 男子 氏 名 | D17: 登録No | E17: 女子 氏 名
C18: =IF(B18="","",VLOOKUP(B18,登録ナンバー!$A$4:$I$571,7,0)) | E18: =IF(D18="","",VLOOKUP(D18,登録ナンバー!$A$4:$I$571,7,0))
C19: =IF(B19="","",VLOOKUP(B19,登録ナンバー!$A$4:$I$571,7,0)) | E19: =IF(D19="","",VLOOKUP(D19,登録ナンバー!$A$4:$I$571,7,0))
C20: =IF(B20="","",VLOOKUP(B20,登録ナンバー!$A$4:$I$571,7,0)) | E20: =IF(D20="","",VLOOKUP(D20,登録ナンバー!$A$4:$I$571,7,0))
C21: =IF(B21="","",VLOOKUP(B21,登録ナンバー!$A$4:$I$571,7,0)) | E21: =IF(D21="","",VLOOKUP(D21,登録ナンバー!$A$4:$I$571,7,0))
C22: =IF(B22="","",VLOOKUP(B22,登録ナンバー!$A$4:$I$571,7,0)) | E22: =IF(D22="","",VLOOKUP(D22,登録ナンバー!$A$4:$I$571,7,0))
B25: チーム名 | D25: 登録Noを入れると氏名が入力されます
B27: 登録No | C27: 男子 氏 名 | D27: 登録No | E27: 女子 氏 名
C28: =IF(B28="","",VLOOKUP(B28,登録ナンバー!$A$4:$I$571,7,0)) | E28: =IF(D28="","",VLOOKUP(D28,登録ナンバー!$A$4:$I$571,7,0))
C29: =IF(B29="","",VLOOKUP(B29,登録ナンバー!$A$4:$I$571,7,0)) | E29: =IF(D29="","",VLOOKUP(D29,登録ナンバー!$A$4:$I$571,7,0))
C30: =IF(B30="","",VLOOKUP(B30,登録ナンバー!$A$4:$I$571,7,0)) | E30: =IF(D30="","",VLOOKUP(D30,登録ナンバー!$A$4:$I$571,7,0))
C31: =IF(B31="","",VLOOKUP(B31,登録ナンバー!$A$4:$I$571,7,0)) | E31: =IF(D31="","",VLOOKUP(D31,登録ナンバー!$A$4:$I$571,7,0))
C32: =IF(B32="","",VLOOKUP(B32,登録ナンバー!$A$4:$I$571,7,0)) | E32: =IF(D32="","",VLOOKUP(D32,登録ナンバー!$A$4:$I$571,7,0))
B35: チーム名 | D35: 登録Noを入れると氏名が入力されます
B37: 登録No | C37: 男子 氏 名 | D37: 登録No | E37: 女子 氏 名
C38: =IF(B38="","",VLOOKUP(B38,登録ナンバー!$A$4:$I$571,7,0)) | E38: =IF(D38="","",VLOOKUP(D38,登録ナンバー!$A$4:$I$571,7,0))
C39: =IF(B39="","",VLOOKUP(B39,登録ナンバー!$A$4:$I$571,7,0)) | E39: =IF(D39="","",VLOOKUP(D39,登録ナンバー!$A$4:$I$571,7,0))
C40: =IF(B40="","",VLOOKUP(B40,登録ナンバー!$A$4:$I$571,7,0)) | E40: =IF(D40="","",VLOOKUP(D40,登録ナンバー!$A$4:$I$571,7,0))
C41: =IF(B41="","",VLOOKUP(B41,登録ナンバー!$A$4:$I$571,7,0)) | E41: =IF(D41="","",VLOOKUP(D41,登録ナンバー!$A$4:$I$571,7,0))
C42: =IF(B42="","",VLOOKUP(B42,登録ナンバー!$A$4:$I$571,7,0)) | E42: =IF(D42="","",VLOOKUP(D42,登録ナンバー!$A$4:$I$571,7,0))
C45: 参加費 | D45: チーム数 | E45: 合計
C46: 8,000円／チーム） | D46: 0 | E46: =8000*D46 -> 0

Sheet 登録ナンバー
B1: ２０２６年度東近江市テニス協会登録ナンバー | I1: 46327
B3: 1 | D3: ４４人
A4: あ０１ | B4: 青木 | C4: 重之 | D4: アビックBB | F4: =A4 -> あ０１ | G4: =B4&C4 -> 青木重之 | H4: =D4 -> アビックBB | I4: 男 | J4: 1971 | K4: =IF(J4="","",(2026-J4)) -> 55 | L4: =IF(G4="","",IF(COUNTIF($G$4:$G$109,G4)>1,"2重登録","OK")) -> OK | M4: 草津市
A5: あ０２ | B5: 西川 | C5: 昌一 | D5: アビックBB | F5: =A5 -> あ０２ | G5: =B5&C5 -> 西川昌一 | H5: =D5 -> アビックBB | I5: 男 | J5: 1970 | K5: =IF(J5="","",(2026-J5)) -> 56 | L5: =IF(G5="","",IF(COUNTIF($G$4:$G$109,G5)>1,"2重登録","OK")) -> OK | M5: 彦根市
A6: あ０３ | B6: 安達 | C6: 隆一 | D6: アビックBB | F6: =A6 -> あ０３ | G6: =B6&C6 -> 安達隆一 | H6: =D6 -> アビックBB | I6: 男 | J6: 1970 | K6: =IF(J6="","",(2026-J6)) -> 56 | L6: =IF(G6="","",IF(COUNTIF($G$4:$G$109,G6)>1,"2重登録","OK")) -> OK | M6: 甲賀市
A7: あ０４ | B7: 上原 | C7: 義弘 | D7: アビックBB | F7: =A7 -> あ０４ | G7: =B7&C7 -> 上原義弘 | H7: =D7 -> アビックBB | I7: 男 | J7: 1974 | K7: =IF(J7="","",(2026-J7)) -> 52 | L7: =IF(G7="","",IF(COUNTIF($G$4:$G$109,G7)>1,"2重登録","OK")) -> OK | M7: 彦根市
A8: あ０５ | B8: 寺村 | C8: 浩一 | D8: アビックBB | F8: =A8 -> あ０５ | G8: =B8&C8 -> 寺村浩一 | H8: =D8 -> アビックBB | I8: 男 | J8: 1968 | K8: =IF(J8="","",(2026-J8)) -> 58 | L8: =IF(G8="","",IF(COUNTIF($G$4:$G$109,G8)>1,"2重登録","OK")) -> OK | M8: 愛荘町
A9: あ０６ | B9: 平居 | C9: 崇 | D9: アビックBB | F9: =A9 -> あ０６ | G9: =B9&C9 -> 平居崇 | H9: =D9 -> アビックBB | I9: 男 | J9: 1972 | K9: =IF(J9="","",(2026-J9)) -> 54 | L9: =IF(G9="","",IF(COUNTIF($G$4:$G$109,G9)>1,"2重登録","OK")) -> OK | M9: 多賀町
A10: あ０７ | B10: 大林 | C10: 弘典 | D10: アビックBB | F10: =A10 -> あ０７ | G10: =B10&C10 -> 大林弘典 | H10: =D10 -> アビックBB | I10: 男 | J10: 1989 | K10: =IF(J10="","",(2026-J10)) -> 37 | L10: =IF(G10="","",IF(COUNTIF($G$4:$G$109,G10)>1,"2重登録","OK")) -> OK | M10: 長浜市
A11: あ０８ | B11: 福嶋 | C11: 亮 | D11: アビックBB | F11: =A11 -> あ０８ | G11: =B11&C11 -> 福嶋亮 | H11: =D11 -> アビックBB | I11: 男 | J11: 1961 | K11: =IF(J11="","",(2026-J11)) -> 65 | L11: =IF(G11="","",IF(COUNTIF($G$4:$G$109,G11)>1,"2重登録","OK")) -> OK | M11: 岐阜県
A12: あ０９ | B12: 落合 | C12: 良弘 | D12: アビックBB | F12: =A12 -> あ０９ | G12: =B12&C12 -> 落合良弘 | H12: =D12 -> アビックBB | I12: 男 | J12: 1968 | K12: =IF(J12="","",(2026-J12)) -> 58 | L12: =IF(G12="","",IF(COUNTIF($G$4:$G$109,G12)>1,"2重登録","OK")) -> OK | M12: 長浜市
A13: あ１０ | B13: 松井 | C13: 傳樹 | D13: アビックBB | F13: =A13 -> あ１０ | G13: =B13&C13 -> 松井傳樹 | H13: =D13 -> アビックBB | I13: 男 | J13: 1987 | K13: =IF(J13="","",(2026-J13)) -> 39 | L13: =IF(G13="","",IF(COUNTIF($G$4:$G$109,G13)>1,"2重登録","OK")) -> OK | M13: 彦根市
A14: あ１１ | B14: 長谷川 | C14: 優 | D14: アビックBB | F14: =A14 -> あ１１ | G14: =B14&C14 -> 長谷川優 | H14: =D14 -> アビックBB | I14: 男 | J14: 1973 | K14: =IF(J14="","",(2026-J14)) -> 53 | L14: =IF(G14="","",IF(COUNTIF($G$4:$G$109,G14)>1,"2重登録","OK")) -> OK | M14: 甲賀市
A15: あ１２ | B15: 草野 | C15: 活地 | D15: アビックBB | F15: =A15 -> あ１２ | G15: =B15&C15 -> 草野活地 | H15: =D15 -> アビックBB | I15: 男 | J15: 1974 | K15: =IF(J15="","",(2026-J15)) -> 52 | L15: =IF(G15="","",IF(COUNTIF($G$4:$G$109,G15)>1,"2重登録","OK")) -> OK | M15: 草津市
... A23: あ２０ | B23: 坪井 | C23: 徳寿 | D23: アビックBB | F23: =A23 -> あ２０ | G23: =B23&C23 -> 坪井徳寿 | H23: =D23 -> アビックBB | I23: 男 | J23: 1979 | K23: =IF(J23="","",(2026-J23)) -> 47 | L23: =IF(G23="","",IF(COUNTIF($G$4:$G$109,G23)>1,"2重登録","OK")) -> OK | M23: 草津市
A24: あ２１ | B24: 辻村 | C24: 惣一 | D24: アビックBB | E24: ｓｅ | F24: =A24 -> あ２１ | G24: =B24&C24 -> 辻村惣一 | H24: =D24 -> アビックBB | I24: 男 | J24: 1953 | K24: =IF(J24="","",(2026-J24)) -> 73 | L24: =IF(G24="","",IF(COUNTIF($G$4:$G$109,G24)>1,"2重登録","OK")) -> OK | M24: 長浜市
A25: あ２２ | B25: 槇田 | C25: 学 | D25: アビックBB | F25: =A25 -> あ２２ | G25: =B25&C25 -> 槇田学 | H25: =D25 -> アビックBB | I25: 男 | J25: 1965 | K25: =IF(J25="","",(2026-J25)) -> 61 | L25: =IF(G25="","",IF(COUNTIF($G$4:$G$109,G25)>1,"2重登録","OK")) -> OK | M25: 彦根市
A26: あ２３ | B26: 武久 | C26: 真也 | D26: アビックBB | F26: =A26 -> あ２３ | G26: =B26&C26 -> 武久真也 | H26: =D26 -> アビックBB | I26: 男 | J26: 1982 | K26: =IF(J26="","",(2026-J26)) -> 44 | L26: =IF(G26="","",IF(COUNTIF($G$4:$G$109,G26)>1,"2重登録","OK")) -> OK | M26: 近江八幡市
A27: あ２４ | B27: 大脇 | C27: 和世 | D27: アビックBB | F27: =A27 -> あ２４ | G27: =B27&C27 -> 大脇和世 | H27: =D27 -> アビックBB | I27: 女 | J27: 1970 | K27: =IF(J27="","",(2026-J27)) -> 56 | L27: =IF(G27="","",IF(COUNTIF($G$4:$G$109,G27)>1,"2重登録","OK")) -> OK | M27: 愛荘町
A28: あ２５ | B28: 西山 | C28: 抄千代 | D28: アビックBB | F28: =A28 -> あ２５ | G28: =B28&C28 -> 西山抄千代 | H28: =D28 -> アビックBB | I28: 女 | J28: 1972 | K28: =IF(J28="","",(2026-J28)) -> 54 | L28: =IF(G28="","",IF(COUNTIF($G$4:$G$109,G28)>1,"2重登録","OK")) -> OK | M28: 米原市
A29: あ２６ | B29: 齋田 | C29: 優子 | D29: アビックBB | F29: =A29 -> あ２６ | G29: =B29&C29 -> 齋田優子 | H29: =D29 -> アビックBB | I29: 女 | J29: 1983 | K29: =IF(J29="","",(2026-J29)) -> 43 | L29: =IF(G29="","",IF(COUNTIF($G$4:$G$109,G29)>1,"2重登録","OK")) -> OK | M29: 長浜市
A30: あ２７ | B30: 中村 | C30: 紗映子 | D30: アビックBB | F30: =A30 -> あ２７ | G30: =B30&C30 -> 中村紗映子 | H30: =D30 -> アビックBB | I30: 女 | J30: 1983 | K30: =IF(J30="","",(2026-J30)) -> 43 | L30: =IF(G30="","",IF(COUNTIF($G$4:$G$109,G30)>1,"2重登録","OK")) -> OK | M30: 長浜市
A31: あ２８ | B31: 松本 | C31: 光美 | D31: アビックBB | F31: =A31 -> あ２８ | G31: =B31&C31 -> 松本光美 | H31: =D31 -> アビックBB | I31: 女 | J31: 1971 | K31: =IF(J31="","",(2026-J31)) -> 55 | L31: =IF(G31="","",IF(COUNTIF($G$4:$G$109,G31)>1,"2重登録","OK")) -> OK | M31: 草津市
A32: あ２９ | B32: 堅田 | C32: 瑞木 | D32: アビックBB | F32: =A32 -> あ２９ | G32: =B32&C32 -> 堅田瑞木 | H32: =D32 -> アビックBB | I32: 女 | J32: 1996 | K32: =IF(J32="","",(2026-J32)) -> 30 | L32: =IF(G32="","",IF(COUNTIF($G$4:$G$109,G32)>1,"2重登録","OK")) -> OK | M32: 京都府
A33: あ３０ | B33: 堀田 | C33: 明子 | D33: アビックBB | F33: =A33 -> あ３０ | G33: =B33&C33 -> 堀田明子 | H33: =D33 -> アビックBB | I33: 女 | J33: 1970 | K33: =IF(J33="","",(2026-J33)) -> 56 | L33: =IF(G33="","",IF(COUNTIF($G$4:$G$109,G33)>1,"2重登録","OK")) -> OK | M33: 東近江市
A34: あ３１ | B34: 佐野 | C34: 直美 | D34: アビックBB | F34: =A34 -> あ３１ | G34: =B34&C34 -> 佐野直美 | H34: =D34 -> アビックBB | I34: 女 | J34: 1975 | K34: =IF(J34="","",(2026-J34)) -> 51 | L34: =IF(G34="","",IF(COUNTIF($G$4:$G$109,G34)>1,"2重登録","OK")) -> OK | M34: 京都府
A35: あ３２ | B35: 千代 | C35: 美由紀 | D35: アビックBB | F35: =A35 -> あ３２ | G35: =B35&C35 -> 千代美由紀 | H35: =D35 -> アビックBB | I35: 女 | J35: 1972 | K35: =IF(J35="","",(2026-J35)) -> 54 | L35: =IF(G35="","",IF(COUNTIF($G$4:$G$109,G35)>1,"2重登録","OK")) -> OK | M35: 京都府
A36: あ３３ | B36: 小西 | C36: 由美子 | D36: アビックBB | F36: =A36 -> あ３３ | G36: =B36&C36 -> 小西由美子 | H36: =D36 -> アビックBB | I36: 女 | J36: 1968 | K36: =IF(J36="","",(2026-J36)) -> 58 | L36: =IF(G36="","",IF(COUNTIF($G$4:$G$109,G36)>1,"2重登録","OK")) -> OK | M36: 近江八幡市
... A47: あ４４ | B47: 長瀬 | C47: 圭音 | D47: アビックBB | F47: =A47 -> あ４４ | G47: =B47&C47 -> 長瀬圭音 | H47: =D47 -> アビックBB | I47: 女 | J47: 2007 | K47: =IF(J47="","",(2026-J47)) -> 19 | L47: =IF(G47="","",IF(COUNTIF($G$4:$G$109,G47)>1,"2重登録","OK")) -> OK | M47: 東近江市
B48: 2 | D48: ３３人 | K48: =IF(J48="","",(2026-J48))
A49: あぷ０１ | B49: 杉山 | C49: 邦夫 | D49: アプストTC | E49: ｓｅ | F49: =A49 -> あぷ０１ | G49: =B49&C49 -> 杉山邦夫 | H49: =D49 -> アプストTC | I49: 男 | J49: 1950 | K49: =IF(J49="","",(2026-J49)) -> 76 | L49: =IF(G49="","",IF(COUNTIF($G$4:$G$117,G49)>1,"2重登録","OK")) -> OK | M49: 多賀町
A50: あぷ０２ | B50: 川上 | C50: 英二 | D50: アプストTC | F50: =A50 -> あぷ０２ | G50: =B50&C50 -> 川上英二 | H50: =D50 -> アプストTC | I50: 男 | J50: 1963 | K50: =IF(J50="","",(2026-J50)) -> 63 | L50: =IF(G50="","",IF(COUNTIF($G$4:$G$117,G50)>1,"2重登録","OK")) -> OK | M50: 東近江市
A51: あぷ０３ | B51: 浅田 | C51: 隆昭 | D51: アプストTC | F51: =A51 -> あぷ０３ | G51: =B51&C51 -> 浅田隆昭 | H51: =D51 -> アプストTC | I51: 男 | J51: 1964 | K51: =IF(J51="","",(2026-J51)) -> 62 | L51: =IF(G51="","",IF(COUNTIF($G$4:$G$117,G51)>1,"2重登録","OK")) -> OK | M51: 守山市
A52: あぷ０４ | B52: 森永 | C52: 洋介 | D52: アプストTC | F52: =A52 -> あぷ０４ | G52: =B52&C52 -> 森永洋介 | H52: =D52 -> アプストTC | I52: 男 | J52: 1986 | K52: =IF(J52="","",(2026-J52)) -> 40 | L52: =IF(G52="","",IF(COUNTIF($G$4:$G$117,G52)>1,"2重登録","OK")) -> OK | M52: 近江八幡市
A53: あぷ０５ | B53: 辰巳 | C53: 悟朗 | D53: アプストTC | F53: =A53 -> あぷ０５ | G53: =B53&C53 -> 辰巳悟朗 | H53: =D53 -> アプストTC | I53: 男 | J53: 1974 | K53: =IF(J53="","",(2026-J53)) -> 52 | L53: =IF(G53="","",IF(COUNTIF($G$4:$G$117,G53)>1,"2重登録","OK")) -> OK | M53: 彦根市
A54: あぷ０６ | B54: 川上 | C54: 美弥子 | D54: アプストTC | F54: =A54 -> あぷ０６ | G54: =B54&C54 -> 川上美弥子 | H54: =D54 -> アプストTC | I54: 女 | J54: 1971 | K54: =IF(J54="","",(2026-J54)) -> 55 | L54: =IF(G54="","",IF(COUNTIF($G$4:$G$117,G54)>1,"2重登録","OK")) -> OK | M54: 東近江市
A55: あぷ０７ | B55: 山内 | C55: 雄平 | D55: アプストTC | F55: =A55 -> あぷ０７ | G55: =B55&C55 -> 山内雄平 | H55: =D55 -> アプストTC | I55: 男 | J55: 1989 | K55: =IF(J55="","",(2026-J55)) -> 37 | L55: =IF(G55="","",IF(COUNTIF($G$4:$G$117,G55)>1,"2重登録","OK")) -> OK | M55: 東近江市
A56: あぷ０８ | B56: 木村 | C56: 美香 | D56: アプストTC | F56: =A56 -> あぷ０８ | G56: =B56&C56 -> 木村美香 | H56: =D56 -> アプストTC | I56: 女 | J56: 1962 | K56: =IF(J56="","",(2026-J56)) -> 64 | L56: =IF(G56="","",IF(COUNTIF($G$4:$G$117,G56)>1,"2重登録","OK")) -> OK | M56: 米原市
A57: あぷ０９ | B57: 日高 | C57: 眞規子 | D57: アプストTC | F57: =A57 -> あぷ０９ | G57: =B57&C57 -> 日高眞規子 | H57: =D57 -> アプストTC | I57: 女 | J57: 1963 | K57: =IF(J57="","",(2026-J57)) -> 63 | L57: =IF(G57="","",IF(COUNTIF($G$4:$G$117,G57)>1,"2重登録","OK")) -> OK | M57: 長浜市
A58: あぷ１０ | B58: 長谷出 | C58: 浩 | D58: アプストTC | F58: =A58 -> あぷ１０ | G58: =B58&C58 -> 長谷出浩 | H58: =D58 -> アプストTC | I58: 男 | J58: 1960 | K58: =IF(J58="","",(2026-J58)) -> 66 | L58: =IF(G58="","",IF(COUNTIF($G$4:$G$117,G58)>1,"2重登録","OK")) -> OK | M58: 東近江市
...

Sheet 歴代入賞チーム
B2: 東近江市スーパーカップ 歴代入賞チーム
D6: 優 勝 | F6: 準優勝 | H6: 3 位
B8: 第1回 2009年 | D8: ぼんズ | F8: ドラゴンワン | H8: ＫテニスカレッジＡ
D10: 小菅真一 | E10: 藤田博美 | F10: 由利 亨 | G10: 矢花万里 | H10: 川並和之 | I10: 田中和枝
B11: 40897 | D11: 橋本 | E11: 橋本 | F11: 鈴木英夫 | G11: 土肥祐子 | H11: 坪田真嘉 | I11: 石原はる美
D12: 辻 義規 | E12: 佐竹昌子 | F12: 藤田 諭 | G12: 三代梨絵 | H12: 宮村知宏 | I12: 永松貴子
D13: 古市卓志 | E13: 森 薫史 | H13: 村地直也 | I13: 宮村朋子
B14: 第2回 2010年 | D14: ＫテニスカレッジＡ | F14: ぼんズ | H14: ドラゴンワン
D16: 川並和之 | E16: 田中和枝 | F16: 小菅真一 | G16: 藤田博美 | H16: 由利 亨 | I16: 今井順子
D17: 坪田真嘉 | E17: 石原はる美 | F17: 池端誠治 | G17: 伊吹邦子 | H17: 鈴木英夫 | I17: 土肥祐子
D18: 山口直彦 | E18: 永松貴子 | F18: 辻 義規 | G18: 佐竹昌子 | H18: 山崎正雄 | I18: 藤川和美
D19: 宮嶋利行 | E19: 浅田亜祐子 | F19: 古市卓志 | G19: 森 薫史 | H19: 津田侑季
B20: 第3回 2011年 | D20: ＫテニスカレッジＡ | F20: ドラゴンワンA | H20: ぼんズ
D22: 川並和之 | E22: 田中和枝 | F22: 三代康成 | G22: 三代梨絵 | H22: 小菅真一 | I22: 藤田博美
B23: 40874 | D23: 坪田真嘉 | E23: 石原はる美 | F23: 清水善弘 | G23: 土肥祐子 | H23: 八木篤司 | I23: 伊吹邦子
D24: 山口真彦 | E24: 永松貴子 | F24: 山崎正雄 | G24: 藤川和美 | H24: 辻 義規 | I24: 佐竹昌子
D25: 上原悠希 | E25: 浅田亜祐子 | F25: 水本淳史 | H25: 古市卓志 | I25: 藤田泰子
B26: 第４回 2012年 | D26: ＫテニスカレッジＡ | F26: ぼんズ | H26: ドラゴンワンA
D28: 川並和之 | E28: 田中和枝 | F28: 小菅真一 | G28: 藤田博美 | H28: 三代康成 | I28: 三代梨絵
B29: 40872 | D29: 坪田真嘉 | E29: 石原はる美 | F29: 八木篤司 | G29: 松本麻由 | H29: 清水善弘 | I29: 土肥祐子
D30: 山口真彦 | E30: 永松貴子 | F30: 辻 義規 | G30: 佐竹昌子 | H30: 塩田浩三 | I30: 藤川和美
D31: 永里裕次 | E31: 浅野木奈子 | F31: 松本啓吾 | H31: 水本淳史
B32: 第5回 2013年 | D32: フレンズA | F32: グリフィンズK | H32: ぼんズF
D34: 清水善弘 | E34: 三代梨絵 | F34: 北村 健 | G34: 福島麻公 | H34: 佐野 望 | I34: 藤田博美
B35: 40871 | D35: 三代康成 | E35: 土肥祐子 | F35: 岡 仁史 | G35: 山本あづさ | H35: 古市卓志 | I35: 伊吹邦子
D36: 長谷出 浩 | E36: 奥内菜々 | F36: 遠地建介 | G36: 深尾純子 | H36: 池端誠治 | I36: 橋本真里
D37: 水本淳史 | F37: 石橋和基 | H37: 金谷太郎 | I37: 田端加津子
B38: 第6回 2014年 | D38: グリフィンズ | F38: フレンズA | H38: ぼんズ
D40: 北村 健 | E40: 福島麻公 | F40: 清水善弘 | G40: 三代梨絵 | H40: 佐野 望 | I40: 佐竹昌子
B41: 40870 | D41: 岡田真樹 | E41: 山本あづさ | F41: 三代康成 | G41: 土肥祐子 | H41: 古市卓志 | I41: 藤原泰子
D42: 飛鷹強志 | E42: 深尾純子 | F42: 長谷出 浩 | G42: 奥内菜々 | H42: 土田哲也 | I42: 木村美香
D43: 岡 仁史 | F43: 水本淳史 | G43: 土肥将博 | H43: 西川昌一 | I43: 日高真規子
B44: 第7回 2015年 | D44: グリフィンズＢ | F44: フレンズＡ | H44: ぼんズ
D46: 吉野淳也 | E46: 山下莉沙 | F46: 三代康成 | G46: 三代梨絵 | H46: 金谷太郎 | I46: 佐竹昌子
B47: 40869 | D47: 岩本龍 | E47: 和田桃子 | F47: 奥内栄治 | G47: 土肥祐子 | H47: 古市卓志 | I47: 藤原泰子
D48: 浅田恵亮 | E48: 中村遥華 | F48: 清水善弘 | G48: 奥内奈々 | H48: 土田哲也 | I48: 木村美香
D49: 浅田洋史 | F49: 水本淳史 | G49: 鍵谷初美 | H49: 成宮康弘 | I49: 筒井珠世
B50: 第8回 2016年 | D50: ＫテニスカレッジＡ | F50: グリフィンズＡ | H50: フレンズＡ
D52: 吉野淳也 | E52: 津田悠花 | F52: 井ノ口幹也 | G52: 金武 恵 | H52: 山崎 豊 | I52: 三代梨絵
B53: 40874 | D53: 岩渕光紀 | E53: 稲継 馨 | F53: 金武寿憲 | G53: 佐々木恵子 | H53: 三代康成 | I53: 土肥祐子
...

Sheet ひばり公園

Sheet すこやかの杜
